BEGIN:VCALENDAR
VERSION:2.0
PRODID:-//Le Montmartre - ECPv6.15.13//NONSGML v1.0//EN
CALSCALE:GREGORIAN
METHOD:PUBLISH
X-WR-CALNAME:Le Montmartre
X-ORIGINAL-URL:https://www.lemontmartre.ca
X-WR-CALDESC:Évènements pour Le Montmartre
REFRESH-INTERVAL;VALUE=DURATION:PT1H
X-Robots-Tag:noindex
X-PUBLISHED-TTL:PT1H
BEGIN:VTIMEZONE
TZID:America/Montreal
BEGIN:DAYLIGHT
TZOFFSETFROM:-0500
TZOFFSETTO:-0400
TZNAME:EDT
DTSTART:20250309T070000
END:DAYLIGHT
BEGIN:STANDARD
TZOFFSETFROM:-0400
TZOFFSETTO:-0500
TZNAME:EST
DTSTART:20251102T060000
END:STANDARD
BEGIN:DAYLIGHT
TZOFFSETFROM:-0500
TZOFFSETTO:-0400
TZNAME:EDT
DTSTART:20260308T070000
END:DAYLIGHT
BEGIN:STANDARD
TZOFFSETFROM:-0400
TZOFFSETTO:-0500
TZNAME:EST
DTSTART:20261101T060000
END:STANDARD
BEGIN:DAYLIGHT
TZOFFSETFROM:-0500
TZOFFSETTO:-0400
TZNAME:EDT
DTSTART:20270314T070000
END:DAYLIGHT
BEGIN:STANDARD
TZOFFSETFROM:-0400
TZOFFSETTO:-0500
TZNAME:EST
DTSTART:20271107T060000
END:STANDARD
END:VTIMEZONE
BEGIN:VEVENT
DTSTART;TZID=America/Montreal:20260202T193000
DTEND;TZID=America/Montreal:20260202T210000
DTSTAMP:20260419T154526
CREATED:20260213T191045Z
LAST-MODIFIED:20260213T191045Z
UID:10012358-1770060600-1770066000@www.lemontmartre.ca
SUMMARY:François de Laval 19H30
DESCRIPTION:
URL:https://www.lemontmartre.ca/event/francois-de-laval-19h30/
CATEGORIES:Sanctuaire
END:VEVENT
BEGIN:VEVENT
DTSTART;TZID=America/Montreal:20260203T190000
DTEND;TZID=America/Montreal:20260203T210000
DTSTAMP:20260419T154526
CREATED:20260213T170829Z
LAST-MODIFIED:20260213T170829Z
UID:10012354-1770145200-1770152400@www.lemontmartre.ca
SUMMARY:St Augustin - et le Pape Léon 19H
DESCRIPTION:
URL:https://www.lemontmartre.ca/event/st-augustin-et-le-pape-leon-19h/
CATEGORIES:Sanctuaire
END:VEVENT
BEGIN:VEVENT
DTSTART;TZID=America/Montreal:20260211T150000
DTEND;TZID=America/Montreal:20260211T163000
DTSTAMP:20260419T154526
CREATED:20260213T202315Z
LAST-MODIFIED:20260213T202315Z
UID:10012366-1770822000-1770827400@www.lemontmartre.ca
SUMMARY:Dieu est à l'oeuvre en cet âge 15H
DESCRIPTION:
URL:https://www.lemontmartre.ca/event/dieu-est-a-loeuvre-en-cet-age-15h/
CATEGORIES:Sanctuaire
END:VEVENT
BEGIN:VEVENT
DTSTART;TZID=America/Montreal:20260216T193000
DTEND;TZID=America/Montreal:20260216T210000
DTSTAMP:20260419T154526
CREATED:20260213T201518Z
LAST-MODIFIED:20260213T201518Z
UID:10012359-1771270200-1771275600@www.lemontmartre.ca
SUMMARY:François de Laval 19H30
DESCRIPTION:
URL:https://www.lemontmartre.ca/event/francois-de-laval-19h30-2/
CATEGORIES:Sanctuaire
END:VEVENT
BEGIN:VEVENT
DTSTART;TZID=America/Montreal:20260221T121500
DTEND;TZID=America/Montreal:20260221T160000
DTSTAMP:20260419T154526
CREATED:20260206T220607Z
LAST-MODIFIED:20260206T220607Z
UID:10012337-1771676100-1771689600@www.lemontmartre.ca
SUMMARY:Petites Âmes 13H30
DESCRIPTION:
URL:https://www.lemontmartre.ca/event/petites-ames-13h30-16/
CATEGORIES:Sanctuaire
END:VEVENT
BEGIN:VEVENT
DTSTART;TZID=America/Montreal:20260225T150000
DTEND;TZID=America/Montreal:20260225T163000
DTSTAMP:20260419T154526
CREATED:20260213T202356Z
LAST-MODIFIED:20260213T203619Z
UID:10012367-1772031600-1772037000@www.lemontmartre.ca
SUMMARY:Dieu est à l'oeuvre en cet âge 15H
DESCRIPTION:
URL:https://www.lemontmartre.ca/event/dieu-est-a-loeuvre-en-cet-age-15h-2/
CATEGORIES:Sanctuaire
END:VEVENT
END:VCALENDAR