BEGIN:VCALENDAR
VERSION:2.0
PRODID:-//Le Montmartre - ECPv6.15.13//NONSGML v1.0//EN
CALSCALE:GREGORIAN
METHOD:PUBLISH
X-ORIGINAL-URL:https://www.lemontmartre.ca
X-WR-CALDESC:Évènements pour Le Montmartre
REFRESH-INTERVAL;VALUE=DURATION:PT1H
X-Robots-Tag:noindex
X-PUBLISHED-TTL:PT1H
BEGIN:VTIMEZONE
TZID:America/Montreal
BEGIN:DAYLIGHT
TZOFFSETFROM:-0500
TZOFFSETTO:-0400
TZNAME:EDT
DTSTART:20240310T070000
END:DAYLIGHT
BEGIN:STANDARD
TZOFFSETFROM:-0400
TZOFFSETTO:-0500
TZNAME:EST
DTSTART:20241103T060000
END:STANDARD
BEGIN:DAYLIGHT
TZOFFSETFROM:-0500
TZOFFSETTO:-0400
TZNAME:EDT
DTSTART:20250309T070000
END:DAYLIGHT
BEGIN:STANDARD
TZOFFSETFROM:-0400
TZOFFSETTO:-0500
TZNAME:EST
DTSTART:20251102T060000
END:STANDARD
BEGIN:DAYLIGHT
TZOFFSETFROM:-0500
TZOFFSETTO:-0400
TZNAME:EDT
DTSTART:20260308T070000
END:DAYLIGHT
BEGIN:STANDARD
TZOFFSETFROM:-0400
TZOFFSETTO:-0500
TZNAME:EST
DTSTART:20261101T060000
END:STANDARD
END:VTIMEZONE
BEGIN:VEVENT
DTSTART;TZID=America/Montreal:20250701T120000
DTEND;TZID=America/Montreal:20250701T160000
DTSTAMP:20260419T155156
CREATED:20241218T215927Z
LAST-MODIFIED:20251125T164413Z
UID:10006476-1751371200-1751385600@www.lemontmartre.ca
SUMMARY:Club de bridge Roi de pique 12H45
DESCRIPTION:
URL:https://www.lemontmartre.ca/event/club-de-bridge-limperatif-12h45/2025-07-01/
CATEGORIES:Marie-Guyart
END:VEVENT
BEGIN:VEVENT
DTSTART;TZID=America/Montreal:20250702T120000
DTEND;TZID=America/Montreal:20250702T160000
DTSTAMP:20260419T155156
CREATED:20241218T220039Z
LAST-MODIFIED:20251104T212648Z
UID:10006526-1751457600-1751472000@www.lemontmartre.ca
SUMMARY:Club de bridge l'Entame 12H45
DESCRIPTION:
URL:https://www.lemontmartre.ca/event/club-de-bridge-lentame-12h45-6/2025-07-02/
CATEGORIES:Marie-Guyart
END:VEVENT
BEGIN:VEVENT
DTSTART;TZID=America/Montreal:20250703T120000
DTEND;TZID=America/Montreal:20250703T160000
DTSTAMP:20260419T155156
CREATED:20241218T221216Z
LAST-MODIFIED:20250711T182225Z
UID:10006729-1751544000-1751558400@www.lemontmartre.ca
SUMMARY:Club de bridge Vieux-Québec 12H45
DESCRIPTION:
URL:https://www.lemontmartre.ca/event/club-de-bridge-de-sillery-12h45/2025-07-03/
CATEGORIES:Marie-Guyart
END:VEVENT
BEGIN:VEVENT
DTSTART;TZID=America/Montreal:20250704T120000
DTEND;TZID=America/Montreal:20250704T160000
DTSTAMP:20260419T155156
CREATED:20241218T220251Z
LAST-MODIFIED:20251105T194941Z
UID:10006626-1751630400-1751644800@www.lemontmartre.ca
SUMMARY:Club de bridge de la Capitale 12H45
DESCRIPTION:
URL:https://www.lemontmartre.ca/event/club-de-bridge-de-la-capitale-12h45/2025-07-04/
CATEGORIES:Marie-Guyart
END:VEVENT
BEGIN:VEVENT
DTSTART;TZID=America/Montreal:20250704T180000
DTEND;TZID=America/Montreal:20250704T220000
DTSTAMP:20260419T155156
CREATED:20241218T220554Z
LAST-MODIFIED:20251125T163034Z
UID:10006678-1751652000-1751666400@www.lemontmartre.ca
SUMMARY:En route vers la liberté 19H30
DESCRIPTION:
URL:https://www.lemontmartre.ca/event/en-route-vers-la-liberte-19h30-5/2025-07-04/
CATEGORIES:Marie-Guyart
END:VEVENT
BEGIN:VEVENT
DTSTART;TZID=America/Montreal:20250707T120000
DTEND;TZID=America/Montreal:20250707T160000
DTSTAMP:20260419T155156
CREATED:20241218T215738Z
LAST-MODIFIED:20251125T163916Z
UID:10006427-1751889600-1751904000@www.lemontmartre.ca
SUMMARY:Club de bridge de Charlesbourg 12H45
DESCRIPTION:
URL:https://www.lemontmartre.ca/event/club-de-bridge-de-charlesbourg-12h45/2025-07-07/
CATEGORIES:Marie-Guyart
END:VEVENT
BEGIN:VEVENT
DTSTART;TZID=America/Montreal:20250708T120000
DTEND;TZID=America/Montreal:20250708T160000
DTSTAMP:20260419T155156
CREATED:20241218T215927Z
LAST-MODIFIED:20251125T164413Z
UID:10006477-1751976000-1751990400@www.lemontmartre.ca
SUMMARY:Club de bridge Roi de pique 12H45
DESCRIPTION:
URL:https://www.lemontmartre.ca/event/club-de-bridge-limperatif-12h45/2025-07-08/
CATEGORIES:Marie-Guyart
END:VEVENT
BEGIN:VEVENT
DTSTART;TZID=America/Montreal:20250709T120000
DTEND;TZID=America/Montreal:20250709T160000
DTSTAMP:20260419T155156
CREATED:20241218T220039Z
LAST-MODIFIED:20251104T212648Z
UID:10006527-1752062400-1752076800@www.lemontmartre.ca
SUMMARY:Club de bridge l'Entame 12H45
DESCRIPTION:
URL:https://www.lemontmartre.ca/event/club-de-bridge-lentame-12h45-6/2025-07-09/
CATEGORIES:Marie-Guyart
END:VEVENT
BEGIN:VEVENT
DTSTART;TZID=America/Montreal:20250710T120000
DTEND;TZID=America/Montreal:20250710T160000
DTSTAMP:20260419T155156
CREATED:20241218T221216Z
LAST-MODIFIED:20250711T182225Z
UID:10006730-1752148800-1752163200@www.lemontmartre.ca
SUMMARY:Club de bridge Vieux-Québec 12H45
DESCRIPTION:
URL:https://www.lemontmartre.ca/event/club-de-bridge-de-sillery-12h45/2025-07-10/
CATEGORIES:Marie-Guyart
END:VEVENT
BEGIN:VEVENT
DTSTART;TZID=America/Montreal:20250711T120000
DTEND;TZID=America/Montreal:20250711T160000
DTSTAMP:20260419T155156
CREATED:20241218T220251Z
LAST-MODIFIED:20251105T194941Z
UID:10006627-1752235200-1752249600@www.lemontmartre.ca
SUMMARY:Club de bridge de la Capitale 12H45
DESCRIPTION:
URL:https://www.lemontmartre.ca/event/club-de-bridge-de-la-capitale-12h45/2025-07-11/
CATEGORIES:Marie-Guyart
END:VEVENT
BEGIN:VEVENT
DTSTART;TZID=America/Montreal:20250711T180000
DTEND;TZID=America/Montreal:20250711T220000
DTSTAMP:20260419T155156
CREATED:20241218T220554Z
LAST-MODIFIED:20251125T163034Z
UID:10006679-1752256800-1752271200@www.lemontmartre.ca
SUMMARY:En route vers la liberté 19H30
DESCRIPTION:
URL:https://www.lemontmartre.ca/event/en-route-vers-la-liberte-19h30-5/2025-07-11/
CATEGORIES:Marie-Guyart
END:VEVENT
BEGIN:VEVENT
DTSTART;TZID=America/Montreal:20250714T120000
DTEND;TZID=America/Montreal:20250714T160000
DTSTAMP:20260419T155156
CREATED:20241218T215738Z
LAST-MODIFIED:20251125T163916Z
UID:10006428-1752494400-1752508800@www.lemontmartre.ca
SUMMARY:Club de bridge de Charlesbourg 12H45
DESCRIPTION:
URL:https://www.lemontmartre.ca/event/club-de-bridge-de-charlesbourg-12h45/2025-07-14/
CATEGORIES:Marie-Guyart
END:VEVENT
BEGIN:VEVENT
DTSTART;TZID=America/Montreal:20250715T120000
DTEND;TZID=America/Montreal:20250715T160000
DTSTAMP:20260419T155156
CREATED:20241218T215927Z
LAST-MODIFIED:20251125T164413Z
UID:10006478-1752580800-1752595200@www.lemontmartre.ca
SUMMARY:Club de bridge Roi de pique 12H45
DESCRIPTION:
URL:https://www.lemontmartre.ca/event/club-de-bridge-limperatif-12h45/2025-07-15/
CATEGORIES:Marie-Guyart
END:VEVENT
BEGIN:VEVENT
DTSTART;TZID=America/Montreal:20250716T090000
DTEND;TZID=America/Montreal:20250716T113000
DTSTAMP:20260419T155156
CREATED:20250630T152232Z
LAST-MODIFIED:20250630T152232Z
UID:10008463-1752656400-1752665400@www.lemontmartre.ca
SUMMARY:Ligue de Bridge de Québec 9H15
DESCRIPTION:
URL:https://www.lemontmartre.ca/event/ligue-de-bridge-de-quebec-9h15-6/
CATEGORIES:Marie-Guyart
END:VEVENT
BEGIN:VEVENT
DTSTART;TZID=America/Montreal:20250716T120000
DTEND;TZID=America/Montreal:20250716T160000
DTSTAMP:20260419T155156
CREATED:20241218T220039Z
LAST-MODIFIED:20251104T212648Z
UID:10006528-1752667200-1752681600@www.lemontmartre.ca
SUMMARY:Club de bridge l'Entame 12H45
DESCRIPTION:
URL:https://www.lemontmartre.ca/event/club-de-bridge-lentame-12h45-6/2025-07-16/
CATEGORIES:Marie-Guyart
END:VEVENT
BEGIN:VEVENT
DTSTART;TZID=America/Montreal:20250717T120000
DTEND;TZID=America/Montreal:20250717T160000
DTSTAMP:20260419T155156
CREATED:20241218T221216Z
LAST-MODIFIED:20250711T182225Z
UID:10006731-1752753600-1752768000@www.lemontmartre.ca
SUMMARY:Club de bridge Vieux-Québec 12H45
DESCRIPTION:
URL:https://www.lemontmartre.ca/event/club-de-bridge-de-sillery-12h45/2025-07-17/
CATEGORIES:Marie-Guyart
END:VEVENT
BEGIN:VEVENT
DTSTART;TZID=America/Montreal:20250718T120000
DTEND;TZID=America/Montreal:20250718T160000
DTSTAMP:20260419T155156
CREATED:20241218T220251Z
LAST-MODIFIED:20251105T194941Z
UID:10006628-1752840000-1752854400@www.lemontmartre.ca
SUMMARY:Club de bridge de la Capitale 12H45
DESCRIPTION:
URL:https://www.lemontmartre.ca/event/club-de-bridge-de-la-capitale-12h45/2025-07-18/
CATEGORIES:Marie-Guyart
END:VEVENT
BEGIN:VEVENT
DTSTART;TZID=America/Montreal:20250718T180000
DTEND;TZID=America/Montreal:20250718T220000
DTSTAMP:20260419T155156
CREATED:20241218T220554Z
LAST-MODIFIED:20251125T163034Z
UID:10006680-1752861600-1752876000@www.lemontmartre.ca
SUMMARY:En route vers la liberté 19H30
DESCRIPTION:
URL:https://www.lemontmartre.ca/event/en-route-vers-la-liberte-19h30-5/2025-07-18/
CATEGORIES:Marie-Guyart
END:VEVENT
BEGIN:VEVENT
DTSTART;TZID=America/Montreal:20250719T090000
DTEND;TZID=America/Montreal:20250719T210000
DTSTAMP:20260419T155156
CREATED:20250625T182820Z
LAST-MODIFIED:20250625T182820Z
UID:10008462-1752915600-1752958800@www.lemontmartre.ca
SUMMARY:Communauté Brésilienne de Québec 16H
DESCRIPTION:
URL:https://www.lemontmartre.ca/event/communaute-bresilienne-de-quebec-16h/
CATEGORIES:Marie-Guyart
END:VEVENT
BEGIN:VEVENT
DTSTART;TZID=America/Montreal:20250721T120000
DTEND;TZID=America/Montreal:20250721T160000
DTSTAMP:20260419T155156
CREATED:20241218T215738Z
LAST-MODIFIED:20251125T163916Z
UID:10006429-1753099200-1753113600@www.lemontmartre.ca
SUMMARY:Club de bridge de Charlesbourg 12H45
DESCRIPTION:
URL:https://www.lemontmartre.ca/event/club-de-bridge-de-charlesbourg-12h45/2025-07-21/
CATEGORIES:Marie-Guyart
END:VEVENT
BEGIN:VEVENT
DTSTART;TZID=America/Montreal:20250722T120000
DTEND;TZID=America/Montreal:20250722T160000
DTSTAMP:20260419T155156
CREATED:20241218T215927Z
LAST-MODIFIED:20251125T164413Z
UID:10006479-1753185600-1753200000@www.lemontmartre.ca
SUMMARY:Club de bridge Roi de pique 12H45
DESCRIPTION:
URL:https://www.lemontmartre.ca/event/club-de-bridge-limperatif-12h45/2025-07-22/
CATEGORIES:Marie-Guyart
END:VEVENT
BEGIN:VEVENT
DTSTART;TZID=America/Montreal:20250723T120000
DTEND;TZID=America/Montreal:20250723T160000
DTSTAMP:20260419T155156
CREATED:20241218T220039Z
LAST-MODIFIED:20251104T212648Z
UID:10006529-1753272000-1753286400@www.lemontmartre.ca
SUMMARY:Club de bridge l'Entame 12H45
DESCRIPTION:
URL:https://www.lemontmartre.ca/event/club-de-bridge-lentame-12h45-6/2025-07-23/
CATEGORIES:Marie-Guyart
END:VEVENT
BEGIN:VEVENT
DTSTART;TZID=America/Montreal:20250724T120000
DTEND;TZID=America/Montreal:20250724T160000
DTSTAMP:20260419T155156
CREATED:20241218T221216Z
LAST-MODIFIED:20250711T182225Z
UID:10006732-1753358400-1753372800@www.lemontmartre.ca
SUMMARY:Club de bridge Vieux-Québec 12H45
DESCRIPTION:
URL:https://www.lemontmartre.ca/event/club-de-bridge-de-sillery-12h45/2025-07-24/
CATEGORIES:Marie-Guyart
END:VEVENT
BEGIN:VEVENT
DTSTART;TZID=America/Montreal:20250725T120000
DTEND;TZID=America/Montreal:20250725T160000
DTSTAMP:20260419T155156
CREATED:20241218T220251Z
LAST-MODIFIED:20251105T194941Z
UID:10006629-1753444800-1753459200@www.lemontmartre.ca
SUMMARY:Club de bridge de la Capitale 12H45
DESCRIPTION:
URL:https://www.lemontmartre.ca/event/club-de-bridge-de-la-capitale-12h45/2025-07-25/
CATEGORIES:Marie-Guyart
END:VEVENT
BEGIN:VEVENT
DTSTART;TZID=America/Montreal:20250725T180000
DTEND;TZID=America/Montreal:20250725T220000
DTSTAMP:20260419T155156
CREATED:20241218T220554Z
LAST-MODIFIED:20251125T163034Z
UID:10006681-1753466400-1753480800@www.lemontmartre.ca
SUMMARY:En route vers la liberté 19H30
DESCRIPTION:
URL:https://www.lemontmartre.ca/event/en-route-vers-la-liberte-19h30-5/2025-07-25/
CATEGORIES:Marie-Guyart
END:VEVENT
BEGIN:VEVENT
DTSTART;TZID=America/Montreal:20250728T120000
DTEND;TZID=America/Montreal:20250728T160000
DTSTAMP:20260419T155156
CREATED:20241218T215738Z
LAST-MODIFIED:20251125T163916Z
UID:10006430-1753704000-1753718400@www.lemontmartre.ca
SUMMARY:Club de bridge de Charlesbourg 12H45
DESCRIPTION:
URL:https://www.lemontmartre.ca/event/club-de-bridge-de-charlesbourg-12h45/2025-07-28/
CATEGORIES:Marie-Guyart
END:VEVENT
BEGIN:VEVENT
DTSTART;TZID=America/Montreal:20250729T120000
DTEND;TZID=America/Montreal:20250729T160000
DTSTAMP:20260419T155156
CREATED:20241218T215927Z
LAST-MODIFIED:20251125T164413Z
UID:10006480-1753790400-1753804800@www.lemontmartre.ca
SUMMARY:Club de bridge Roi de pique 12H45
DESCRIPTION:
URL:https://www.lemontmartre.ca/event/club-de-bridge-limperatif-12h45/2025-07-29/
CATEGORIES:Marie-Guyart
END:VEVENT
BEGIN:VEVENT
DTSTART;TZID=America/Montreal:20250730T120000
DTEND;TZID=America/Montreal:20250730T160000
DTSTAMP:20260419T155156
CREATED:20241218T220039Z
LAST-MODIFIED:20251104T212648Z
UID:10006530-1753876800-1753891200@www.lemontmartre.ca
SUMMARY:Club de bridge l'Entame 12H45
DESCRIPTION:
URL:https://www.lemontmartre.ca/event/club-de-bridge-lentame-12h45-6/2025-07-30/
CATEGORIES:Marie-Guyart
END:VEVENT
BEGIN:VEVENT
DTSTART;TZID=America/Montreal:20250731T120000
DTEND;TZID=America/Montreal:20250731T160000
DTSTAMP:20260419T155156
CREATED:20241218T221216Z
LAST-MODIFIED:20250711T182225Z
UID:10006733-1753963200-1753977600@www.lemontmartre.ca
SUMMARY:Club de bridge Vieux-Québec 12H45
DESCRIPTION:
URL:https://www.lemontmartre.ca/event/club-de-bridge-de-sillery-12h45/2025-07-31/
CATEGORIES:Marie-Guyart
END:VEVENT
END:VCALENDAR