BEGIN:VCALENDAR
VERSION:2.0
PRODID:-//Le Montmartre - ECPv6.15.13//NONSGML v1.0//EN
CALSCALE:GREGORIAN
METHOD:PUBLISH
X-ORIGINAL-URL:https://www.lemontmartre.ca
X-WR-CALDESC:Évènements pour Le Montmartre
REFRESH-INTERVAL;VALUE=DURATION:PT1H
X-Robots-Tag:noindex
X-PUBLISHED-TTL:PT1H
BEGIN:VTIMEZONE
TZID:America/Montreal
BEGIN:DAYLIGHT
TZOFFSETFROM:-0500
TZOFFSETTO:-0400
TZNAME:EDT
DTSTART:20240310T070000
END:DAYLIGHT
BEGIN:STANDARD
TZOFFSETFROM:-0400
TZOFFSETTO:-0500
TZNAME:EST
DTSTART:20241103T060000
END:STANDARD
BEGIN:DAYLIGHT
TZOFFSETFROM:-0500
TZOFFSETTO:-0400
TZNAME:EDT
DTSTART:20250309T070000
END:DAYLIGHT
BEGIN:STANDARD
TZOFFSETFROM:-0400
TZOFFSETTO:-0500
TZNAME:EST
DTSTART:20251102T060000
END:STANDARD
BEGIN:DAYLIGHT
TZOFFSETFROM:-0500
TZOFFSETTO:-0400
TZNAME:EDT
DTSTART:20260308T070000
END:DAYLIGHT
BEGIN:STANDARD
TZOFFSETFROM:-0400
TZOFFSETTO:-0500
TZNAME:EST
DTSTART:20261101T060000
END:STANDARD
END:VTIMEZONE
BEGIN:VEVENT
DTSTART;TZID=America/Montreal:20250201T120000
DTEND;TZID=America/Montreal:20250201T160000
DTSTAMP:20260420T000158
CREATED:20250121T220316Z
LAST-MODIFIED:20250121T220316Z
UID:10006865-1738411200-1738425600@www.lemontmartre.ca
SUMMARY:Club de bridge Quatre-Coeurs 12H45
DESCRIPTION:
URL:https://www.lemontmartre.ca/event/club-de-bridge-quatre-coeurs-12h45-7/
CATEGORIES:Marie-Guyart
END:VEVENT
BEGIN:VEVENT
DTSTART;TZID=America/Montreal:20250202T090000
DTEND;TZID=America/Montreal:20250202T143000
DTSTAMP:20260420T000158
CREATED:20250124T151605Z
LAST-MODIFIED:20250124T151605Z
UID:10006866-1738486800-1738506600@www.lemontmartre.ca
SUMMARY:Repas communautaire 12H
DESCRIPTION:
URL:https://www.lemontmartre.ca/event/repas-communautaire-12h-4/
CATEGORIES:Marie-Guyart
END:VEVENT
BEGIN:VEVENT
DTSTART;TZID=America/Montreal:20250203T120000
DTEND;TZID=America/Montreal:20250203T160000
DTSTAMP:20260420T000158
CREATED:20241218T215738Z
LAST-MODIFIED:20251125T163916Z
UID:10006405-1738584000-1738598400@www.lemontmartre.ca
SUMMARY:Club de bridge de Charlesbourg 12H45
DESCRIPTION:
URL:https://www.lemontmartre.ca/event/club-de-bridge-de-charlesbourg-12h45/2025-02-03/
CATEGORIES:Marie-Guyart
END:VEVENT
BEGIN:VEVENT
DTSTART;TZID=America/Montreal:20250204T120000
DTEND;TZID=America/Montreal:20250204T160000
DTSTAMP:20260420T000158
CREATED:20241218T215927Z
LAST-MODIFIED:20251125T164413Z
UID:10006455-1738670400-1738684800@www.lemontmartre.ca
SUMMARY:Club de bridge Roi de pique 12H45
DESCRIPTION:
URL:https://www.lemontmartre.ca/event/club-de-bridge-limperatif-12h45/2025-02-04/
CATEGORIES:Marie-Guyart
END:VEVENT
BEGIN:VEVENT
DTSTART;TZID=America/Montreal:20250205T120000
DTEND;TZID=America/Montreal:20250205T160000
DTSTAMP:20260420T000158
CREATED:20241218T220039Z
LAST-MODIFIED:20251104T212648Z
UID:10006505-1738756800-1738771200@www.lemontmartre.ca
SUMMARY:Club de bridge l'Entame 12H45
DESCRIPTION:
URL:https://www.lemontmartre.ca/event/club-de-bridge-lentame-12h45-6/2025-02-05/
CATEGORIES:Marie-Guyart
END:VEVENT
BEGIN:VEVENT
DTSTART;TZID=America/Montreal:20250205T173000
DTEND;TZID=America/Montreal:20250205T210000
DTSTAMP:20260420T000158
CREATED:20250124T153155Z
LAST-MODIFIED:20250124T153155Z
UID:10007007-1738776600-1738789200@www.lemontmartre.ca
SUMMARY:Tel-Aide Québec 18H
DESCRIPTION:
URL:https://www.lemontmartre.ca/event/tel-aide-quebec-18h-2/
CATEGORIES:Marie-Guyart
END:VEVENT
BEGIN:VEVENT
DTSTART;TZID=America/Montreal:20250206T120000
DTEND;TZID=America/Montreal:20250206T160000
DTSTAMP:20260420T000158
CREATED:20241218T221216Z
LAST-MODIFIED:20250711T182225Z
UID:10006708-1738843200-1738857600@www.lemontmartre.ca
SUMMARY:Club de bridge Vieux-Québec 12H45
DESCRIPTION:
URL:https://www.lemontmartre.ca/event/club-de-bridge-de-sillery-12h45/2025-02-06/
CATEGORIES:Marie-Guyart
END:VEVENT
BEGIN:VEVENT
DTSTART;TZID=America/Montreal:20250207T120000
DTEND;TZID=America/Montreal:20250207T160000
DTSTAMP:20260420T000158
CREATED:20241218T220251Z
LAST-MODIFIED:20251105T194941Z
UID:10006605-1738929600-1738944000@www.lemontmartre.ca
SUMMARY:Club de bridge de la Capitale 12H45
DESCRIPTION:
URL:https://www.lemontmartre.ca/event/club-de-bridge-de-la-capitale-12h45/2025-02-07/
CATEGORIES:Marie-Guyart
END:VEVENT
BEGIN:VEVENT
DTSTART;TZID=America/Montreal:20250207T180000
DTEND;TZID=America/Montreal:20250207T220000
DTSTAMP:20260420T000158
CREATED:20241218T220554Z
LAST-MODIFIED:20251125T163034Z
UID:10006657-1738951200-1738965600@www.lemontmartre.ca
SUMMARY:En route vers la liberté 19H30
DESCRIPTION:
URL:https://www.lemontmartre.ca/event/en-route-vers-la-liberte-19h30-5/2025-02-07/
CATEGORIES:Marie-Guyart
END:VEVENT
BEGIN:VEVENT
DTSTART;TZID=America/Montreal:20250208T110000
DTEND;TZID=America/Montreal:20250208T180000
DTSTAMP:20260420T000158
CREATED:20250124T164146Z
LAST-MODIFIED:20250124T164146Z
UID:10007013-1739012400-1739037600@www.lemontmartre.ca
SUMMARY:Familles Charles Madet 13H
DESCRIPTION:
URL:https://www.lemontmartre.ca/event/familles-charles-madet-13h/
CATEGORIES:Marie-Guyart
END:VEVENT
BEGIN:VEVENT
DTSTART;TZID=America/Montreal:20250210T120000
DTEND;TZID=America/Montreal:20250210T160000
DTSTAMP:20260420T000158
CREATED:20241218T215738Z
LAST-MODIFIED:20251125T163916Z
UID:10006406-1739188800-1739203200@www.lemontmartre.ca
SUMMARY:Club de bridge de Charlesbourg 12H45
DESCRIPTION:
URL:https://www.lemontmartre.ca/event/club-de-bridge-de-charlesbourg-12h45/2025-02-10/
CATEGORIES:Marie-Guyart
END:VEVENT
BEGIN:VEVENT
DTSTART;TZID=America/Montreal:20250211T093000
DTEND;TZID=America/Montreal:20250211T110000
DTSTAMP:20260420T000158
CREATED:20250131T200204Z
LAST-MODIFIED:20250131T200204Z
UID:10007025-1739266200-1739271600@www.lemontmartre.ca
SUMMARY:Café «Bonne nouvelle» 9H30
DESCRIPTION:
URL:https://www.lemontmartre.ca/event/cafe-bonne-nouvelle-9h30-5/
CATEGORIES:Marie-Guyart
END:VEVENT
BEGIN:VEVENT
DTSTART;TZID=America/Montreal:20250211T120000
DTEND;TZID=America/Montreal:20250211T160000
DTSTAMP:20260420T000158
CREATED:20241218T215927Z
LAST-MODIFIED:20251125T164413Z
UID:10006456-1739275200-1739289600@www.lemontmartre.ca
SUMMARY:Club de bridge Roi de pique 12H45
DESCRIPTION:
URL:https://www.lemontmartre.ca/event/club-de-bridge-limperatif-12h45/2025-02-11/
CATEGORIES:Marie-Guyart
END:VEVENT
BEGIN:VEVENT
DTSTART;TZID=America/Montreal:20250212T120000
DTEND;TZID=America/Montreal:20250212T160000
DTSTAMP:20260420T000158
CREATED:20241218T220039Z
LAST-MODIFIED:20251104T212648Z
UID:10006506-1739361600-1739376000@www.lemontmartre.ca
SUMMARY:Club de bridge l'Entame 12H45
DESCRIPTION:
URL:https://www.lemontmartre.ca/event/club-de-bridge-lentame-12h45-6/2025-02-12/
CATEGORIES:Marie-Guyart
END:VEVENT
BEGIN:VEVENT
DTSTART;TZID=America/Montreal:20250213T120000
DTEND;TZID=America/Montreal:20250213T160000
DTSTAMP:20260420T000158
CREATED:20241218T221216Z
LAST-MODIFIED:20250711T182225Z
UID:10006709-1739448000-1739462400@www.lemontmartre.ca
SUMMARY:Club de bridge Vieux-Québec 12H45
DESCRIPTION:
URL:https://www.lemontmartre.ca/event/club-de-bridge-de-sillery-12h45/2025-02-13/
CATEGORIES:Marie-Guyart
END:VEVENT
BEGIN:VEVENT
DTSTART;TZID=America/Montreal:20250214T120000
DTEND;TZID=America/Montreal:20250214T160000
DTSTAMP:20260420T000158
CREATED:20241218T220251Z
LAST-MODIFIED:20251105T194941Z
UID:10006606-1739534400-1739548800@www.lemontmartre.ca
SUMMARY:Club de bridge de la Capitale 12H45
DESCRIPTION:
URL:https://www.lemontmartre.ca/event/club-de-bridge-de-la-capitale-12h45/2025-02-14/
CATEGORIES:Marie-Guyart
END:VEVENT
BEGIN:VEVENT
DTSTART;TZID=America/Montreal:20250214T180000
DTEND;TZID=America/Montreal:20250214T220000
DTSTAMP:20260420T000158
CREATED:20241218T220554Z
LAST-MODIFIED:20251125T163034Z
UID:10006658-1739556000-1739570400@www.lemontmartre.ca
SUMMARY:En route vers la liberté 19H30
DESCRIPTION:
URL:https://www.lemontmartre.ca/event/en-route-vers-la-liberte-19h30-5/2025-02-14/
CATEGORIES:Marie-Guyart
END:VEVENT
BEGIN:VEVENT
DTSTART;TZID=America/Montreal:20250215T100000
DTEND;TZID=America/Montreal:20250215T233000
DTSTAMP:20260420T000158
CREATED:20250205T152948Z
LAST-MODIFIED:20250205T152948Z
UID:10007028-1739613600-1739662200@www.lemontmartre.ca
SUMMARY:Journée de gratitude district 4 13H
DESCRIPTION:
URL:https://www.lemontmartre.ca/event/journee-de-gratitude-district-4-13h/
CATEGORIES:Marie-Guyart
END:VEVENT
BEGIN:VEVENT
DTSTART;TZID=America/Montreal:20250217T120000
DTEND;TZID=America/Montreal:20250217T160000
DTSTAMP:20260420T000158
CREATED:20241218T215738Z
LAST-MODIFIED:20251125T163916Z
UID:10006407-1739793600-1739808000@www.lemontmartre.ca
SUMMARY:Club de bridge de Charlesbourg 12H45
DESCRIPTION:
URL:https://www.lemontmartre.ca/event/club-de-bridge-de-charlesbourg-12h45/2025-02-17/
CATEGORIES:Marie-Guyart
END:VEVENT
BEGIN:VEVENT
DTSTART;TZID=America/Montreal:20250218T120000
DTEND;TZID=America/Montreal:20250218T160000
DTSTAMP:20260420T000158
CREATED:20241218T215927Z
LAST-MODIFIED:20251125T164413Z
UID:10006457-1739880000-1739894400@www.lemontmartre.ca
SUMMARY:Club de bridge Roi de pique 12H45
DESCRIPTION:
URL:https://www.lemontmartre.ca/event/club-de-bridge-limperatif-12h45/2025-02-18/
CATEGORIES:Marie-Guyart
END:VEVENT
BEGIN:VEVENT
DTSTART;TZID=America/Montreal:20250218T180000
DTEND;TZID=America/Montreal:20250218T220000
DTSTAMP:20260420T000158
CREATED:20250207T204807Z
LAST-MODIFIED:20250207T204807Z
UID:10007402-1739901600-1739916000@www.lemontmartre.ca
SUMMARY:Orchidophiles de Québec 19H
DESCRIPTION:
URL:https://www.lemontmartre.ca/event/orchidophiles-de-quebec-19h-5/
CATEGORIES:Marie-Guyart
END:VEVENT
BEGIN:VEVENT
DTSTART;TZID=America/Montreal:20250219T120000
DTEND;TZID=America/Montreal:20250219T160000
DTSTAMP:20260420T000158
CREATED:20241218T220039Z
LAST-MODIFIED:20251104T212648Z
UID:10006507-1739966400-1739980800@www.lemontmartre.ca
SUMMARY:Club de bridge l'Entame 12H45
DESCRIPTION:
URL:https://www.lemontmartre.ca/event/club-de-bridge-lentame-12h45-6/2025-02-19/
CATEGORIES:Marie-Guyart
END:VEVENT
BEGIN:VEVENT
DTSTART;TZID=America/Montreal:20250220T120000
DTEND;TZID=America/Montreal:20250220T160000
DTSTAMP:20260420T000158
CREATED:20241218T221216Z
LAST-MODIFIED:20250711T182225Z
UID:10006710-1740052800-1740067200@www.lemontmartre.ca
SUMMARY:Club de bridge Vieux-Québec 12H45
DESCRIPTION:
URL:https://www.lemontmartre.ca/event/club-de-bridge-de-sillery-12h45/2025-02-20/
CATEGORIES:Marie-Guyart
END:VEVENT
BEGIN:VEVENT
DTSTART;TZID=America/Montreal:20250221T120000
DTEND;TZID=America/Montreal:20250221T160000
DTSTAMP:20260420T000158
CREATED:20241218T220251Z
LAST-MODIFIED:20251105T194941Z
UID:10006607-1740139200-1740153600@www.lemontmartre.ca
SUMMARY:Club de bridge de la Capitale 12H45
DESCRIPTION:
URL:https://www.lemontmartre.ca/event/club-de-bridge-de-la-capitale-12h45/2025-02-21/
CATEGORIES:Marie-Guyart
END:VEVENT
BEGIN:VEVENT
DTSTART;TZID=America/Montreal:20250221T180000
DTEND;TZID=America/Montreal:20250221T220000
DTSTAMP:20260420T000158
CREATED:20241218T220554Z
LAST-MODIFIED:20251125T163034Z
UID:10006659-1740160800-1740175200@www.lemontmartre.ca
SUMMARY:En route vers la liberté 19H30
DESCRIPTION:
URL:https://www.lemontmartre.ca/event/en-route-vers-la-liberte-19h30-5/2025-02-21/
CATEGORIES:Marie-Guyart
END:VEVENT
BEGIN:VEVENT
DTSTART;TZID=America/Montreal:20250222T120000
DTEND;TZID=America/Montreal:20250222T160000
DTSTAMP:20260420T000158
CREATED:20250207T205207Z
LAST-MODIFIED:20250207T205207Z
UID:10007404-1740225600-1740240000@www.lemontmartre.ca
SUMMARY:Club de bridge Quatre-Coeurs 12H45
DESCRIPTION:
URL:https://www.lemontmartre.ca/event/club-de-bridge-quatre-coeurs-12h45-10/
CATEGORIES:Marie-Guyart
END:VEVENT
BEGIN:VEVENT
DTSTART;TZID=America/Montreal:20250224T120000
DTEND;TZID=America/Montreal:20250224T160000
DTSTAMP:20260420T000158
CREATED:20241218T215738Z
LAST-MODIFIED:20251125T163916Z
UID:10006408-1740398400-1740412800@www.lemontmartre.ca
SUMMARY:Club de bridge de Charlesbourg 12H45
DESCRIPTION:
URL:https://www.lemontmartre.ca/event/club-de-bridge-de-charlesbourg-12h45/2025-02-24/
CATEGORIES:Marie-Guyart
END:VEVENT
BEGIN:VEVENT
DTSTART;TZID=America/Montreal:20250225T120000
DTEND;TZID=America/Montreal:20250225T160000
DTSTAMP:20260420T000158
CREATED:20241218T215927Z
LAST-MODIFIED:20251125T164413Z
UID:10006458-1740484800-1740499200@www.lemontmartre.ca
SUMMARY:Club de bridge Roi de pique 12H45
DESCRIPTION:
URL:https://www.lemontmartre.ca/event/club-de-bridge-limperatif-12h45/2025-02-25/
CATEGORIES:Marie-Guyart
END:VEVENT
BEGIN:VEVENT
DTSTART;TZID=America/Montreal:20250226T120000
DTEND;TZID=America/Montreal:20250226T160000
DTSTAMP:20260420T000158
CREATED:20241218T220039Z
LAST-MODIFIED:20251104T212648Z
UID:10006508-1740571200-1740585600@www.lemontmartre.ca
SUMMARY:Club de bridge l'Entame 12H45
DESCRIPTION:
URL:https://www.lemontmartre.ca/event/club-de-bridge-lentame-12h45-6/2025-02-26/
CATEGORIES:Marie-Guyart
END:VEVENT
BEGIN:VEVENT
DTSTART;TZID=America/Montreal:20250227T120000
DTEND;TZID=America/Montreal:20250227T160000
DTSTAMP:20260420T000158
CREATED:20241218T221216Z
LAST-MODIFIED:20250711T182225Z
UID:10006711-1740657600-1740672000@www.lemontmartre.ca
SUMMARY:Club de bridge Vieux-Québec 12H45
DESCRIPTION:
URL:https://www.lemontmartre.ca/event/club-de-bridge-de-sillery-12h45/2025-02-27/
CATEGORIES:Marie-Guyart
END:VEVENT
END:VCALENDAR