BEGIN:VCALENDAR
VERSION:2.0
PRODID:-//Le Montmartre - ECPv6.15.13//NONSGML v1.0//EN
CALSCALE:GREGORIAN
METHOD:PUBLISH
X-ORIGINAL-URL:https://www.lemontmartre.ca
X-WR-CALDESC:Évènements pour Le Montmartre
REFRESH-INTERVAL;VALUE=DURATION:PT1H
X-Robots-Tag:noindex
X-PUBLISHED-TTL:PT1H
BEGIN:VTIMEZONE
TZID:America/Montreal
BEGIN:DAYLIGHT
TZOFFSETFROM:-0500
TZOFFSETTO:-0400
TZNAME:EDT
DTSTART:20230312T070000
END:DAYLIGHT
BEGIN:STANDARD
TZOFFSETFROM:-0400
TZOFFSETTO:-0500
TZNAME:EST
DTSTART:20231105T060000
END:STANDARD
BEGIN:DAYLIGHT
TZOFFSETFROM:-0500
TZOFFSETTO:-0400
TZNAME:EDT
DTSTART:20240310T070000
END:DAYLIGHT
BEGIN:STANDARD
TZOFFSETFROM:-0400
TZOFFSETTO:-0500
TZNAME:EST
DTSTART:20241103T060000
END:STANDARD
BEGIN:DAYLIGHT
TZOFFSETFROM:-0500
TZOFFSETTO:-0400
TZNAME:EDT
DTSTART:20250309T070000
END:DAYLIGHT
BEGIN:STANDARD
TZOFFSETFROM:-0400
TZOFFSETTO:-0500
TZNAME:EST
DTSTART:20251102T060000
END:STANDARD
END:VTIMEZONE
BEGIN:VEVENT
DTSTART;TZID=America/Montreal:20240902T120000
DTEND;TZID=America/Montreal:20240902T163000
DTSTAMP:20260420T130302
CREATED:20240423T155717Z
LAST-MODIFIED:20240423T195826Z
UID:10001526-1725278400-1725294600@www.lemontmartre.ca
SUMMARY:Club de bridge de Charlesbourg 13H00
DESCRIPTION:12H00 Arrivée 16H30 Fin
URL:https://www.lemontmartre.ca/event/club-de-bridge-de-charlesbourg-13h00/2024-09-02/
CATEGORIES:Marie-Guyart
END:VEVENT
BEGIN:VEVENT
DTSTART;TZID=America/Montreal:20240903T120000
DTEND;TZID=America/Montreal:20240903T163000
DTSTAMP:20260420T130302
CREATED:20240423T155902Z
LAST-MODIFIED:20240423T195857Z
UID:10001576-1725364800-1725381000@www.lemontmartre.ca
SUMMARY:Club de bridge l’Impératif 13H00
DESCRIPTION:12H00 Arrivée 16H30 Fin
URL:https://www.lemontmartre.ca/event/club-de-bridge-limperatif-13h00/2024-09-03/
CATEGORIES:Marie-Guyart
END:VEVENT
BEGIN:VEVENT
DTSTART;TZID=America/Montreal:20240904T120000
DTEND;TZID=America/Montreal:20240904T163000
DTSTAMP:20260420T130302
CREATED:20240423T201727Z
LAST-MODIFIED:20250822T151822Z
UID:10002155-1725451200-1725467400@www.lemontmartre.ca
SUMMARY:Club de bridge l’Entame 13H00
DESCRIPTION:12H00 Arrivée 16H30 Fin
URL:https://www.lemontmartre.ca/event/club-de-bridge-lentame-13h00-3/2024-09-04/
CATEGORIES:Marie-Guyart
END:VEVENT
BEGIN:VEVENT
DTSTART;TZID=America/Montreal:20240905T120000
DTEND;TZID=America/Montreal:20240905T163000
DTSTAMP:20260420T130302
CREATED:20240423T172114Z
LAST-MODIFIED:20241220T180539Z
UID:10001894-1725537600-1725553800@www.lemontmartre.ca
SUMMARY:Club de bridge de Sillery 12H45
DESCRIPTION:12H00 Arrivée 16H30
URL:https://www.lemontmartre.ca/event/club-de-bridge-de-sillery-13h00/2024-09-05/
CATEGORIES:Marie-Guyart
END:VEVENT
BEGIN:VEVENT
DTSTART;TZID=America/Montreal:20240906T120000
DTEND;TZID=America/Montreal:20240906T163000
DTSTAMP:20260420T130302
CREATED:20240423T173746Z
LAST-MODIFIED:20241218T214033Z
UID:10002009-1725624000-1725640200@www.lemontmartre.ca
SUMMARY:Club de bridge de la Capitale 12H45
DESCRIPTION:12H00 Arrivée 16H30 Fin
URL:https://www.lemontmartre.ca/event/club-de-bridge-de-la-capitale-13h00/2024-09-06/
CATEGORIES:Marie-Guyart
END:VEVENT
BEGIN:VEVENT
DTSTART;TZID=America/Montreal:20240906T180000
DTEND;TZID=America/Montreal:20240906T213000
DTSTAMP:20260420T130302
CREATED:20240423T174218Z
LAST-MODIFIED:20240918T191639Z
UID:10002061-1725645600-1725658200@www.lemontmartre.ca
SUMMARY:En route vers la liberté 19H30
DESCRIPTION:18H00 Arrivée 21H30 Fin
URL:https://www.lemontmartre.ca/event/en-route-vers-la-liberte-19h30/2024-09-06/
CATEGORIES:Marie-Guyart
END:VEVENT
BEGIN:VEVENT
DTSTART;TZID=America/Montreal:20240907T110000
DTEND;TZID=America/Montreal:20240907T160000
DTSTAMP:20260420T130302
CREATED:20240816T181141Z
LAST-MODIFIED:20240816T181355Z
UID:10004445-1725706800-1725724800@www.lemontmartre.ca
SUMMARY:60ième site patrimonial Sillery
DESCRIPTION:
URL:https://www.lemontmartre.ca/event/60ieme-site-patrimonial-sillery-2/
CATEGORIES:Marie-Guyart
END:VEVENT
BEGIN:VEVENT
DTSTART;TZID=America/Montreal:20240909T120000
DTEND;TZID=America/Montreal:20240909T163000
DTSTAMP:20260420T130302
CREATED:20240423T155717Z
LAST-MODIFIED:20240423T195826Z
UID:10001527-1725883200-1725899400@www.lemontmartre.ca
SUMMARY:Club de bridge de Charlesbourg 13H00
DESCRIPTION:12H00 Arrivée 16H30 Fin
URL:https://www.lemontmartre.ca/event/club-de-bridge-de-charlesbourg-13h00/2024-09-09/
CATEGORIES:Marie-Guyart
END:VEVENT
BEGIN:VEVENT
DTSTART;TZID=America/Montreal:20240910T120000
DTEND;TZID=America/Montreal:20240910T163000
DTSTAMP:20260420T130302
CREATED:20240423T155902Z
LAST-MODIFIED:20240423T195857Z
UID:10001577-1725969600-1725985800@www.lemontmartre.ca
SUMMARY:Club de bridge l’Impératif 13H00
DESCRIPTION:12H00 Arrivée 16H30 Fin
URL:https://www.lemontmartre.ca/event/club-de-bridge-limperatif-13h00/2024-09-10/
CATEGORIES:Marie-Guyart
END:VEVENT
BEGIN:VEVENT
DTSTART;TZID=America/Montreal:20240910T173000
DTEND;TZID=America/Montreal:20240910T210000
DTSTAMP:20260420T130302
CREATED:20240816T182127Z
LAST-MODIFIED:20240816T182127Z
UID:10004446-1725989400-1726002000@www.lemontmartre.ca
SUMMARY:Tel-Aide Québec 18H
DESCRIPTION:
URL:https://www.lemontmartre.ca/event/tel-aide-quebec-18h/
CATEGORIES:Marie-Guyart
END:VEVENT
BEGIN:VEVENT
DTSTART;TZID=America/Montreal:20240911T090000
DTEND;TZID=America/Montreal:20240911T120000
DTSTAMP:20260420T130302
CREATED:20240909T214213Z
LAST-MODIFIED:20240909T214213Z
UID:10004515-1726045200-1726056000@www.lemontmartre.ca
SUMMARY:Ligue de bridge de Québec 9H
DESCRIPTION:
URL:https://www.lemontmartre.ca/event/ligue-de-bridge-de-quebec-9h-2/
CATEGORIES:Marie-Guyart
END:VEVENT
BEGIN:VEVENT
DTSTART;TZID=America/Montreal:20240911T120000
DTEND;TZID=America/Montreal:20240911T163000
DTSTAMP:20260420T130302
CREATED:20240423T201727Z
LAST-MODIFIED:20250822T151822Z
UID:10002156-1726056000-1726072200@www.lemontmartre.ca
SUMMARY:Club de bridge l’Entame 13H00
DESCRIPTION:12H00 Arrivée 16H30 Fin
URL:https://www.lemontmartre.ca/event/club-de-bridge-lentame-13h00-3/2024-09-11/
CATEGORIES:Marie-Guyart
END:VEVENT
BEGIN:VEVENT
DTSTART;TZID=America/Montreal:20240912T120000
DTEND;TZID=America/Montreal:20240912T163000
DTSTAMP:20260420T130302
CREATED:20240423T172114Z
LAST-MODIFIED:20241220T180539Z
UID:10001895-1726142400-1726158600@www.lemontmartre.ca
SUMMARY:Club de bridge de Sillery 12H45
DESCRIPTION:12H00 Arrivée 16H30
URL:https://www.lemontmartre.ca/event/club-de-bridge-de-sillery-13h00/2024-09-12/
CATEGORIES:Marie-Guyart
END:VEVENT
BEGIN:VEVENT
DTSTART;TZID=America/Montreal:20240913T120000
DTEND;TZID=America/Montreal:20240913T163000
DTSTAMP:20260420T130302
CREATED:20240423T173746Z
LAST-MODIFIED:20241218T214033Z
UID:10002010-1726228800-1726245000@www.lemontmartre.ca
SUMMARY:Club de bridge de la Capitale 12H45
DESCRIPTION:12H00 Arrivée 16H30 Fin
URL:https://www.lemontmartre.ca/event/club-de-bridge-de-la-capitale-13h00/2024-09-13/
CATEGORIES:Marie-Guyart
END:VEVENT
BEGIN:VEVENT
DTSTART;TZID=America/Montreal:20240913T180000
DTEND;TZID=America/Montreal:20240913T213000
DTSTAMP:20260420T130302
CREATED:20240423T174218Z
LAST-MODIFIED:20240918T191639Z
UID:10002062-1726250400-1726263000@www.lemontmartre.ca
SUMMARY:En route vers la liberté 19H30
DESCRIPTION:18H00 Arrivée 21H30 Fin
URL:https://www.lemontmartre.ca/event/en-route-vers-la-liberte-19h30/2024-09-13/
CATEGORIES:Marie-Guyart
END:VEVENT
BEGIN:VEVENT
DTSTART;TZID=America/Montreal:20240915T110000
DTEND;TZID=America/Montreal:20240915T163000
DTSTAMP:20260420T130302
CREATED:20240913T205605Z
LAST-MODIFIED:20240913T205605Z
UID:10004565-1726398000-1726417800@www.lemontmartre.ca
SUMMARY:Mouvement du cursillo 13H
DESCRIPTION:
URL:https://www.lemontmartre.ca/event/mouvement-du-cursillo-13h/
CATEGORIES:Marie-Guyart
END:VEVENT
BEGIN:VEVENT
DTSTART;TZID=America/Montreal:20240916T120000
DTEND;TZID=America/Montreal:20240916T163000
DTSTAMP:20260420T130302
CREATED:20240423T155717Z
LAST-MODIFIED:20240423T195826Z
UID:10001528-1726488000-1726504200@www.lemontmartre.ca
SUMMARY:Club de bridge de Charlesbourg 13H00
DESCRIPTION:12H00 Arrivée 16H30 Fin
URL:https://www.lemontmartre.ca/event/club-de-bridge-de-charlesbourg-13h00/2024-09-16/
CATEGORIES:Marie-Guyart
END:VEVENT
BEGIN:VEVENT
DTSTART;TZID=America/Montreal:20240917T120000
DTEND;TZID=America/Montreal:20240917T163000
DTSTAMP:20260420T130302
CREATED:20240423T155902Z
LAST-MODIFIED:20240423T195857Z
UID:10001578-1726574400-1726590600@www.lemontmartre.ca
SUMMARY:Club de bridge l’Impératif 13H00
DESCRIPTION:12H00 Arrivée 16H30 Fin
URL:https://www.lemontmartre.ca/event/club-de-bridge-limperatif-13h00/2024-09-17/
CATEGORIES:Marie-Guyart
END:VEVENT
BEGIN:VEVENT
DTSTART;TZID=America/Montreal:20240917T173000
DTEND;TZID=America/Montreal:20240917T220000
DTSTAMP:20260420T130302
CREATED:20240913T205715Z
LAST-MODIFIED:20240913T205715Z
UID:10004566-1726594200-1726610400@www.lemontmartre.ca
SUMMARY:Orchidophiles de Québec 19H
DESCRIPTION:
URL:https://www.lemontmartre.ca/event/orchidophiles-de-quebec-19h/
CATEGORIES:Marie-Guyart
END:VEVENT
BEGIN:VEVENT
DTSTART;TZID=America/Montreal:20240918T120000
DTEND;TZID=America/Montreal:20240918T163000
DTSTAMP:20260420T130302
CREATED:20240423T201727Z
LAST-MODIFIED:20250822T151822Z
UID:10002157-1726660800-1726677000@www.lemontmartre.ca
SUMMARY:Club de bridge l’Entame 13H00
DESCRIPTION:12H00 Arrivée 16H30 Fin
URL:https://www.lemontmartre.ca/event/club-de-bridge-lentame-13h00-3/2024-09-18/
CATEGORIES:Marie-Guyart
END:VEVENT
BEGIN:VEVENT
DTSTART;TZID=America/Montreal:20240919T120000
DTEND;TZID=America/Montreal:20240919T163000
DTSTAMP:20260420T130302
CREATED:20240423T172114Z
LAST-MODIFIED:20241220T180539Z
UID:10001896-1726747200-1726763400@www.lemontmartre.ca
SUMMARY:Club de bridge de Sillery 12H45
DESCRIPTION:12H00 Arrivée 16H30
URL:https://www.lemontmartre.ca/event/club-de-bridge-de-sillery-13h00/2024-09-19/
CATEGORIES:Marie-Guyart
END:VEVENT
BEGIN:VEVENT
DTSTART;TZID=America/Montreal:20240920T120000
DTEND;TZID=America/Montreal:20240920T163000
DTSTAMP:20260420T130302
CREATED:20240423T173746Z
LAST-MODIFIED:20241218T214033Z
UID:10002011-1726833600-1726849800@www.lemontmartre.ca
SUMMARY:Club de bridge de la Capitale 12H45
DESCRIPTION:12H00 Arrivée 16H30 Fin
URL:https://www.lemontmartre.ca/event/club-de-bridge-de-la-capitale-13h00/2024-09-20/
CATEGORIES:Marie-Guyart
END:VEVENT
BEGIN:VEVENT
DTSTART;TZID=America/Montreal:20240920T180000
DTEND;TZID=America/Montreal:20240920T213000
DTSTAMP:20260420T130302
CREATED:20240423T174218Z
LAST-MODIFIED:20240918T191639Z
UID:10002063-1726855200-1726867800@www.lemontmartre.ca
SUMMARY:En route vers la liberté 19H30
DESCRIPTION:18H00 Arrivée 21H30 Fin
URL:https://www.lemontmartre.ca/event/en-route-vers-la-liberte-19h30/2024-09-20/
CATEGORIES:Marie-Guyart
END:VEVENT
BEGIN:VEVENT
DTSTART;TZID=America/Montreal:20240923T120000
DTEND;TZID=America/Montreal:20240923T163000
DTSTAMP:20260420T130302
CREATED:20240423T155717Z
LAST-MODIFIED:20240423T195826Z
UID:10001529-1727092800-1727109000@www.lemontmartre.ca
SUMMARY:Club de bridge de Charlesbourg 13H00
DESCRIPTION:12H00 Arrivée 16H30 Fin
URL:https://www.lemontmartre.ca/event/club-de-bridge-de-charlesbourg-13h00/2024-09-23/
CATEGORIES:Marie-Guyart
END:VEVENT
BEGIN:VEVENT
DTSTART;TZID=America/Montreal:20240924T093000
DTEND;TZID=America/Montreal:20240924T110000
DTSTAMP:20260420T130302
CREATED:20240924T154039Z
LAST-MODIFIED:20240924T154406Z
UID:10005380-1727170200-1727175600@www.lemontmartre.ca
SUMMARY:Café «bonne nouvelle» 9H30
DESCRIPTION:
URL:https://www.lemontmartre.ca/event/cafe-bonne-nouvelle-9h30/2024-09-24/
CATEGORIES:Marie-Guyart
END:VEVENT
BEGIN:VEVENT
DTSTART;TZID=America/Montreal:20240924T120000
DTEND;TZID=America/Montreal:20240924T163000
DTSTAMP:20260420T130302
CREATED:20240423T155902Z
LAST-MODIFIED:20240423T195857Z
UID:10001579-1727179200-1727195400@www.lemontmartre.ca
SUMMARY:Club de bridge l’Impératif 13H00
DESCRIPTION:12H00 Arrivée 16H30 Fin
URL:https://www.lemontmartre.ca/event/club-de-bridge-limperatif-13h00/2024-09-24/
CATEGORIES:Marie-Guyart
END:VEVENT
BEGIN:VEVENT
DTSTART;TZID=America/Montreal:20240925T140000
DTEND;TZID=America/Montreal:20240925T170000
DTSTAMP:20260420T130302
CREATED:20240913T212301Z
LAST-MODIFIED:20240913T212301Z
UID:10005336-1727272800-1727283600@www.lemontmartre.ca
SUMMARY:AQDR 15H
DESCRIPTION:
URL:https://www.lemontmartre.ca/event/aqdr-15h/
CATEGORIES:Marie-Guyart
END:VEVENT
BEGIN:VEVENT
DTSTART;TZID=America/Montreal:20240926T120000
DTEND;TZID=America/Montreal:20240926T163000
DTSTAMP:20260420T130302
CREATED:20240423T172114Z
LAST-MODIFIED:20241220T180539Z
UID:10001897-1727352000-1727368200@www.lemontmartre.ca
SUMMARY:Club de bridge de Sillery 12H45
DESCRIPTION:12H00 Arrivée 16H30
URL:https://www.lemontmartre.ca/event/club-de-bridge-de-sillery-13h00/2024-09-26/
CATEGORIES:Marie-Guyart
END:VEVENT
BEGIN:VEVENT
DTSTART;TZID=America/Montreal:20240926T190000
DTEND;TZID=America/Montreal:20240926T210000
DTSTAMP:20260420T130302
CREATED:20240913T212514Z
LAST-MODIFIED:20240913T212514Z
UID:10005337-1727377200-1727384400@www.lemontmartre.ca
SUMMARY:Défis et débats actuels 19H30
DESCRIPTION:
URL:https://www.lemontmartre.ca/event/defis-et-debats-actuels-19h30/
CATEGORIES:Marie-Guyart
END:VEVENT
BEGIN:VEVENT
DTSTART;TZID=America/Montreal:20240927T083000
DTEND;TZID=America/Montreal:20240927T180000
DTSTAMP:20260420T130302
CREATED:20240918T191428Z
LAST-MODIFIED:20240918T191428Z
UID:10005373-1727425800-1727460000@www.lemontmartre.ca
SUMMARY:Ligue de bridge de Québec
DESCRIPTION:
URL:https://www.lemontmartre.ca/event/ligue-de-bridge-de-quebec/2024-09-27/
CATEGORIES:Marie-Guyart
END:VEVENT
END:VCALENDAR