BEGIN:VCALENDAR
VERSION:2.0
PRODID:-//Le Montmartre - ECPv6.15.13//NONSGML v1.0//EN
CALSCALE:GREGORIAN
METHOD:PUBLISH
X-ORIGINAL-URL:https://www.lemontmartre.ca
X-WR-CALDESC:Évènements pour Le Montmartre
REFRESH-INTERVAL;VALUE=DURATION:PT1H
X-Robots-Tag:noindex
X-PUBLISHED-TTL:PT1H
BEGIN:VTIMEZONE
TZID:America/Montreal
BEGIN:DAYLIGHT
TZOFFSETFROM:-0500
TZOFFSETTO:-0400
TZNAME:EDT
DTSTART:20230312T070000
END:DAYLIGHT
BEGIN:STANDARD
TZOFFSETFROM:-0400
TZOFFSETTO:-0500
TZNAME:EST
DTSTART:20231105T060000
END:STANDARD
BEGIN:DAYLIGHT
TZOFFSETFROM:-0500
TZOFFSETTO:-0400
TZNAME:EDT
DTSTART:20240310T070000
END:DAYLIGHT
BEGIN:STANDARD
TZOFFSETFROM:-0400
TZOFFSETTO:-0500
TZNAME:EST
DTSTART:20241103T060000
END:STANDARD
BEGIN:DAYLIGHT
TZOFFSETFROM:-0500
TZOFFSETTO:-0400
TZNAME:EDT
DTSTART:20250309T070000
END:DAYLIGHT
BEGIN:STANDARD
TZOFFSETFROM:-0400
TZOFFSETTO:-0500
TZNAME:EST
DTSTART:20251102T060000
END:STANDARD
END:VTIMEZONE
BEGIN:VEVENT
DTSTART;TZID=America/Montreal:20240801T120000
DTEND;TZID=America/Montreal:20240801T163000
DTSTAMP:20260420T142954
CREATED:20240423T172114Z
LAST-MODIFIED:20241220T180539Z
UID:10001889-1722513600-1722529800@www.lemontmartre.ca
SUMMARY:Club de bridge de Sillery 12H45
DESCRIPTION:12H00 Arrivée 16H30
URL:https://www.lemontmartre.ca/event/club-de-bridge-de-sillery-13h00/2024-08-01/
CATEGORIES:Marie-Guyart
END:VEVENT
BEGIN:VEVENT
DTSTART;TZID=America/Montreal:20240802T120000
DTEND;TZID=America/Montreal:20240802T163000
DTSTAMP:20260420T142954
CREATED:20240423T173746Z
LAST-MODIFIED:20241218T214033Z
UID:10002004-1722600000-1722616200@www.lemontmartre.ca
SUMMARY:Club de bridge de la Capitale 12H45
DESCRIPTION:12H00 Arrivée 16H30 Fin
URL:https://www.lemontmartre.ca/event/club-de-bridge-de-la-capitale-13h00/2024-08-02/
CATEGORIES:Marie-Guyart
END:VEVENT
BEGIN:VEVENT
DTSTART;TZID=America/Montreal:20240802T180000
DTEND;TZID=America/Montreal:20240802T213000
DTSTAMP:20260420T142954
CREATED:20240423T174218Z
LAST-MODIFIED:20240918T191639Z
UID:10002056-1722621600-1722634200@www.lemontmartre.ca
SUMMARY:En route vers la liberté 19H30
DESCRIPTION:18H00 Arrivée 21H30 Fin
URL:https://www.lemontmartre.ca/event/en-route-vers-la-liberte-19h30/2024-08-02/
CATEGORIES:Marie-Guyart
END:VEVENT
BEGIN:VEVENT
DTSTART;TZID=America/Montreal:20240805T120000
DTEND;TZID=America/Montreal:20240805T163000
DTSTAMP:20260420T142954
CREATED:20240423T155717Z
LAST-MODIFIED:20240423T195826Z
UID:10001522-1722859200-1722875400@www.lemontmartre.ca
SUMMARY:Club de bridge de Charlesbourg 13H00
DESCRIPTION:12H00 Arrivée 16H30 Fin
URL:https://www.lemontmartre.ca/event/club-de-bridge-de-charlesbourg-13h00/2024-08-05/
CATEGORIES:Marie-Guyart
END:VEVENT
BEGIN:VEVENT
DTSTART;TZID=America/Montreal:20240806T120000
DTEND;TZID=America/Montreal:20240806T163000
DTSTAMP:20260420T142954
CREATED:20240423T155902Z
LAST-MODIFIED:20240423T195857Z
UID:10001572-1722945600-1722961800@www.lemontmartre.ca
SUMMARY:Club de bridge l’Impératif 13H00
DESCRIPTION:12H00 Arrivée 16H30 Fin
URL:https://www.lemontmartre.ca/event/club-de-bridge-limperatif-13h00/2024-08-06/
CATEGORIES:Marie-Guyart
END:VEVENT
BEGIN:VEVENT
DTSTART;TZID=America/Montreal:20240807T120000
DTEND;TZID=America/Montreal:20240807T163000
DTSTAMP:20260420T142954
CREATED:20240423T201727Z
LAST-MODIFIED:20250822T151822Z
UID:10002151-1723032000-1723048200@www.lemontmartre.ca
SUMMARY:Club de bridge l’Entame 13H00
DESCRIPTION:12H00 Arrivée 16H30 Fin
URL:https://www.lemontmartre.ca/event/club-de-bridge-lentame-13h00-3/2024-08-07/
CATEGORIES:Marie-Guyart
END:VEVENT
BEGIN:VEVENT
DTSTART;TZID=America/Montreal:20240808T120000
DTEND;TZID=America/Montreal:20240808T163000
DTSTAMP:20260420T142954
CREATED:20240423T172114Z
LAST-MODIFIED:20241220T180539Z
UID:10001890-1723118400-1723134600@www.lemontmartre.ca
SUMMARY:Club de bridge de Sillery 12H45
DESCRIPTION:12H00 Arrivée 16H30
URL:https://www.lemontmartre.ca/event/club-de-bridge-de-sillery-13h00/2024-08-08/
CATEGORIES:Marie-Guyart
END:VEVENT
BEGIN:VEVENT
DTSTART;TZID=America/Montreal:20240809T120000
DTEND;TZID=America/Montreal:20240809T163000
DTSTAMP:20260420T142954
CREATED:20240423T173746Z
LAST-MODIFIED:20241218T214033Z
UID:10002005-1723204800-1723221000@www.lemontmartre.ca
SUMMARY:Club de bridge de la Capitale 12H45
DESCRIPTION:12H00 Arrivée 16H30 Fin
URL:https://www.lemontmartre.ca/event/club-de-bridge-de-la-capitale-13h00/2024-08-09/
CATEGORIES:Marie-Guyart
END:VEVENT
BEGIN:VEVENT
DTSTART;TZID=America/Montreal:20240809T180000
DTEND;TZID=America/Montreal:20240809T213000
DTSTAMP:20260420T142954
CREATED:20240423T174218Z
LAST-MODIFIED:20240918T191639Z
UID:10002057-1723226400-1723239000@www.lemontmartre.ca
SUMMARY:En route vers la liberté 19H30
DESCRIPTION:18H00 Arrivée 21H30 Fin
URL:https://www.lemontmartre.ca/event/en-route-vers-la-liberte-19h30/2024-08-09/
CATEGORIES:Marie-Guyart
END:VEVENT
BEGIN:VEVENT
DTSTART;TZID=America/Montreal:20240812T120000
DTEND;TZID=America/Montreal:20240812T163000
DTSTAMP:20260420T142954
CREATED:20240423T155717Z
LAST-MODIFIED:20240423T195826Z
UID:10001523-1723464000-1723480200@www.lemontmartre.ca
SUMMARY:Club de bridge de Charlesbourg 13H00
DESCRIPTION:12H00 Arrivée 16H30 Fin
URL:https://www.lemontmartre.ca/event/club-de-bridge-de-charlesbourg-13h00/2024-08-12/
CATEGORIES:Marie-Guyart
END:VEVENT
BEGIN:VEVENT
DTSTART;TZID=America/Montreal:20240813T120000
DTEND;TZID=America/Montreal:20240813T163000
DTSTAMP:20260420T142954
CREATED:20240423T155902Z
LAST-MODIFIED:20240423T195857Z
UID:10001573-1723550400-1723566600@www.lemontmartre.ca
SUMMARY:Club de bridge l’Impératif 13H00
DESCRIPTION:12H00 Arrivée 16H30 Fin
URL:https://www.lemontmartre.ca/event/club-de-bridge-limperatif-13h00/2024-08-13/
CATEGORIES:Marie-Guyart
END:VEVENT
BEGIN:VEVENT
DTSTART;TZID=America/Montreal:20240814T120000
DTEND;TZID=America/Montreal:20240814T163000
DTSTAMP:20260420T142954
CREATED:20240423T201727Z
LAST-MODIFIED:20250822T151822Z
UID:10002152-1723636800-1723653000@www.lemontmartre.ca
SUMMARY:Club de bridge l’Entame 13H00
DESCRIPTION:12H00 Arrivée 16H30 Fin
URL:https://www.lemontmartre.ca/event/club-de-bridge-lentame-13h00-3/2024-08-14/
CATEGORIES:Marie-Guyart
END:VEVENT
BEGIN:VEVENT
DTSTART;TZID=America/Montreal:20240815T120000
DTEND;TZID=America/Montreal:20240815T163000
DTSTAMP:20260420T142954
CREATED:20240423T172114Z
LAST-MODIFIED:20241220T180539Z
UID:10001891-1723723200-1723739400@www.lemontmartre.ca
SUMMARY:Club de bridge de Sillery 12H45
DESCRIPTION:12H00 Arrivée 16H30
URL:https://www.lemontmartre.ca/event/club-de-bridge-de-sillery-13h00/2024-08-15/
CATEGORIES:Marie-Guyart
END:VEVENT
BEGIN:VEVENT
DTSTART;TZID=America/Montreal:20240816T120000
DTEND;TZID=America/Montreal:20240816T163000
DTSTAMP:20260420T142954
CREATED:20240423T173746Z
LAST-MODIFIED:20241218T214033Z
UID:10002006-1723809600-1723825800@www.lemontmartre.ca
SUMMARY:Club de bridge de la Capitale 12H45
DESCRIPTION:12H00 Arrivée 16H30 Fin
URL:https://www.lemontmartre.ca/event/club-de-bridge-de-la-capitale-13h00/2024-08-16/
CATEGORIES:Marie-Guyart
END:VEVENT
BEGIN:VEVENT
DTSTART;TZID=America/Montreal:20240817T080000
DTEND;TZID=America/Montreal:20240817T230000
DTSTAMP:20260420T142954
CREATED:20240627T154213Z
LAST-MODIFIED:20240627T154213Z
UID:10003592-1723881600-1723935600@www.lemontmartre.ca
SUMMARY:Mariage Olongbo & Imboua 16H
DESCRIPTION:
URL:https://www.lemontmartre.ca/event/mariage-olongbo-imboua-16h/
CATEGORIES:Marie-Guyart
END:VEVENT
BEGIN:VEVENT
DTSTART;TZID=America/Montreal:20240819T120000
DTEND;TZID=America/Montreal:20240819T163000
DTSTAMP:20260420T142954
CREATED:20240423T155717Z
LAST-MODIFIED:20240423T195826Z
UID:10001524-1724068800-1724085000@www.lemontmartre.ca
SUMMARY:Club de bridge de Charlesbourg 13H00
DESCRIPTION:12H00 Arrivée 16H30 Fin
URL:https://www.lemontmartre.ca/event/club-de-bridge-de-charlesbourg-13h00/2024-08-19/
CATEGORIES:Marie-Guyart
END:VEVENT
BEGIN:VEVENT
DTSTART;TZID=America/Montreal:20240820T120000
DTEND;TZID=America/Montreal:20240820T163000
DTSTAMP:20260420T142954
CREATED:20240423T155902Z
LAST-MODIFIED:20240423T195857Z
UID:10001574-1724155200-1724171400@www.lemontmartre.ca
SUMMARY:Club de bridge l’Impératif 13H00
DESCRIPTION:12H00 Arrivée 16H30 Fin
URL:https://www.lemontmartre.ca/event/club-de-bridge-limperatif-13h00/2024-08-20/
CATEGORIES:Marie-Guyart
END:VEVENT
BEGIN:VEVENT
DTSTART;TZID=America/Montreal:20240821T120000
DTEND;TZID=America/Montreal:20240821T163000
DTSTAMP:20260420T142954
CREATED:20240423T201727Z
LAST-MODIFIED:20250822T151822Z
UID:10002153-1724241600-1724257800@www.lemontmartre.ca
SUMMARY:Club de bridge l’Entame 13H00
DESCRIPTION:12H00 Arrivée 16H30 Fin
URL:https://www.lemontmartre.ca/event/club-de-bridge-lentame-13h00-3/2024-08-21/
CATEGORIES:Marie-Guyart
END:VEVENT
BEGIN:VEVENT
DTSTART;TZID=America/Montreal:20240822T120000
DTEND;TZID=America/Montreal:20240822T163000
DTSTAMP:20260420T142954
CREATED:20240423T172114Z
LAST-MODIFIED:20241220T180539Z
UID:10001892-1724328000-1724344200@www.lemontmartre.ca
SUMMARY:Club de bridge de Sillery 12H45
DESCRIPTION:12H00 Arrivée 16H30
URL:https://www.lemontmartre.ca/event/club-de-bridge-de-sillery-13h00/2024-08-22/
CATEGORIES:Marie-Guyart
END:VEVENT
BEGIN:VEVENT
DTSTART;TZID=America/Montreal:20240823T120000
DTEND;TZID=America/Montreal:20240823T163000
DTSTAMP:20260420T142954
CREATED:20240423T173746Z
LAST-MODIFIED:20241218T214033Z
UID:10002007-1724414400-1724430600@www.lemontmartre.ca
SUMMARY:Club de bridge de la Capitale 12H45
DESCRIPTION:12H00 Arrivée 16H30 Fin
URL:https://www.lemontmartre.ca/event/club-de-bridge-de-la-capitale-13h00/2024-08-23/
CATEGORIES:Marie-Guyart
END:VEVENT
BEGIN:VEVENT
DTSTART;TZID=America/Montreal:20240823T180000
DTEND;TZID=America/Montreal:20240823T213000
DTSTAMP:20260420T142954
CREATED:20240423T174218Z
LAST-MODIFIED:20240918T191639Z
UID:10002059-1724436000-1724448600@www.lemontmartre.ca
SUMMARY:En route vers la liberté 19H30
DESCRIPTION:18H00 Arrivée 21H30 Fin
URL:https://www.lemontmartre.ca/event/en-route-vers-la-liberte-19h30/2024-08-23/
CATEGORIES:Marie-Guyart
END:VEVENT
BEGIN:VEVENT
DTSTART;TZID=America/Montreal:20240826T120000
DTEND;TZID=America/Montreal:20240826T163000
DTSTAMP:20260420T142954
CREATED:20240423T155717Z
LAST-MODIFIED:20240423T195826Z
UID:10001525-1724673600-1724689800@www.lemontmartre.ca
SUMMARY:Club de bridge de Charlesbourg 13H00
DESCRIPTION:12H00 Arrivée 16H30 Fin
URL:https://www.lemontmartre.ca/event/club-de-bridge-de-charlesbourg-13h00/2024-08-26/
CATEGORIES:Marie-Guyart
END:VEVENT
BEGIN:VEVENT
DTSTART;TZID=America/Montreal:20240827T120000
DTEND;TZID=America/Montreal:20240827T163000
DTSTAMP:20260420T142954
CREATED:20240423T155902Z
LAST-MODIFIED:20240423T195857Z
UID:10001575-1724760000-1724776200@www.lemontmartre.ca
SUMMARY:Club de bridge l’Impératif 13H00
DESCRIPTION:12H00 Arrivée 16H30 Fin
URL:https://www.lemontmartre.ca/event/club-de-bridge-limperatif-13h00/2024-08-27/
CATEGORIES:Marie-Guyart
END:VEVENT
BEGIN:VEVENT
DTSTART;TZID=America/Montreal:20240828T120000
DTEND;TZID=America/Montreal:20240828T163000
DTSTAMP:20260420T142954
CREATED:20240423T201727Z
LAST-MODIFIED:20250822T151822Z
UID:10002154-1724846400-1724862600@www.lemontmartre.ca
SUMMARY:Club de bridge l’Entame 13H00
DESCRIPTION:12H00 Arrivée 16H30 Fin
URL:https://www.lemontmartre.ca/event/club-de-bridge-lentame-13h00-3/2024-08-28/
CATEGORIES:Marie-Guyart
END:VEVENT
BEGIN:VEVENT
DTSTART;TZID=America/Montreal:20240829T120000
DTEND;TZID=America/Montreal:20240829T163000
DTSTAMP:20260420T142954
CREATED:20240423T172114Z
LAST-MODIFIED:20241220T180539Z
UID:10001893-1724932800-1724949000@www.lemontmartre.ca
SUMMARY:Club de bridge de Sillery 12H45
DESCRIPTION:12H00 Arrivée 16H30
URL:https://www.lemontmartre.ca/event/club-de-bridge-de-sillery-13h00/2024-08-29/
CATEGORIES:Marie-Guyart
END:VEVENT
BEGIN:VEVENT
DTSTART;TZID=America/Montreal:20240830T120000
DTEND;TZID=America/Montreal:20240830T163000
DTSTAMP:20260420T142954
CREATED:20240423T173746Z
LAST-MODIFIED:20241218T214033Z
UID:10002008-1725019200-1725035400@www.lemontmartre.ca
SUMMARY:Club de bridge de la Capitale 12H45
DESCRIPTION:12H00 Arrivée 16H30 Fin
URL:https://www.lemontmartre.ca/event/club-de-bridge-de-la-capitale-13h00/2024-08-30/
CATEGORIES:Marie-Guyart
END:VEVENT
BEGIN:VEVENT
DTSTART;TZID=America/Montreal:20240830T180000
DTEND;TZID=America/Montreal:20240830T213000
DTSTAMP:20260420T142954
CREATED:20240423T174218Z
LAST-MODIFIED:20240918T191639Z
UID:10002060-1725040800-1725053400@www.lemontmartre.ca
SUMMARY:En route vers la liberté 19H30
DESCRIPTION:18H00 Arrivée 21H30 Fin
URL:https://www.lemontmartre.ca/event/en-route-vers-la-liberte-19h30/2024-08-30/
CATEGORIES:Marie-Guyart
END:VEVENT
END:VCALENDAR