BEGIN:VCALENDAR
VERSION:2.0
PRODID:-//Le Montmartre - ECPv6.15.13//NONSGML v1.0//EN
CALSCALE:GREGORIAN
METHOD:PUBLISH
X-WR-CALNAME:Le Montmartre
X-ORIGINAL-URL:https://www.lemontmartre.ca
X-WR-CALDESC:Évènements pour Le Montmartre
REFRESH-INTERVAL;VALUE=DURATION:PT1H
X-Robots-Tag:noindex
X-PUBLISHED-TTL:PT1H
BEGIN:VTIMEZONE
TZID:America/Montreal
BEGIN:DAYLIGHT
TZOFFSETFROM:-0500
TZOFFSETTO:-0400
TZNAME:EDT
DTSTART:20230312T070000
END:DAYLIGHT
BEGIN:STANDARD
TZOFFSETFROM:-0400
TZOFFSETTO:-0500
TZNAME:EST
DTSTART:20231105T060000
END:STANDARD
BEGIN:DAYLIGHT
TZOFFSETFROM:-0500
TZOFFSETTO:-0400
TZNAME:EDT
DTSTART:20240310T070000
END:DAYLIGHT
BEGIN:STANDARD
TZOFFSETFROM:-0400
TZOFFSETTO:-0500
TZNAME:EST
DTSTART:20241103T060000
END:STANDARD
BEGIN:DAYLIGHT
TZOFFSETFROM:-0500
TZOFFSETTO:-0400
TZNAME:EDT
DTSTART:20250309T070000
END:DAYLIGHT
BEGIN:STANDARD
TZOFFSETFROM:-0400
TZOFFSETTO:-0500
TZNAME:EST
DTSTART:20251102T060000
END:STANDARD
END:VTIMEZONE
BEGIN:VEVENT
DTSTART;TZID=America/Montreal:20240603T120000
DTEND;TZID=America/Montreal:20240603T163000
DTSTAMP:20260422T154224
CREATED:20240423T155717Z
LAST-MODIFIED:20240423T195826Z
UID:10001513-1717416000-1717432200@www.lemontmartre.ca
SUMMARY:Club de bridge de Charlesbourg 13H00
DESCRIPTION:12H00 Arrivée 16H30 Fin
URL:https://www.lemontmartre.ca/event/club-de-bridge-de-charlesbourg-13h00/2024-06-03/
CATEGORIES:Marie-Guyart
END:VEVENT
BEGIN:VEVENT
DTSTART;TZID=America/Montreal:20240604T093000
DTEND;TZID=America/Montreal:20240604T143000
DTSTAMP:20260422T154224
CREATED:20240604T203002Z
LAST-MODIFIED:20240604T203002Z
UID:10003171-1717493400-1717511400@www.lemontmartre.ca
SUMMARY:Repas communautaire 12H
DESCRIPTION:
URL:https://www.lemontmartre.ca/event/repas-communautaire-12h/
CATEGORIES:Marie-Guyart
END:VEVENT
BEGIN:VEVENT
DTSTART;TZID=America/Montreal:20240604T120000
DTEND;TZID=America/Montreal:20240604T163000
DTSTAMP:20260422T154224
CREATED:20240423T155902Z
LAST-MODIFIED:20240423T195857Z
UID:10001563-1717502400-1717518600@www.lemontmartre.ca
SUMMARY:Club de bridge l’Impératif 13H00
DESCRIPTION:12H00 Arrivée 16H30 Fin
URL:https://www.lemontmartre.ca/event/club-de-bridge-limperatif-13h00/2024-06-04/
CATEGORIES:Marie-Guyart
END:VEVENT
BEGIN:VEVENT
DTSTART;TZID=America/Montreal:20240605T090000
DTEND;TZID=America/Montreal:20240605T120000
DTSTAMP:20260422T154224
CREATED:20240604T195020Z
LAST-MODIFIED:20240604T195020Z
UID:10002792-1717578000-1717588800@www.lemontmartre.ca
SUMMARY:Ligue de Bridge de Québec 9H15
DESCRIPTION:
URL:https://www.lemontmartre.ca/event/ligue-de-bridge-de-quebec-9h15/
CATEGORIES:Marie-Guyart
END:VEVENT
BEGIN:VEVENT
DTSTART;TZID=America/Montreal:20240605T120000
DTEND;TZID=America/Montreal:20240605T163000
DTSTAMP:20260422T154224
CREATED:20240423T201727Z
LAST-MODIFIED:20250822T151822Z
UID:10002142-1717588800-1717605000@www.lemontmartre.ca
SUMMARY:Club de bridge l’Entame 13H00
DESCRIPTION:12H00 Arrivée 16H30 Fin
URL:https://www.lemontmartre.ca/event/club-de-bridge-lentame-13h00-3/2024-06-05/
CATEGORIES:Marie-Guyart
END:VEVENT
BEGIN:VEVENT
DTSTART;TZID=America/Montreal:20240606T120000
DTEND;TZID=America/Montreal:20240606T163000
DTSTAMP:20260422T154224
CREATED:20240423T172114Z
LAST-MODIFIED:20241220T180539Z
UID:10001881-1717675200-1717691400@www.lemontmartre.ca
SUMMARY:Club de bridge de Sillery 12H45
DESCRIPTION:12H00 Arrivée 16H30
URL:https://www.lemontmartre.ca/event/club-de-bridge-de-sillery-13h00/2024-06-06/
CATEGORIES:Marie-Guyart
END:VEVENT
BEGIN:VEVENT
DTSTART;TZID=America/Montreal:20240607T120000
DTEND;TZID=America/Montreal:20240607T163000
DTSTAMP:20260422T154224
CREATED:20240423T173746Z
LAST-MODIFIED:20241218T214033Z
UID:10001996-1717761600-1717777800@www.lemontmartre.ca
SUMMARY:Club de bridge de la Capitale 12H45
DESCRIPTION:12H00 Arrivée 16H30 Fin
URL:https://www.lemontmartre.ca/event/club-de-bridge-de-la-capitale-13h00/2024-06-07/
CATEGORIES:Marie-Guyart
END:VEVENT
BEGIN:VEVENT
DTSTART;TZID=America/Montreal:20240607T180000
DTEND;TZID=America/Montreal:20240607T213000
DTSTAMP:20260422T154224
CREATED:20240423T174218Z
LAST-MODIFIED:20240918T191639Z
UID:10002048-1717783200-1717795800@www.lemontmartre.ca
SUMMARY:En route vers la liberté 19H30
DESCRIPTION:18H00 Arrivée 21H30 Fin
URL:https://www.lemontmartre.ca/event/en-route-vers-la-liberte-19h30/2024-06-07/
CATEGORIES:Marie-Guyart
END:VEVENT
BEGIN:VEVENT
DTSTART;TZID=America/Montreal:20240608T093000
DTEND;TZID=America/Montreal:20240608T210000
DTSTAMP:20260422T154224
CREATED:20240604T202742Z
LAST-MODIFIED:20240604T202742Z
UID:10003169-1717839000-1717880400@www.lemontmartre.ca
SUMMARY:Communauté Brésilienne 16H
DESCRIPTION:
URL:https://www.lemontmartre.ca/event/communaute-bresilienne-16h/
CATEGORIES:Marie-Guyart
END:VEVENT
BEGIN:VEVENT
DTSTART;TZID=America/Montreal:20240609T120000
DTEND;TZID=America/Montreal:20240609T143000
DTSTAMP:20260422T154224
CREATED:20240604T215448Z
LAST-MODIFIED:20240604T215448Z
UID:10003571-1717934400-1717943400@www.lemontmartre.ca
SUMMARY:Repas communautaire 12H
DESCRIPTION:
URL:https://www.lemontmartre.ca/event/repas-communautaire-12h-2/
CATEGORIES:Marie-Guyart
END:VEVENT
BEGIN:VEVENT
DTSTART;TZID=America/Montreal:20240610T120000
DTEND;TZID=America/Montreal:20240610T163000
DTSTAMP:20260422T154224
CREATED:20240423T155717Z
LAST-MODIFIED:20240423T195826Z
UID:10001514-1718020800-1718037000@www.lemontmartre.ca
SUMMARY:Club de bridge de Charlesbourg 13H00
DESCRIPTION:12H00 Arrivée 16H30 Fin
URL:https://www.lemontmartre.ca/event/club-de-bridge-de-charlesbourg-13h00/2024-06-10/
CATEGORIES:Marie-Guyart
END:VEVENT
BEGIN:VEVENT
DTSTART;TZID=America/Montreal:20240611T120000
DTEND;TZID=America/Montreal:20240611T163000
DTSTAMP:20260422T154224
CREATED:20240423T155902Z
LAST-MODIFIED:20240423T195857Z
UID:10001564-1718107200-1718123400@www.lemontmartre.ca
SUMMARY:Club de bridge l’Impératif 13H00
DESCRIPTION:12H00 Arrivée 16H30 Fin
URL:https://www.lemontmartre.ca/event/club-de-bridge-limperatif-13h00/2024-06-11/
CATEGORIES:Marie-Guyart
END:VEVENT
BEGIN:VEVENT
DTSTART;TZID=America/Montreal:20240612T120000
DTEND;TZID=America/Montreal:20240612T163000
DTSTAMP:20260422T154224
CREATED:20240423T201727Z
LAST-MODIFIED:20250822T151822Z
UID:10002143-1718193600-1718209800@www.lemontmartre.ca
SUMMARY:Club de bridge l’Entame 13H00
DESCRIPTION:12H00 Arrivée 16H30 Fin
URL:https://www.lemontmartre.ca/event/club-de-bridge-lentame-13h00-3/2024-06-12/
CATEGORIES:Marie-Guyart
END:VEVENT
BEGIN:VEVENT
DTSTART;TZID=America/Montreal:20240613T120000
DTEND;TZID=America/Montreal:20240613T163000
DTSTAMP:20260422T154224
CREATED:20240423T172114Z
LAST-MODIFIED:20241220T180539Z
UID:10001882-1718280000-1718296200@www.lemontmartre.ca
SUMMARY:Club de bridge de Sillery 12H45
DESCRIPTION:12H00 Arrivée 16H30
URL:https://www.lemontmartre.ca/event/club-de-bridge-de-sillery-13h00/2024-06-13/
CATEGORIES:Marie-Guyart
END:VEVENT
BEGIN:VEVENT
DTSTART;TZID=America/Montreal:20240614T120000
DTEND;TZID=America/Montreal:20240614T163000
DTSTAMP:20260422T154224
CREATED:20240423T173746Z
LAST-MODIFIED:20241218T214033Z
UID:10001997-1718366400-1718382600@www.lemontmartre.ca
SUMMARY:Club de bridge de la Capitale 12H45
DESCRIPTION:12H00 Arrivée 16H30 Fin
URL:https://www.lemontmartre.ca/event/club-de-bridge-de-la-capitale-13h00/2024-06-14/
CATEGORIES:Marie-Guyart
END:VEVENT
BEGIN:VEVENT
DTSTART;TZID=America/Montreal:20240614T180000
DTEND;TZID=America/Montreal:20240614T213000
DTSTAMP:20260422T154224
CREATED:20240423T174218Z
LAST-MODIFIED:20240918T191639Z
UID:10002049-1718388000-1718400600@www.lemontmartre.ca
SUMMARY:En route vers la liberté 19H30
DESCRIPTION:18H00 Arrivée 21H30 Fin
URL:https://www.lemontmartre.ca/event/en-route-vers-la-liberte-19h30/2024-06-14/
CATEGORIES:Marie-Guyart
END:VEVENT
BEGIN:VEVENT
DTSTART;TZID=America/Montreal:20240617T120000
DTEND;TZID=America/Montreal:20240617T163000
DTSTAMP:20260422T154224
CREATED:20240423T155717Z
LAST-MODIFIED:20240423T195826Z
UID:10001515-1718625600-1718641800@www.lemontmartre.ca
SUMMARY:Club de bridge de Charlesbourg 13H00
DESCRIPTION:12H00 Arrivée 16H30 Fin
URL:https://www.lemontmartre.ca/event/club-de-bridge-de-charlesbourg-13h00/2024-06-17/
CATEGORIES:Marie-Guyart
END:VEVENT
BEGIN:VEVENT
DTSTART;TZID=America/Montreal:20240618T120000
DTEND;TZID=America/Montreal:20240618T163000
DTSTAMP:20260422T154224
CREATED:20240423T155902Z
LAST-MODIFIED:20240423T195857Z
UID:10001565-1718712000-1718728200@www.lemontmartre.ca
SUMMARY:Club de bridge l’Impératif 13H00
DESCRIPTION:12H00 Arrivée 16H30 Fin
URL:https://www.lemontmartre.ca/event/club-de-bridge-limperatif-13h00/2024-06-18/
CATEGORIES:Marie-Guyart
END:VEVENT
BEGIN:VEVENT
DTSTART;TZID=America/Montreal:20240619T120000
DTEND;TZID=America/Montreal:20240619T163000
DTSTAMP:20260422T154224
CREATED:20240423T201727Z
LAST-MODIFIED:20250822T151822Z
UID:10002144-1718798400-1718814600@www.lemontmartre.ca
SUMMARY:Club de bridge l’Entame 13H00
DESCRIPTION:12H00 Arrivée 16H30 Fin
URL:https://www.lemontmartre.ca/event/club-de-bridge-lentame-13h00-3/2024-06-19/
CATEGORIES:Marie-Guyart
END:VEVENT
BEGIN:VEVENT
DTSTART;TZID=America/Montreal:20240620T120000
DTEND;TZID=America/Montreal:20240620T163000
DTSTAMP:20260422T154224
CREATED:20240423T172114Z
LAST-MODIFIED:20241220T180539Z
UID:10001883-1718884800-1718901000@www.lemontmartre.ca
SUMMARY:Club de bridge de Sillery 12H45
DESCRIPTION:12H00 Arrivée 16H30
URL:https://www.lemontmartre.ca/event/club-de-bridge-de-sillery-13h00/2024-06-20/
CATEGORIES:Marie-Guyart
END:VEVENT
BEGIN:VEVENT
DTSTART;TZID=America/Montreal:20240621T120000
DTEND;TZID=America/Montreal:20240621T163000
DTSTAMP:20260422T154224
CREATED:20240423T173746Z
LAST-MODIFIED:20241218T214033Z
UID:10001998-1718971200-1718987400@www.lemontmartre.ca
SUMMARY:Club de bridge de la Capitale 12H45
DESCRIPTION:12H00 Arrivée 16H30 Fin
URL:https://www.lemontmartre.ca/event/club-de-bridge-de-la-capitale-13h00/2024-06-21/
CATEGORIES:Marie-Guyart
END:VEVENT
BEGIN:VEVENT
DTSTART;TZID=America/Montreal:20240621T180000
DTEND;TZID=America/Montreal:20240621T213000
DTSTAMP:20260422T154224
CREATED:20240423T174218Z
LAST-MODIFIED:20240918T191639Z
UID:10002050-1718992800-1719005400@www.lemontmartre.ca
SUMMARY:En route vers la liberté 19H30
DESCRIPTION:18H00 Arrivée 21H30 Fin
URL:https://www.lemontmartre.ca/event/en-route-vers-la-liberte-19h30/2024-06-21/
CATEGORIES:Marie-Guyart
END:VEVENT
BEGIN:VEVENT
DTSTART;TZID=America/Montreal:20240624T120000
DTEND;TZID=America/Montreal:20240624T163000
DTSTAMP:20260422T154224
CREATED:20240423T155717Z
LAST-MODIFIED:20240423T195826Z
UID:10001516-1719230400-1719246600@www.lemontmartre.ca
SUMMARY:Club de bridge de Charlesbourg 13H00
DESCRIPTION:12H00 Arrivée 16H30 Fin
URL:https://www.lemontmartre.ca/event/club-de-bridge-de-charlesbourg-13h00/2024-06-24/
CATEGORIES:Marie-Guyart
END:VEVENT
BEGIN:VEVENT
DTSTART;TZID=America/Montreal:20240625T120000
DTEND;TZID=America/Montreal:20240625T163000
DTSTAMP:20260422T154224
CREATED:20240423T155902Z
LAST-MODIFIED:20240423T195857Z
UID:10001566-1719316800-1719333000@www.lemontmartre.ca
SUMMARY:Club de bridge l’Impératif 13H00
DESCRIPTION:12H00 Arrivée 16H30 Fin
URL:https://www.lemontmartre.ca/event/club-de-bridge-limperatif-13h00/2024-06-25/
CATEGORIES:Marie-Guyart
END:VEVENT
BEGIN:VEVENT
DTSTART;TZID=America/Montreal:20240626T093000
DTEND;TZID=America/Montreal:20240626T153000
DTSTAMP:20260422T154224
CREATED:20240607T191952Z
LAST-MODIFIED:20240607T191952Z
UID:10003576-1719394200-1719415800@www.lemontmartre.ca
SUMMARY:AQDR 10H
DESCRIPTION:
URL:https://www.lemontmartre.ca/event/aqdr-10h/
CATEGORIES:Marie-Guyart
END:VEVENT
BEGIN:VEVENT
DTSTART;TZID=America/Montreal:20240627T120000
DTEND;TZID=America/Montreal:20240627T163000
DTSTAMP:20260422T154224
CREATED:20240423T172114Z
LAST-MODIFIED:20241220T180539Z
UID:10001884-1719489600-1719505800@www.lemontmartre.ca
SUMMARY:Club de bridge de Sillery 12H45
DESCRIPTION:12H00 Arrivée 16H30
URL:https://www.lemontmartre.ca/event/club-de-bridge-de-sillery-13h00/2024-06-27/
CATEGORIES:Marie-Guyart
END:VEVENT
BEGIN:VEVENT
DTSTART;TZID=America/Montreal:20240628T120000
DTEND;TZID=America/Montreal:20240628T163000
DTSTAMP:20260422T154224
CREATED:20240423T173746Z
LAST-MODIFIED:20241218T214033Z
UID:10001999-1719576000-1719592200@www.lemontmartre.ca
SUMMARY:Club de bridge de la Capitale 12H45
DESCRIPTION:12H00 Arrivée 16H30 Fin
URL:https://www.lemontmartre.ca/event/club-de-bridge-de-la-capitale-13h00/2024-06-28/
CATEGORIES:Marie-Guyart
END:VEVENT
BEGIN:VEVENT
DTSTART;TZID=America/Montreal:20240628T180000
DTEND;TZID=America/Montreal:20240628T213000
DTSTAMP:20260422T154224
CREATED:20240423T174218Z
LAST-MODIFIED:20240918T191639Z
UID:10002051-1719597600-1719610200@www.lemontmartre.ca
SUMMARY:En route vers la liberté 19H30
DESCRIPTION:18H00 Arrivée 21H30 Fin
URL:https://www.lemontmartre.ca/event/en-route-vers-la-liberte-19h30/2024-06-28/
CATEGORIES:Marie-Guyart
END:VEVENT
END:VCALENDAR