BEGIN:VCALENDAR
VERSION:2.0
PRODID:-//Le Montmartre - ECPv6.15.13//NONSGML v1.0//EN
CALSCALE:GREGORIAN
METHOD:PUBLISH
X-WR-CALNAME:Le Montmartre
X-ORIGINAL-URL:https://www.lemontmartre.ca
X-WR-CALDESC:Évènements pour Le Montmartre
REFRESH-INTERVAL;VALUE=DURATION:PT1H
X-Robots-Tag:noindex
X-PUBLISHED-TTL:PT1H
BEGIN:VTIMEZONE
TZID:America/Montreal
BEGIN:DAYLIGHT
TZOFFSETFROM:-0500
TZOFFSETTO:-0400
TZNAME:EDT
DTSTART:20230312T070000
END:DAYLIGHT
BEGIN:STANDARD
TZOFFSETFROM:-0400
TZOFFSETTO:-0500
TZNAME:EST
DTSTART:20231105T060000
END:STANDARD
BEGIN:DAYLIGHT
TZOFFSETFROM:-0500
TZOFFSETTO:-0400
TZNAME:EDT
DTSTART:20240310T070000
END:DAYLIGHT
BEGIN:STANDARD
TZOFFSETFROM:-0400
TZOFFSETTO:-0500
TZNAME:EST
DTSTART:20241103T060000
END:STANDARD
BEGIN:DAYLIGHT
TZOFFSETFROM:-0500
TZOFFSETTO:-0400
TZNAME:EDT
DTSTART:20250309T070000
END:DAYLIGHT
BEGIN:STANDARD
TZOFFSETFROM:-0400
TZOFFSETTO:-0500
TZNAME:EST
DTSTART:20251102T060000
END:STANDARD
END:VTIMEZONE
BEGIN:VEVENT
DTSTART;TZID=America/Montreal:20240401T120000
DTEND;TZID=America/Montreal:20240401T163000
DTSTAMP:20260422T215409
CREATED:20240423T155717Z
LAST-MODIFIED:20240423T195826Z
UID:10001504-1711972800-1711989000@www.lemontmartre.ca
SUMMARY:Club de bridge de Charlesbourg 13H00
DESCRIPTION:12H00 Arrivée 16H30 Fin
URL:https://www.lemontmartre.ca/event/club-de-bridge-de-charlesbourg-13h00/2024-04-01/
CATEGORIES:Marie-Guyart
END:VEVENT
BEGIN:VEVENT
DTSTART;TZID=America/Montreal:20240402T120000
DTEND;TZID=America/Montreal:20240402T163000
DTSTAMP:20260422T215409
CREATED:20240423T155902Z
LAST-MODIFIED:20240423T195857Z
UID:10001554-1712059200-1712075400@www.lemontmartre.ca
SUMMARY:Club de bridge l’Impératif 13H00
DESCRIPTION:12H00 Arrivée 16H30 Fin
URL:https://www.lemontmartre.ca/event/club-de-bridge-limperatif-13h00/2024-04-02/
CATEGORIES:Marie-Guyart
END:VEVENT
BEGIN:VEVENT
DTSTART;TZID=America/Montreal:20240403T130000
DTEND;TZID=America/Montreal:20240403T160000
DTSTAMP:20260422T215409
CREATED:20240423T161102Z
LAST-MODIFIED:20240423T161102Z
UID:10001857-1712149200-1712160000@www.lemontmartre.ca
SUMMARY:AQDR 14H
DESCRIPTION:
URL:https://www.lemontmartre.ca/event/aqdr-14h/2024-04-03/
CATEGORIES:Marie-Guyart
END:VEVENT
BEGIN:VEVENT
DTSTART;TZID=America/Montreal:20240404T120000
DTEND;TZID=America/Montreal:20240404T163000
DTSTAMP:20260422T215409
CREATED:20240423T172114Z
LAST-MODIFIED:20241220T180539Z
UID:10001872-1712232000-1712248200@www.lemontmartre.ca
SUMMARY:Club de bridge de Sillery 12H45
DESCRIPTION:12H00 Arrivée 16H30
URL:https://www.lemontmartre.ca/event/club-de-bridge-de-sillery-13h00/2024-04-04/
CATEGORIES:Marie-Guyart
END:VEVENT
BEGIN:VEVENT
DTSTART;TZID=America/Montreal:20240405T120000
DTEND;TZID=America/Montreal:20240405T163000
DTSTAMP:20260422T215409
CREATED:20240423T173746Z
LAST-MODIFIED:20241218T214033Z
UID:10001987-1712318400-1712334600@www.lemontmartre.ca
SUMMARY:Club de bridge de la Capitale 12H45
DESCRIPTION:12H00 Arrivée 16H30 Fin
URL:https://www.lemontmartre.ca/event/club-de-bridge-de-la-capitale-13h00/2024-04-05/
CATEGORIES:Marie-Guyart
END:VEVENT
BEGIN:VEVENT
DTSTART;TZID=America/Montreal:20240405T130000
DTEND;TZID=America/Montreal:20240405T230000
DTSTAMP:20260422T215409
CREATED:20240423T174529Z
LAST-MODIFIED:20240423T174529Z
UID:10002080-1712322000-1712358000@www.lemontmartre.ca
SUMMARY:Orchidophiles
DESCRIPTION:
URL:https://www.lemontmartre.ca/event/orchidophiles-3/
CATEGORIES:Marie-Guyart
END:VEVENT
BEGIN:VEVENT
DTSTART;TZID=America/Montreal:20240405T180000
DTEND;TZID=America/Montreal:20240405T213000
DTSTAMP:20260422T215409
CREATED:20240423T174218Z
LAST-MODIFIED:20240918T191639Z
UID:10002039-1712340000-1712352600@www.lemontmartre.ca
SUMMARY:En route vers la liberté 19H30
DESCRIPTION:18H00 Arrivée 21H30 Fin
URL:https://www.lemontmartre.ca/event/en-route-vers-la-liberte-19h30/2024-04-05/
CATEGORIES:Marie-Guyart
END:VEVENT
BEGIN:VEVENT
DTSTART;TZID=America/Montreal:20240406T063000
DTEND;TZID=America/Montreal:20240406T173000
DTSTAMP:20260422T215409
CREATED:20240423T175957Z
LAST-MODIFIED:20240423T175957Z
UID:10002083-1712385000-1712424600@www.lemontmartre.ca
SUMMARY:Orchidophiles 12H
DESCRIPTION:
URL:https://www.lemontmartre.ca/event/orchidophiles-12h-3/
CATEGORIES:Marie-Guyart
END:VEVENT
BEGIN:VEVENT
DTSTART;TZID=America/Montreal:20240407T070000
DTEND;TZID=America/Montreal:20240407T200000
DTSTAMP:20260422T215409
CREATED:20240423T181559Z
LAST-MODIFIED:20240423T181559Z
UID:10002086-1712473200-1712520000@www.lemontmartre.ca
SUMMARY:Orchidophiles 9H
DESCRIPTION:
URL:https://www.lemontmartre.ca/event/orchidophiles-9h-2/
CATEGORIES:Marie-Guyart
END:VEVENT
BEGIN:VEVENT
DTSTART;TZID=America/Montreal:20240408T120000
DTEND;TZID=America/Montreal:20240408T163000
DTSTAMP:20260422T215409
CREATED:20240423T155717Z
LAST-MODIFIED:20240423T195826Z
UID:10001505-1712577600-1712593800@www.lemontmartre.ca
SUMMARY:Club de bridge de Charlesbourg 13H00
DESCRIPTION:12H00 Arrivée 16H30 Fin
URL:https://www.lemontmartre.ca/event/club-de-bridge-de-charlesbourg-13h00/2024-04-08/
CATEGORIES:Marie-Guyart
END:VEVENT
BEGIN:VEVENT
DTSTART;TZID=America/Montreal:20240409T120000
DTEND;TZID=America/Montreal:20240409T163000
DTSTAMP:20260422T215409
CREATED:20240423T155902Z
LAST-MODIFIED:20240423T195857Z
UID:10001555-1712664000-1712680200@www.lemontmartre.ca
SUMMARY:Club de bridge l’Impératif 13H00
DESCRIPTION:12H00 Arrivée 16H30 Fin
URL:https://www.lemontmartre.ca/event/club-de-bridge-limperatif-13h00/2024-04-09/
CATEGORIES:Marie-Guyart
END:VEVENT
BEGIN:VEVENT
DTSTART;TZID=America/Montreal:20240410T130000
DTEND;TZID=America/Montreal:20240410T160000
DTSTAMP:20260422T215409
CREATED:20240423T161102Z
LAST-MODIFIED:20240423T161102Z
UID:10001858-1712754000-1712764800@www.lemontmartre.ca
SUMMARY:AQDR 14H
DESCRIPTION:
URL:https://www.lemontmartre.ca/event/aqdr-14h/2024-04-10/
CATEGORIES:Marie-Guyart
END:VEVENT
BEGIN:VEVENT
DTSTART;TZID=America/Montreal:20240411T120000
DTEND;TZID=America/Montreal:20240411T163000
DTSTAMP:20260422T215409
CREATED:20240423T172114Z
LAST-MODIFIED:20241220T180539Z
UID:10001873-1712836800-1712853000@www.lemontmartre.ca
SUMMARY:Club de bridge de Sillery 12H45
DESCRIPTION:12H00 Arrivée 16H30
URL:https://www.lemontmartre.ca/event/club-de-bridge-de-sillery-13h00/2024-04-11/
CATEGORIES:Marie-Guyart
END:VEVENT
BEGIN:VEVENT
DTSTART;TZID=America/Montreal:20240411T193000
DTEND;TZID=America/Montreal:20240411T210000
DTSTAMP:20260422T215409
CREATED:20240423T194906Z
LAST-MODIFIED:20240423T194936Z
UID:10002101-1712863800-1712869200@www.lemontmartre.ca
SUMMARY:Défis et débats 19H30
DESCRIPTION:
URL:https://www.lemontmartre.ca/event/defis-et-debats-19h30/
CATEGORIES:Marie-Guyart
END:VEVENT
BEGIN:VEVENT
DTSTART;TZID=America/Montreal:20240412T120000
DTEND;TZID=America/Montreal:20240412T163000
DTSTAMP:20260422T215409
CREATED:20240423T173746Z
LAST-MODIFIED:20241218T214033Z
UID:10001988-1712923200-1712939400@www.lemontmartre.ca
SUMMARY:Club de bridge de la Capitale 12H45
DESCRIPTION:12H00 Arrivée 16H30 Fin
URL:https://www.lemontmartre.ca/event/club-de-bridge-de-la-capitale-13h00/2024-04-12/
CATEGORIES:Marie-Guyart
END:VEVENT
BEGIN:VEVENT
DTSTART;TZID=America/Montreal:20240412T180000
DTEND;TZID=America/Montreal:20240412T213000
DTSTAMP:20260422T215409
CREATED:20240423T174218Z
LAST-MODIFIED:20240918T191639Z
UID:10002040-1712944800-1712957400@www.lemontmartre.ca
SUMMARY:En route vers la liberté 19H30
DESCRIPTION:18H00 Arrivée 21H30 Fin
URL:https://www.lemontmartre.ca/event/en-route-vers-la-liberte-19h30/2024-04-12/
CATEGORIES:Marie-Guyart
END:VEVENT
BEGIN:VEVENT
DTSTART;TZID=America/Montreal:20240413T120000
DTEND;TZID=America/Montreal:20240413T160000
DTSTAMP:20260422T215409
CREATED:20240423T200515Z
LAST-MODIFIED:20240423T200515Z
UID:10002105-1713009600-1713024000@www.lemontmartre.ca
SUMMARY:Club de bridge 13H
DESCRIPTION:
URL:https://www.lemontmartre.ca/event/club-de-bridge-13h/
CATEGORIES:Marie-Guyart
END:VEVENT
BEGIN:VEVENT
DTSTART;TZID=America/Montreal:20240415T120000
DTEND;TZID=America/Montreal:20240415T163000
DTSTAMP:20260422T215409
CREATED:20240423T155717Z
LAST-MODIFIED:20240423T195826Z
UID:10001506-1713182400-1713198600@www.lemontmartre.ca
SUMMARY:Club de bridge de Charlesbourg 13H00
DESCRIPTION:12H00 Arrivée 16H30 Fin
URL:https://www.lemontmartre.ca/event/club-de-bridge-de-charlesbourg-13h00/2024-04-15/
CATEGORIES:Marie-Guyart
END:VEVENT
BEGIN:VEVENT
DTSTART;TZID=America/Montreal:20240416T090000
DTEND;TZID=America/Montreal:20240416T120000
DTSTAMP:20260422T215409
CREATED:20240423T201219Z
LAST-MODIFIED:20240423T201219Z
UID:10002111-1713258000-1713268800@www.lemontmartre.ca
SUMMARY:Ligue de bridge de Québec 9H
DESCRIPTION:
URL:https://www.lemontmartre.ca/event/ligue-de-bridge-de-quebec-9h/
CATEGORIES:Marie-Guyart
END:VEVENT
BEGIN:VEVENT
DTSTART;TZID=America/Montreal:20240416T120000
DTEND;TZID=America/Montreal:20240416T163000
DTSTAMP:20260422T215409
CREATED:20240423T155902Z
LAST-MODIFIED:20240423T195857Z
UID:10001556-1713268800-1713285000@www.lemontmartre.ca
SUMMARY:Club de bridge l’Impératif 13H00
DESCRIPTION:12H00 Arrivée 16H30 Fin
URL:https://www.lemontmartre.ca/event/club-de-bridge-limperatif-13h00/2024-04-16/
CATEGORIES:Marie-Guyart
END:VEVENT
BEGIN:VEVENT
DTSTART;TZID=America/Montreal:20240416T173000
DTEND;TZID=America/Montreal:20240416T220000
DTSTAMP:20260422T215409
CREATED:20240423T201355Z
LAST-MODIFIED:20240423T201355Z
UID:10002119-1713288600-1713304800@www.lemontmartre.ca
SUMMARY:Orchidophiles de Québec 19H00
DESCRIPTION:
URL:https://www.lemontmartre.ca/event/orchidophiles-de-quebec-19h00/2024-04-16/
CATEGORIES:Marie-Guyart
END:VEVENT
BEGIN:VEVENT
DTSTART;TZID=America/Montreal:20240417T120000
DTEND;TZID=America/Montreal:20240417T163000
DTSTAMP:20260422T215409
CREATED:20240423T201727Z
LAST-MODIFIED:20250822T151822Z
UID:10002135-1713355200-1713371400@www.lemontmartre.ca
SUMMARY:Club de bridge l’Entame 13H00
DESCRIPTION:12H00 Arrivée 16H30 Fin
URL:https://www.lemontmartre.ca/event/club-de-bridge-lentame-13h00-3/2024-04-17/
CATEGORIES:Marie-Guyart
END:VEVENT
BEGIN:VEVENT
DTSTART;TZID=America/Montreal:20240418T120000
DTEND;TZID=America/Montreal:20240418T163000
DTSTAMP:20260422T215409
CREATED:20240423T172114Z
LAST-MODIFIED:20241220T180539Z
UID:10001874-1713441600-1713457800@www.lemontmartre.ca
SUMMARY:Club de bridge de Sillery 12H45
DESCRIPTION:12H00 Arrivée 16H30
URL:https://www.lemontmartre.ca/event/club-de-bridge-de-sillery-13h00/2024-04-18/
CATEGORIES:Marie-Guyart
END:VEVENT
BEGIN:VEVENT
DTSTART;TZID=America/Montreal:20240419T120000
DTEND;TZID=America/Montreal:20240419T163000
DTSTAMP:20260422T215409
CREATED:20240423T173746Z
LAST-MODIFIED:20241218T214033Z
UID:10001989-1713528000-1713544200@www.lemontmartre.ca
SUMMARY:Club de bridge de la Capitale 12H45
DESCRIPTION:12H00 Arrivée 16H30 Fin
URL:https://www.lemontmartre.ca/event/club-de-bridge-de-la-capitale-13h00/2024-04-19/
CATEGORIES:Marie-Guyart
END:VEVENT
BEGIN:VEVENT
DTSTART;TZID=America/Montreal:20240419T180000
DTEND;TZID=America/Montreal:20240419T213000
DTSTAMP:20260422T215409
CREATED:20240423T174218Z
LAST-MODIFIED:20240918T191639Z
UID:10002041-1713549600-1713562200@www.lemontmartre.ca
SUMMARY:En route vers la liberté 19H30
DESCRIPTION:18H00 Arrivée 21H30 Fin
URL:https://www.lemontmartre.ca/event/en-route-vers-la-liberte-19h30/2024-04-19/
CATEGORIES:Marie-Guyart
END:VEVENT
BEGIN:VEVENT
DTSTART;TZID=America/Montreal:20240420T083000
DTEND;TZID=America/Montreal:20240420T160000
DTSTAMP:20260422T215409
CREATED:20240423T202035Z
LAST-MODIFIED:20240423T202035Z
UID:10002173-1713601800-1713628800@www.lemontmartre.ca
SUMMARY:Développement et paix 10H
DESCRIPTION:
URL:https://www.lemontmartre.ca/event/developpement-et-paix-10h/
CATEGORIES:Marie-Guyart
END:VEVENT
BEGIN:VEVENT
DTSTART;VALUE=DATE:20240422
DTEND;VALUE=DATE:20240423
DTSTAMP:20260422T215410
CREATED:20240423T202635Z
LAST-MODIFIED:20240423T202635Z
UID:10002179-1713744000-1713830399@www.lemontmartre.ca
SUMMARY:Shen Yun
DESCRIPTION:
URL:https://www.lemontmartre.ca/event/shen-yun/
CATEGORIES:Marie-Guyart
END:VEVENT
BEGIN:VEVENT
DTSTART;TZID=America/Montreal:20240422T120000
DTEND;TZID=America/Montreal:20240422T163000
DTSTAMP:20260422T215410
CREATED:20240423T155717Z
LAST-MODIFIED:20240423T195826Z
UID:10001507-1713787200-1713803400@www.lemontmartre.ca
SUMMARY:Club de bridge de Charlesbourg 13H00
DESCRIPTION:12H00 Arrivée 16H30 Fin
URL:https://www.lemontmartre.ca/event/club-de-bridge-de-charlesbourg-13h00/2024-04-22/
CATEGORIES:Marie-Guyart
END:VEVENT
BEGIN:VEVENT
DTSTART;TZID=America/Montreal:20240423T090000
DTEND;TZID=America/Montreal:20240423T120000
DTSTAMP:20260422T215410
CREATED:20240423T202928Z
LAST-MODIFIED:20240423T202928Z
UID:10002181-1713862800-1713873600@www.lemontmartre.ca
SUMMARY:CEVQ 10H
DESCRIPTION:
URL:https://www.lemontmartre.ca/event/cevq-10h/
CATEGORIES:Marie-Guyart
END:VEVENT
BEGIN:VEVENT
DTSTART;TZID=America/Montreal:20240423T120000
DTEND;TZID=America/Montreal:20240423T163000
DTSTAMP:20260422T215410
CREATED:20240423T155902Z
LAST-MODIFIED:20240423T195857Z
UID:10001557-1713873600-1713889800@www.lemontmartre.ca
SUMMARY:Club de bridge l’Impératif 13H00
DESCRIPTION:12H00 Arrivée 16H30 Fin
URL:https://www.lemontmartre.ca/event/club-de-bridge-limperatif-13h00/2024-04-23/
CATEGORIES:Marie-Guyart
END:VEVENT
END:VCALENDAR