BEGIN:VCALENDAR
VERSION:2.0
PRODID:-//Le Montmartre - ECPv6.15.13//NONSGML v1.0//EN
CALSCALE:GREGORIAN
METHOD:PUBLISH
X-WR-CALNAME:Le Montmartre
X-ORIGINAL-URL:https://www.lemontmartre.ca
X-WR-CALDESC:Évènements pour Le Montmartre
REFRESH-INTERVAL;VALUE=DURATION:PT1H
X-Robots-Tag:noindex
X-PUBLISHED-TTL:PT1H
BEGIN:VTIMEZONE
TZID:America/Montreal
BEGIN:DAYLIGHT
TZOFFSETFROM:-0500
TZOFFSETTO:-0400
TZNAME:EDT
DTSTART:20230312T070000
END:DAYLIGHT
BEGIN:STANDARD
TZOFFSETFROM:-0400
TZOFFSETTO:-0500
TZNAME:EST
DTSTART:20231105T060000
END:STANDARD
BEGIN:DAYLIGHT
TZOFFSETFROM:-0500
TZOFFSETTO:-0400
TZNAME:EDT
DTSTART:20240310T070000
END:DAYLIGHT
BEGIN:STANDARD
TZOFFSETFROM:-0400
TZOFFSETTO:-0500
TZNAME:EST
DTSTART:20241103T060000
END:STANDARD
BEGIN:DAYLIGHT
TZOFFSETFROM:-0500
TZOFFSETTO:-0400
TZNAME:EDT
DTSTART:20250309T070000
END:DAYLIGHT
BEGIN:STANDARD
TZOFFSETFROM:-0400
TZOFFSETTO:-0500
TZNAME:EST
DTSTART:20251102T060000
END:STANDARD
END:VTIMEZONE
BEGIN:VEVENT
DTSTART;TZID=America/Montreal:20240103T120000
DTEND;TZID=America/Montreal:20240103T163000
DTSTAMP:20260423T023612
CREATED:20240423T201727Z
LAST-MODIFIED:20250822T151822Z
UID:10002122-1704283200-1704299400@www.lemontmartre.ca
SUMMARY:Club de bridge l’Entame 13H00
DESCRIPTION:12H00 Arrivée 16H30 Fin
URL:https://www.lemontmartre.ca/event/club-de-bridge-lentame-13h00-3/2024-01-03/
CATEGORIES:Marie-Guyart
END:VEVENT
BEGIN:VEVENT
DTSTART;TZID=America/Montreal:20240104T120000
DTEND;TZID=America/Montreal:20240104T163000
DTSTAMP:20260423T023612
CREATED:20240423T172114Z
LAST-MODIFIED:20241220T180539Z
UID:10001859-1704369600-1704385800@www.lemontmartre.ca
SUMMARY:Club de bridge de Sillery 12H45
DESCRIPTION:12H00 Arrivée 16H30
URL:https://www.lemontmartre.ca/event/club-de-bridge-de-sillery-13h00/2024-01-04/
CATEGORIES:Marie-Guyart
END:VEVENT
BEGIN:VEVENT
DTSTART;TZID=America/Montreal:20240105T120000
DTEND;TZID=America/Montreal:20240105T163000
DTSTAMP:20260423T023612
CREATED:20240423T173746Z
LAST-MODIFIED:20241218T214033Z
UID:10001974-1704456000-1704472200@www.lemontmartre.ca
SUMMARY:Club de bridge de la Capitale 12H45
DESCRIPTION:12H00 Arrivée 16H30 Fin
URL:https://www.lemontmartre.ca/event/club-de-bridge-de-la-capitale-13h00/2024-01-05/
CATEGORIES:Marie-Guyart
END:VEVENT
BEGIN:VEVENT
DTSTART;TZID=America/Montreal:20240105T180000
DTEND;TZID=America/Montreal:20240105T213000
DTSTAMP:20260423T023612
CREATED:20240423T174218Z
LAST-MODIFIED:20240918T191639Z
UID:10002026-1704477600-1704490200@www.lemontmartre.ca
SUMMARY:En route vers la liberté 19H30
DESCRIPTION:18H00 Arrivée 21H30 Fin
URL:https://www.lemontmartre.ca/event/en-route-vers-la-liberte-19h30/2024-01-05/
CATEGORIES:Marie-Guyart
END:VEVENT
BEGIN:VEVENT
DTSTART;TZID=America/Montreal:20240108T120000
DTEND;TZID=America/Montreal:20240108T163000
DTSTAMP:20260423T023612
CREATED:20240423T155717Z
LAST-MODIFIED:20240423T195826Z
UID:10001492-1704715200-1704731400@www.lemontmartre.ca
SUMMARY:Club de bridge de Charlesbourg 13H00
DESCRIPTION:12H00 Arrivée 16H30 Fin
URL:https://www.lemontmartre.ca/event/club-de-bridge-de-charlesbourg-13h00/2024-01-08/
CATEGORIES:Marie-Guyart
END:VEVENT
BEGIN:VEVENT
DTSTART;TZID=America/Montreal:20240109T120000
DTEND;TZID=America/Montreal:20240109T163000
DTSTAMP:20260423T023612
CREATED:20240423T155902Z
LAST-MODIFIED:20240423T195857Z
UID:10001542-1704801600-1704817800@www.lemontmartre.ca
SUMMARY:Club de bridge l’Impératif 13H00
DESCRIPTION:12H00 Arrivée 16H30 Fin
URL:https://www.lemontmartre.ca/event/club-de-bridge-limperatif-13h00/2024-01-09/
CATEGORIES:Marie-Guyart
END:VEVENT
BEGIN:VEVENT
DTSTART;TZID=America/Montreal:20240110T120000
DTEND;TZID=America/Montreal:20240110T163000
DTSTAMP:20260423T023612
CREATED:20240423T201727Z
LAST-MODIFIED:20250822T151822Z
UID:10002123-1704888000-1704904200@www.lemontmartre.ca
SUMMARY:Club de bridge l’Entame 13H00
DESCRIPTION:12H00 Arrivée 16H30 Fin
URL:https://www.lemontmartre.ca/event/club-de-bridge-lentame-13h00-3/2024-01-10/
CATEGORIES:Marie-Guyart
END:VEVENT
BEGIN:VEVENT
DTSTART;TZID=America/Montreal:20240111T120000
DTEND;TZID=America/Montreal:20240111T163000
DTSTAMP:20260423T023612
CREATED:20240423T172114Z
LAST-MODIFIED:20241220T180539Z
UID:10001860-1704974400-1704990600@www.lemontmartre.ca
SUMMARY:Club de bridge de Sillery 12H45
DESCRIPTION:12H00 Arrivée 16H30
URL:https://www.lemontmartre.ca/event/club-de-bridge-de-sillery-13h00/2024-01-11/
CATEGORIES:Marie-Guyart
END:VEVENT
BEGIN:VEVENT
DTSTART;TZID=America/Montreal:20240112T120000
DTEND;TZID=America/Montreal:20240112T163000
DTSTAMP:20260423T023612
CREATED:20240423T173746Z
LAST-MODIFIED:20241218T214033Z
UID:10001975-1705060800-1705077000@www.lemontmartre.ca
SUMMARY:Club de bridge de la Capitale 12H45
DESCRIPTION:12H00 Arrivée 16H30 Fin
URL:https://www.lemontmartre.ca/event/club-de-bridge-de-la-capitale-13h00/2024-01-12/
CATEGORIES:Marie-Guyart
END:VEVENT
BEGIN:VEVENT
DTSTART;TZID=America/Montreal:20240112T180000
DTEND;TZID=America/Montreal:20240112T213000
DTSTAMP:20260423T023612
CREATED:20240423T174218Z
LAST-MODIFIED:20240918T191639Z
UID:10002027-1705082400-1705095000@www.lemontmartre.ca
SUMMARY:En route vers la liberté 19H30
DESCRIPTION:18H00 Arrivée 21H30 Fin
URL:https://www.lemontmartre.ca/event/en-route-vers-la-liberte-19h30/2024-01-12/
CATEGORIES:Marie-Guyart
END:VEVENT
BEGIN:VEVENT
DTSTART;TZID=America/Montreal:20240115T120000
DTEND;TZID=America/Montreal:20240115T163000
DTSTAMP:20260423T023612
CREATED:20240423T155717Z
LAST-MODIFIED:20240423T195826Z
UID:10001493-1705320000-1705336200@www.lemontmartre.ca
SUMMARY:Club de bridge de Charlesbourg 13H00
DESCRIPTION:12H00 Arrivée 16H30 Fin
URL:https://www.lemontmartre.ca/event/club-de-bridge-de-charlesbourg-13h00/2024-01-15/
CATEGORIES:Marie-Guyart
END:VEVENT
BEGIN:VEVENT
DTSTART;TZID=America/Montreal:20240116T120000
DTEND;TZID=America/Montreal:20240116T163000
DTSTAMP:20260423T023612
CREATED:20240423T155902Z
LAST-MODIFIED:20240423T195857Z
UID:10001543-1705406400-1705422600@www.lemontmartre.ca
SUMMARY:Club de bridge l’Impératif 13H00
DESCRIPTION:12H00 Arrivée 16H30 Fin
URL:https://www.lemontmartre.ca/event/club-de-bridge-limperatif-13h00/2024-01-16/
CATEGORIES:Marie-Guyart
END:VEVENT
BEGIN:VEVENT
DTSTART;TZID=America/Montreal:20240116T173000
DTEND;TZID=America/Montreal:20240116T220000
DTSTAMP:20260423T023612
CREATED:20240423T201355Z
LAST-MODIFIED:20240423T201355Z
UID:10002116-1705426200-1705442400@www.lemontmartre.ca
SUMMARY:Orchidophiles de Québec 19H00
DESCRIPTION:
URL:https://www.lemontmartre.ca/event/orchidophiles-de-quebec-19h00/2024-01-16/
CATEGORIES:Marie-Guyart
END:VEVENT
BEGIN:VEVENT
DTSTART;TZID=America/Montreal:20240117T120000
DTEND;TZID=America/Montreal:20240117T163000
DTSTAMP:20260423T023612
CREATED:20240423T201727Z
LAST-MODIFIED:20250822T151822Z
UID:10002124-1705492800-1705509000@www.lemontmartre.ca
SUMMARY:Club de bridge l’Entame 13H00
DESCRIPTION:12H00 Arrivée 16H30 Fin
URL:https://www.lemontmartre.ca/event/club-de-bridge-lentame-13h00-3/2024-01-17/
CATEGORIES:Marie-Guyart
END:VEVENT
BEGIN:VEVENT
DTSTART;TZID=America/Montreal:20240118T120000
DTEND;TZID=America/Montreal:20240118T163000
DTSTAMP:20260423T023612
CREATED:20240423T172114Z
LAST-MODIFIED:20241220T180539Z
UID:10001861-1705579200-1705595400@www.lemontmartre.ca
SUMMARY:Club de bridge de Sillery 12H45
DESCRIPTION:12H00 Arrivée 16H30
URL:https://www.lemontmartre.ca/event/club-de-bridge-de-sillery-13h00/2024-01-18/
CATEGORIES:Marie-Guyart
END:VEVENT
BEGIN:VEVENT
DTSTART;TZID=America/Montreal:20240119T120000
DTEND;TZID=America/Montreal:20240119T163000
DTSTAMP:20260423T023612
CREATED:20240423T173746Z
LAST-MODIFIED:20241218T214033Z
UID:10001976-1705665600-1705681800@www.lemontmartre.ca
SUMMARY:Club de bridge de la Capitale 12H45
DESCRIPTION:12H00 Arrivée 16H30 Fin
URL:https://www.lemontmartre.ca/event/club-de-bridge-de-la-capitale-13h00/2024-01-19/
CATEGORIES:Marie-Guyart
END:VEVENT
BEGIN:VEVENT
DTSTART;TZID=America/Montreal:20240119T180000
DTEND;TZID=America/Montreal:20240119T213000
DTSTAMP:20260423T023612
CREATED:20240423T174218Z
LAST-MODIFIED:20240918T191639Z
UID:10002028-1705687200-1705699800@www.lemontmartre.ca
SUMMARY:En route vers la liberté 19H30
DESCRIPTION:18H00 Arrivée 21H30 Fin
URL:https://www.lemontmartre.ca/event/en-route-vers-la-liberte-19h30/2024-01-19/
CATEGORIES:Marie-Guyart
END:VEVENT
BEGIN:VEVENT
DTSTART;TZID=America/Montreal:20240122T120000
DTEND;TZID=America/Montreal:20240122T163000
DTSTAMP:20260423T023612
CREATED:20240423T155717Z
LAST-MODIFIED:20240423T195826Z
UID:10001494-1705924800-1705941000@www.lemontmartre.ca
SUMMARY:Club de bridge de Charlesbourg 13H00
DESCRIPTION:12H00 Arrivée 16H30 Fin
URL:https://www.lemontmartre.ca/event/club-de-bridge-de-charlesbourg-13h00/2024-01-22/
CATEGORIES:Marie-Guyart
END:VEVENT
BEGIN:VEVENT
DTSTART;TZID=America/Montreal:20240123T120000
DTEND;TZID=America/Montreal:20240123T163000
DTSTAMP:20260423T023612
CREATED:20240423T155902Z
LAST-MODIFIED:20240423T195857Z
UID:10001544-1706011200-1706027400@www.lemontmartre.ca
SUMMARY:Club de bridge l’Impératif 13H00
DESCRIPTION:12H00 Arrivée 16H30 Fin
URL:https://www.lemontmartre.ca/event/club-de-bridge-limperatif-13h00/2024-01-23/
CATEGORIES:Marie-Guyart
END:VEVENT
BEGIN:VEVENT
DTSTART;TZID=America/Montreal:20240124T120000
DTEND;TZID=America/Montreal:20240124T163000
DTSTAMP:20260423T023612
CREATED:20240423T201727Z
LAST-MODIFIED:20250822T151822Z
UID:10002125-1706097600-1706113800@www.lemontmartre.ca
SUMMARY:Club de bridge l’Entame 13H00
DESCRIPTION:12H00 Arrivée 16H30 Fin
URL:https://www.lemontmartre.ca/event/club-de-bridge-lentame-13h00-3/2024-01-24/
CATEGORIES:Marie-Guyart
END:VEVENT
BEGIN:VEVENT
DTSTART;TZID=America/Montreal:20240125T120000
DTEND;TZID=America/Montreal:20240125T163000
DTSTAMP:20260423T023612
CREATED:20240423T172114Z
LAST-MODIFIED:20241220T180539Z
UID:10001862-1706184000-1706200200@www.lemontmartre.ca
SUMMARY:Club de bridge de Sillery 12H45
DESCRIPTION:12H00 Arrivée 16H30
URL:https://www.lemontmartre.ca/event/club-de-bridge-de-sillery-13h00/2024-01-25/
CATEGORIES:Marie-Guyart
END:VEVENT
BEGIN:VEVENT
DTSTART;TZID=America/Montreal:20240126T120000
DTEND;TZID=America/Montreal:20240126T163000
DTSTAMP:20260423T023612
CREATED:20240423T173746Z
LAST-MODIFIED:20241218T214033Z
UID:10001977-1706270400-1706286600@www.lemontmartre.ca
SUMMARY:Club de bridge de la Capitale 12H45
DESCRIPTION:12H00 Arrivée 16H30 Fin
URL:https://www.lemontmartre.ca/event/club-de-bridge-de-la-capitale-13h00/2024-01-26/
CATEGORIES:Marie-Guyart
END:VEVENT
BEGIN:VEVENT
DTSTART;TZID=America/Montreal:20240126T180000
DTEND;TZID=America/Montreal:20240126T213000
DTSTAMP:20260423T023612
CREATED:20240423T174218Z
LAST-MODIFIED:20240918T191639Z
UID:10002029-1706292000-1706304600@www.lemontmartre.ca
SUMMARY:En route vers la liberté 19H30
DESCRIPTION:18H00 Arrivée 21H30 Fin
URL:https://www.lemontmartre.ca/event/en-route-vers-la-liberte-19h30/2024-01-26/
CATEGORIES:Marie-Guyart
END:VEVENT
BEGIN:VEVENT
DTSTART;TZID=America/Montreal:20240129T120000
DTEND;TZID=America/Montreal:20240129T163000
DTSTAMP:20260423T023612
CREATED:20240423T155717Z
LAST-MODIFIED:20240423T195826Z
UID:10001495-1706529600-1706545800@www.lemontmartre.ca
SUMMARY:Club de bridge de Charlesbourg 13H00
DESCRIPTION:12H00 Arrivée 16H30 Fin
URL:https://www.lemontmartre.ca/event/club-de-bridge-de-charlesbourg-13h00/2024-01-29/
CATEGORIES:Marie-Guyart
END:VEVENT
BEGIN:VEVENT
DTSTART;TZID=America/Montreal:20240130T120000
DTEND;TZID=America/Montreal:20240130T163000
DTSTAMP:20260423T023612
CREATED:20240423T155902Z
LAST-MODIFIED:20240423T195857Z
UID:10001545-1706616000-1706632200@www.lemontmartre.ca
SUMMARY:Club de bridge l’Impératif 13H00
DESCRIPTION:12H00 Arrivée 16H30 Fin
URL:https://www.lemontmartre.ca/event/club-de-bridge-limperatif-13h00/2024-01-30/
CATEGORIES:Marie-Guyart
END:VEVENT
BEGIN:VEVENT
DTSTART;TZID=America/Montreal:20240131T120000
DTEND;TZID=America/Montreal:20240131T163000
DTSTAMP:20260423T023612
CREATED:20240423T201727Z
LAST-MODIFIED:20250822T151822Z
UID:10002126-1706702400-1706718600@www.lemontmartre.ca
SUMMARY:Club de bridge l’Entame 13H00
DESCRIPTION:12H00 Arrivée 16H30 Fin
URL:https://www.lemontmartre.ca/event/club-de-bridge-lentame-13h00-3/2024-01-31/
CATEGORIES:Marie-Guyart
END:VEVENT
END:VCALENDAR