BEGIN:VCALENDAR
VERSION:2.0
PRODID:-//Le Montmartre - ECPv6.15.13//NONSGML v1.0//EN
CALSCALE:GREGORIAN
METHOD:PUBLISH
X-WR-CALNAME:Le Montmartre
X-ORIGINAL-URL:https://www.lemontmartre.ca
X-WR-CALDESC:Évènements pour Le Montmartre
REFRESH-INTERVAL;VALUE=DURATION:PT1H
X-Robots-Tag:noindex
X-PUBLISHED-TTL:PT1H
BEGIN:VTIMEZONE
TZID:America/Montreal
BEGIN:DAYLIGHT
TZOFFSETFROM:-0500
TZOFFSETTO:-0400
TZNAME:EDT
DTSTART:20240310T070000
END:DAYLIGHT
BEGIN:STANDARD
TZOFFSETFROM:-0400
TZOFFSETTO:-0500
TZNAME:EST
DTSTART:20241103T060000
END:STANDARD
BEGIN:DAYLIGHT
TZOFFSETFROM:-0500
TZOFFSETTO:-0400
TZNAME:EDT
DTSTART:20250309T070000
END:DAYLIGHT
BEGIN:STANDARD
TZOFFSETFROM:-0400
TZOFFSETTO:-0500
TZNAME:EST
DTSTART:20251102T060000
END:STANDARD
BEGIN:DAYLIGHT
TZOFFSETFROM:-0500
TZOFFSETTO:-0400
TZNAME:EDT
DTSTART:20260308T070000
END:DAYLIGHT
BEGIN:STANDARD
TZOFFSETFROM:-0400
TZOFFSETTO:-0500
TZNAME:EST
DTSTART:20261101T060000
END:STANDARD
END:VTIMEZONE
BEGIN:VEVENT
DTSTART;TZID=America/Montreal:20250606T100000
DTEND;TZID=America/Montreal:20250606T223000
DTSTAMP:20260420T142901
CREATED:20250604T161233Z
LAST-MODIFIED:20250604T161233Z
UID:10008454-1749204000-1749249000@www.lemontmartre.ca
SUMMARY:St-Lawrence
DESCRIPTION:
URL:https://www.lemontmartre.ca/event/st-lawrence/
CATEGORIES:Grand Hall
END:VEVENT
BEGIN:VEVENT
DTSTART;TZID=America/Montreal:20250611T080000
DTEND;TZID=America/Montreal:20250611T190000
DTSTAMP:20260420T142901
CREATED:20250528T192518Z
LAST-MODIFIED:20250604T151442Z
UID:10008008-1749628800-1749668400@www.lemontmartre.ca
SUMMARY:Assemblée générale du clergé
DESCRIPTION:
URL:https://www.lemontmartre.ca/event/assemblee-generale-du-clerge-10h-4/
CATEGORIES:Grand Hall
END:VEVENT
END:VCALENDAR