BEGIN:VCALENDAR
VERSION:2.0
PRODID:-//Le Montmartre - ECPv6.15.13//NONSGML v1.0//EN
CALSCALE:GREGORIAN
METHOD:PUBLISH
X-ORIGINAL-URL:https://www.lemontmartre.ca
X-WR-CALDESC:Évènements pour Le Montmartre
REFRESH-INTERVAL;VALUE=DURATION:PT1H
X-Robots-Tag:noindex
X-PUBLISHED-TTL:PT1H
BEGIN:VTIMEZONE
TZID:America/Montreal
BEGIN:DAYLIGHT
TZOFFSETFROM:-0500
TZOFFSETTO:-0400
TZNAME:EDT
DTSTART:20240310T070000
END:DAYLIGHT
BEGIN:STANDARD
TZOFFSETFROM:-0400
TZOFFSETTO:-0500
TZNAME:EST
DTSTART:20241103T060000
END:STANDARD
BEGIN:DAYLIGHT
TZOFFSETFROM:-0500
TZOFFSETTO:-0400
TZNAME:EDT
DTSTART:20250309T070000
END:DAYLIGHT
BEGIN:STANDARD
TZOFFSETFROM:-0400
TZOFFSETTO:-0500
TZNAME:EST
DTSTART:20251102T060000
END:STANDARD
BEGIN:DAYLIGHT
TZOFFSETFROM:-0500
TZOFFSETTO:-0400
TZNAME:EDT
DTSTART:20260308T070000
END:DAYLIGHT
BEGIN:STANDARD
TZOFFSETFROM:-0400
TZOFFSETTO:-0500
TZNAME:EST
DTSTART:20261101T060000
END:STANDARD
END:VTIMEZONE
BEGIN:VEVENT
DTSTART;TZID=America/Montreal:20250404T130000
DTEND;TZID=America/Montreal:20250404T230000
DTSTAMP:20260420T145537
CREATED:20250317T205926Z
LAST-MODIFIED:20250317T205926Z
UID:10007506-1743771600-1743807600@www.lemontmartre.ca
SUMMARY:Orchidophiles de Québec
DESCRIPTION:
URL:https://www.lemontmartre.ca/event/orchidophiles-de-quebec/
CATEGORIES:Grand Hall
END:VEVENT
BEGIN:VEVENT
DTSTART;TZID=America/Montreal:20250405T063000
DTEND;TZID=America/Montreal:20250405T173000
DTSTAMP:20260420T145537
CREATED:20250317T210142Z
LAST-MODIFIED:20250317T210142Z
UID:10007509-1743834600-1743874200@www.lemontmartre.ca
SUMMARY:Orchidophiles de Québec 12H
DESCRIPTION:
URL:https://www.lemontmartre.ca/event/orchidophiles-de-quebec-12h/
CATEGORIES:Grand Hall
END:VEVENT
BEGIN:VEVENT
DTSTART;TZID=America/Montreal:20250406T070000
DTEND;TZID=America/Montreal:20250406T200000
DTSTAMP:20260420T145537
CREATED:20250317T210404Z
LAST-MODIFIED:20250317T210404Z
UID:10007512-1743922800-1743969600@www.lemontmartre.ca
SUMMARY:Orchidophiles de Québec 9H
DESCRIPTION:
URL:https://www.lemontmartre.ca/event/orchidophiles-de-quebec-9h/
CATEGORIES:Grand Hall
END:VEVENT
BEGIN:VEVENT
DTSTART;TZID=America/Montreal:20250413T114500
DTEND;TZID=America/Montreal:20250413T121500
DTSTAMP:20260420T145537
CREATED:20250401T152340Z
LAST-MODIFIED:20250401T152340Z
UID:10007530-1744544700-1744546500@www.lemontmartre.ca
SUMMARY:Rameaux 11H45
DESCRIPTION:
URL:https://www.lemontmartre.ca/event/rameaux-11h45/
CATEGORIES:Grand Hall
END:VEVENT
BEGIN:VEVENT
DTSTART;TZID=America/Montreal:20250413T123000
DTEND;TZID=America/Montreal:20250413T190000
DTSTAMP:20260420T145537
CREATED:20250401T152248Z
LAST-MODIFIED:20250401T152248Z
UID:10007529-1744547400-1744570800@www.lemontmartre.ca
SUMMARY:Mouvement des cursillos 15H45
DESCRIPTION:
URL:https://www.lemontmartre.ca/event/mouvement-des-cursillos-15h45-9/
CATEGORIES:Grand Hall
END:VEVENT
END:VCALENDAR