BEGIN:VCALENDAR
VERSION:2.0
PRODID:-//Le Montmartre - ECPv6.15.13//NONSGML v1.0//EN
CALSCALE:GREGORIAN
METHOD:PUBLISH
X-ORIGINAL-URL:https://www.lemontmartre.ca
X-WR-CALDESC:Évènements pour Le Montmartre
REFRESH-INTERVAL;VALUE=DURATION:PT1H
X-Robots-Tag:noindex
X-PUBLISHED-TTL:PT1H
BEGIN:VTIMEZONE
TZID:America/Montreal
BEGIN:DAYLIGHT
TZOFFSETFROM:-0500
TZOFFSETTO:-0400
TZNAME:EDT
DTSTART:20240310T070000
END:DAYLIGHT
BEGIN:STANDARD
TZOFFSETFROM:-0400
TZOFFSETTO:-0500
TZNAME:EST
DTSTART:20241103T060000
END:STANDARD
BEGIN:DAYLIGHT
TZOFFSETFROM:-0500
TZOFFSETTO:-0400
TZNAME:EDT
DTSTART:20250309T070000
END:DAYLIGHT
BEGIN:STANDARD
TZOFFSETFROM:-0400
TZOFFSETTO:-0500
TZNAME:EST
DTSTART:20251102T060000
END:STANDARD
BEGIN:DAYLIGHT
TZOFFSETFROM:-0500
TZOFFSETTO:-0400
TZNAME:EDT
DTSTART:20260308T070000
END:DAYLIGHT
BEGIN:STANDARD
TZOFFSETFROM:-0400
TZOFFSETTO:-0500
TZNAME:EST
DTSTART:20261101T060000
END:STANDARD
END:VTIMEZONE
BEGIN:VEVENT
DTSTART;TZID=America/Montreal:20250202T123000
DTEND;TZID=America/Montreal:20250202T170000
DTSTAMP:20260422T081127
CREATED:20250124T151906Z
LAST-MODIFIED:20250124T151906Z
UID:10006869-1738499400-1738515600@www.lemontmartre.ca
SUMMARY:Diocèse Journée de la vie consacrée 14H
DESCRIPTION:
URL:https://www.lemontmartre.ca/event/diocese-journee-de-la-vie-consacree-14h-3/
CATEGORIES:Grand Hall
END:VEVENT
BEGIN:VEVENT
DTSTART;TZID=America/Montreal:20250208T071500
DTEND;TZID=America/Montreal:20250208T160000
DTSTAMP:20260422T081127
CREATED:20250124T155616Z
LAST-MODIFIED:20250124T155616Z
UID:10007012-1738998900-1739030400@www.lemontmartre.ca
SUMMARY:ADQC 8h00
DESCRIPTION:
URL:https://www.lemontmartre.ca/event/adqc-8h00-3/
CATEGORIES:Grand Hall
END:VEVENT
END:VCALENDAR