BEGIN:VCALENDAR
VERSION:2.0
PRODID:-//Le Montmartre - ECPv6.15.13//NONSGML v1.0//EN
CALSCALE:GREGORIAN
METHOD:PUBLISH
X-WR-CALNAME:Le Montmartre
X-ORIGINAL-URL:https://www.lemontmartre.ca
X-WR-CALDESC:Évènements pour Le Montmartre
REFRESH-INTERVAL;VALUE=DURATION:PT1H
X-Robots-Tag:noindex
X-PUBLISHED-TTL:PT1H
BEGIN:VTIMEZONE
TZID:America/Montreal
BEGIN:DAYLIGHT
TZOFFSETFROM:-0500
TZOFFSETTO:-0400
TZNAME:EDT
DTSTART:20230312T070000
END:DAYLIGHT
BEGIN:STANDARD
TZOFFSETFROM:-0400
TZOFFSETTO:-0500
TZNAME:EST
DTSTART:20231105T060000
END:STANDARD
BEGIN:DAYLIGHT
TZOFFSETFROM:-0500
TZOFFSETTO:-0400
TZNAME:EDT
DTSTART:20240310T070000
END:DAYLIGHT
BEGIN:STANDARD
TZOFFSETFROM:-0400
TZOFFSETTO:-0500
TZNAME:EST
DTSTART:20241103T060000
END:STANDARD
BEGIN:DAYLIGHT
TZOFFSETFROM:-0500
TZOFFSETTO:-0400
TZNAME:EDT
DTSTART:20250309T070000
END:DAYLIGHT
BEGIN:STANDARD
TZOFFSETFROM:-0400
TZOFFSETTO:-0500
TZNAME:EST
DTSTART:20251102T060000
END:STANDARD
END:VTIMEZONE
BEGIN:VEVENT
DTSTART;TZID=America/Montreal:20240609T120000
DTEND;TZID=America/Montreal:20240609T233000
DTSTAMP:20260423T173509
CREATED:20240604T214305Z
LAST-MODIFIED:20240604T214305Z
UID:10003546-1717934400-1717975800@www.lemontmartre.ca
SUMMARY:Semaine pour Jésus
DESCRIPTION:
URL:https://www.lemontmartre.ca/event/semaine-pour-jesus-3/
CATEGORIES:Grand Hall
END:VEVENT
BEGIN:VEVENT
DTSTART;TZID=America/Montreal:20240610T083000
DTEND;TZID=America/Montreal:20240610T233000
DTSTAMP:20260423T173509
CREATED:20240604T215239Z
LAST-MODIFIED:20240604T215239Z
UID:10003565-1718008200-1718062200@www.lemontmartre.ca
SUMMARY:Semaine pour Jésus 8H30
DESCRIPTION:
URL:https://www.lemontmartre.ca/event/semaine-pour-jesus-8h30-4/2024-06-10/
CATEGORIES:Grand Hall
END:VEVENT
BEGIN:VEVENT
DTSTART;TZID=America/Montreal:20240611T083000
DTEND;TZID=America/Montreal:20240611T233000
DTSTAMP:20260423T173509
CREATED:20240604T215239Z
LAST-MODIFIED:20240604T215239Z
UID:10003566-1718094600-1718148600@www.lemontmartre.ca
SUMMARY:Semaine pour Jésus 8H30
DESCRIPTION:
URL:https://www.lemontmartre.ca/event/semaine-pour-jesus-8h30-4/2024-06-11/
CATEGORIES:Grand Hall
END:VEVENT
BEGIN:VEVENT
DTSTART;TZID=America/Montreal:20240612T083000
DTEND;TZID=America/Montreal:20240612T233000
DTSTAMP:20260423T173509
CREATED:20240604T215239Z
LAST-MODIFIED:20240604T215239Z
UID:10003567-1718181000-1718235000@www.lemontmartre.ca
SUMMARY:Semaine pour Jésus 8H30
DESCRIPTION:
URL:https://www.lemontmartre.ca/event/semaine-pour-jesus-8h30-4/2024-06-12/
CATEGORIES:Grand Hall
END:VEVENT
BEGIN:VEVENT
DTSTART;TZID=America/Montreal:20240613T083000
DTEND;TZID=America/Montreal:20240613T233000
DTSTAMP:20260423T173509
CREATED:20240604T215239Z
LAST-MODIFIED:20240604T215239Z
UID:10003568-1718267400-1718321400@www.lemontmartre.ca
SUMMARY:Semaine pour Jésus 8H30
DESCRIPTION:
URL:https://www.lemontmartre.ca/event/semaine-pour-jesus-8h30-4/2024-06-13/
CATEGORIES:Grand Hall
END:VEVENT
BEGIN:VEVENT
DTSTART;TZID=America/Montreal:20240614T083000
DTEND;TZID=America/Montreal:20240614T233000
DTSTAMP:20260423T173509
CREATED:20240604T215239Z
LAST-MODIFIED:20240604T215239Z
UID:10003569-1718353800-1718407800@www.lemontmartre.ca
SUMMARY:Semaine pour Jésus 8H30
DESCRIPTION:
URL:https://www.lemontmartre.ca/event/semaine-pour-jesus-8h30-4/2024-06-14/
CATEGORIES:Grand Hall
END:VEVENT
BEGIN:VEVENT
DTSTART;TZID=America/Montreal:20240615T083000
DTEND;TZID=America/Montreal:20240615T233000
DTSTAMP:20260423T173509
CREATED:20240604T215239Z
LAST-MODIFIED:20240604T215239Z
UID:10003570-1718440200-1718494200@www.lemontmartre.ca
SUMMARY:Semaine pour Jésus 8H30
DESCRIPTION:
URL:https://www.lemontmartre.ca/event/semaine-pour-jesus-8h30-4/2024-06-15/
CATEGORIES:Grand Hall
END:VEVENT
END:VCALENDAR