BEGIN:VCALENDAR
VERSION:2.0
PRODID:-//Le Montmartre - ECPv6.15.13//NONSGML v1.0//EN
CALSCALE:GREGORIAN
METHOD:PUBLISH
X-ORIGINAL-URL:https://www.lemontmartre.ca
X-WR-CALDESC:Évènements pour Le Montmartre
REFRESH-INTERVAL;VALUE=DURATION:PT1H
X-Robots-Tag:noindex
X-PUBLISHED-TTL:PT1H
BEGIN:VTIMEZONE
TZID:America/Montreal
BEGIN:DAYLIGHT
TZOFFSETFROM:-0500
TZOFFSETTO:-0400
TZNAME:EDT
DTSTART:20240310T070000
END:DAYLIGHT
BEGIN:STANDARD
TZOFFSETFROM:-0400
TZOFFSETTO:-0500
TZNAME:EST
DTSTART:20241103T060000
END:STANDARD
BEGIN:DAYLIGHT
TZOFFSETFROM:-0500
TZOFFSETTO:-0400
TZNAME:EDT
DTSTART:20250309T070000
END:DAYLIGHT
BEGIN:STANDARD
TZOFFSETFROM:-0400
TZOFFSETTO:-0500
TZNAME:EST
DTSTART:20251102T060000
END:STANDARD
BEGIN:DAYLIGHT
TZOFFSETFROM:-0500
TZOFFSETTO:-0400
TZNAME:EDT
DTSTART:20260308T070000
END:DAYLIGHT
BEGIN:STANDARD
TZOFFSETFROM:-0400
TZOFFSETTO:-0500
TZNAME:EST
DTSTART:20261101T060000
END:STANDARD
END:VTIMEZONE
BEGIN:VEVENT
DTSTART;TZID=America/Montreal:20251004T070000
DTEND;TZID=America/Montreal:20251004T203000
DTSTAMP:20260420T052531
CREATED:20250924T203048Z
LAST-MODIFIED:20250924T203048Z
UID:10009993-1759561200-1759609800@www.lemontmartre.ca
SUMMARY:Renouveau charismatique 8H30
DESCRIPTION:
URL:https://www.lemontmartre.ca/event/renouveau-charismatique-8h30-3/
CATEGORIES:E. D’Alzon
END:VEVENT
BEGIN:VEVENT
DTSTART;TZID=America/Montreal:20251005T120000
DTEND;TZID=America/Montreal:20251005T190000
DTSTAMP:20260420T052531
CREATED:20250924T002549Z
LAST-MODIFIED:20250924T002549Z
UID:10009989-1759665600-1759690800@www.lemontmartre.ca
SUMMARY:Mouvement du cursillo secteur Québec  15H30
DESCRIPTION:
URL:https://www.lemontmartre.ca/event/mouvement-du-cursillo-secteur-quebec-15h30-3/
CATEGORIES:E. D’Alzon
END:VEVENT
BEGIN:VEVENT
DTSTART;TZID=America/Montreal:20251006T080000
DTEND;TZID=America/Montreal:20251006T170000
DTSTAMP:20260420T052531
CREATED:20251002T183219Z
LAST-MODIFIED:20251002T183219Z
UID:10009998-1759737600-1759770000@www.lemontmartre.ca
SUMMARY:IAIM 9H
DESCRIPTION:
URL:https://www.lemontmartre.ca/event/iaim-9h/2025-10-06/
CATEGORIES:E. D’Alzon
END:VEVENT
BEGIN:VEVENT
DTSTART;TZID=America/Montreal:20251007T080000
DTEND;TZID=America/Montreal:20251007T170000
DTSTAMP:20260420T052531
CREATED:20251002T183219Z
LAST-MODIFIED:20251002T183219Z
UID:10009999-1759824000-1759856400@www.lemontmartre.ca
SUMMARY:IAIM 9H
DESCRIPTION:
URL:https://www.lemontmartre.ca/event/iaim-9h/2025-10-07/
CATEGORIES:E. D’Alzon
END:VEVENT
BEGIN:VEVENT
DTSTART;TZID=America/Montreal:20251008T080000
DTEND;TZID=America/Montreal:20251008T170000
DTSTAMP:20260420T052531
CREATED:20251002T183219Z
LAST-MODIFIED:20251002T183219Z
UID:10010000-1759910400-1759942800@www.lemontmartre.ca
SUMMARY:IAIM 9H
DESCRIPTION:
URL:https://www.lemontmartre.ca/event/iaim-9h/2025-10-08/
CATEGORIES:E. D’Alzon
END:VEVENT
BEGIN:VEVENT
DTSTART;TZID=America/Montreal:20251009T080000
DTEND;TZID=America/Montreal:20251009T170000
DTSTAMP:20260420T052531
CREATED:20251002T183219Z
LAST-MODIFIED:20251002T183219Z
UID:10010001-1759996800-1760029200@www.lemontmartre.ca
SUMMARY:IAIM 9H
DESCRIPTION:
URL:https://www.lemontmartre.ca/event/iaim-9h/2025-10-09/
CATEGORIES:E. D’Alzon
END:VEVENT
BEGIN:VEVENT
DTSTART;TZID=America/Montreal:20251012T123000
DTEND;TZID=America/Montreal:20251012T160000
DTSTAMP:20260420T052531
CREATED:20251002T183902Z
LAST-MODIFIED:20251002T183902Z
UID:10010003-1760272200-1760284800@www.lemontmartre.ca
SUMMARY:Biodanza 13H
DESCRIPTION:
URL:https://www.lemontmartre.ca/event/biodanza-13h/2025-10-12/
CATEGORIES:E. D’Alzon
END:VEVENT
BEGIN:VEVENT
DTSTART;TZID=America/Montreal:20251019T123000
DTEND;TZID=America/Montreal:20251019T160000
DTSTAMP:20260420T052531
CREATED:20251002T183902Z
LAST-MODIFIED:20251002T183902Z
UID:10010004-1760877000-1760889600@www.lemontmartre.ca
SUMMARY:Biodanza 13H
DESCRIPTION:
URL:https://www.lemontmartre.ca/event/biodanza-13h/2025-10-19/
CATEGORIES:E. D’Alzon
END:VEVENT
BEGIN:VEVENT
DTSTART;TZID=America/Montreal:20251021T181500
DTEND;TZID=America/Montreal:20251021T220000
DTSTAMP:20260420T052531
CREATED:20251003T191907Z
LAST-MODIFIED:20251003T191907Z
UID:10010031-1761070500-1761084000@www.lemontmartre.ca
SUMMARY:Condo Bellevue Un 19H
DESCRIPTION:
URL:https://www.lemontmartre.ca/event/condo-bellevue-un-19h/
CATEGORIES:E. D’Alzon
END:VEVENT
BEGIN:VEVENT
DTSTART;TZID=America/Montreal:20251026T083000
DTEND;TZID=America/Montreal:20251026T163000
DTSTAMP:20260420T052531
CREATED:20251010T201047Z
LAST-MODIFIED:20251017T161513Z
UID:10010043-1761467400-1761496200@www.lemontmartre.ca
SUMMARY:Mouvement du Cursillo Sec. Québec 9H30
DESCRIPTION:
URL:https://www.lemontmartre.ca/event/mouvement-du-cursillo-sec-quebec-9h30/
CATEGORIES:E. D’Alzon
END:VEVENT
BEGIN:VEVENT
DTSTART;TZID=America/Montreal:20251028T180000
DTEND;TZID=America/Montreal:20251028T220000
DTSTAMP:20260420T052531
CREATED:20250829T151746Z
LAST-MODIFIED:20250829T151746Z
UID:10008592-1761674400-1761688800@www.lemontmartre.ca
SUMMARY:Condo Boisé de Augustines 19H
DESCRIPTION:
URL:https://www.lemontmartre.ca/event/condo-boise-de-augustines-19h/
CATEGORIES:E. D’Alzon
END:VEVENT
BEGIN:VEVENT
DTSTART;TZID=America/Montreal:20251030T080000
DTEND;TZID=America/Montreal:20251030T170000
DTSTAMP:20260420T052531
CREATED:20251015T165236Z
LAST-MODIFIED:20251015T165537Z
UID:10010137-1761811200-1761843600@www.lemontmartre.ca
SUMMARY:Centre de médiation Iris 9H
DESCRIPTION:
URL:https://www.lemontmartre.ca/event/centre-de-mediation-iris-9h-2/2025-10-30/
CATEGORIES:E. D’Alzon
END:VEVENT
BEGIN:VEVENT
DTSTART;TZID=America/Montreal:20251031T080000
DTEND;TZID=America/Montreal:20251031T170000
DTSTAMP:20260420T052531
CREATED:20251015T165236Z
LAST-MODIFIED:20251015T165537Z
UID:10010138-1761897600-1761930000@www.lemontmartre.ca
SUMMARY:Centre de médiation Iris 9H
DESCRIPTION:
URL:https://www.lemontmartre.ca/event/centre-de-mediation-iris-9h-2/2025-10-31/
CATEGORIES:E. D’Alzon
END:VEVENT
END:VCALENDAR