BEGIN:VCALENDAR
VERSION:2.0
PRODID:-//Le Montmartre - ECPv6.15.13//NONSGML v1.0//EN
CALSCALE:GREGORIAN
METHOD:PUBLISH
X-WR-CALNAME:Le Montmartre
X-ORIGINAL-URL:https://www.lemontmartre.ca
X-WR-CALDESC:Évènements pour Le Montmartre
REFRESH-INTERVAL;VALUE=DURATION:PT1H
X-Robots-Tag:noindex
X-PUBLISHED-TTL:PT1H
BEGIN:VTIMEZONE
TZID:America/Montreal
BEGIN:DAYLIGHT
TZOFFSETFROM:-0500
TZOFFSETTO:-0400
TZNAME:EDT
DTSTART:20250309T070000
END:DAYLIGHT
BEGIN:STANDARD
TZOFFSETFROM:-0400
TZOFFSETTO:-0500
TZNAME:EST
DTSTART:20251102T060000
END:STANDARD
BEGIN:DAYLIGHT
TZOFFSETFROM:-0500
TZOFFSETTO:-0400
TZNAME:EDT
DTSTART:20260308T070000
END:DAYLIGHT
BEGIN:STANDARD
TZOFFSETFROM:-0400
TZOFFSETTO:-0500
TZNAME:EST
DTSTART:20261101T060000
END:STANDARD
BEGIN:DAYLIGHT
TZOFFSETFROM:-0500
TZOFFSETTO:-0400
TZNAME:EDT
DTSTART:20270314T070000
END:DAYLIGHT
BEGIN:STANDARD
TZOFFSETFROM:-0400
TZOFFSETTO:-0500
TZNAME:EST
DTSTART:20271107T060000
END:STANDARD
END:VTIMEZONE
BEGIN:VEVENT
DTSTART;TZID=America/Montreal:20260201T080000
DTEND;TZID=America/Montreal:20260201T170000
DTSTAMP:20260419T215623
CREATED:20260129T211931Z
LAST-MODIFIED:20260129T211931Z
UID:10012305-1769932800-1769965200@www.lemontmartre.ca
SUMMARY:Journée de la vie consacrée 14H
DESCRIPTION:
URL:https://www.lemontmartre.ca/event/journee-de-la-vie-consacree-14h-2/
CATEGORIES:C. Staub
END:VEVENT
BEGIN:VEVENT
DTSTART;TZID=America/Montreal:20260205T180000
DTEND;TZID=America/Montreal:20260205T210000
DTSTAMP:20260419T215623
CREATED:20251125T165519Z
LAST-MODIFIED:20251125T165519Z
UID:10010641-1770314400-1770325200@www.lemontmartre.ca
SUMMARY:Groupe St-Antoine 19H
DESCRIPTION:
URL:https://www.lemontmartre.ca/event/groupe-st-antoine-19h-5/2026-02-05/
CATEGORIES:C. Staub
END:VEVENT
BEGIN:VEVENT
DTSTART;TZID=America/Montreal:20260207T071500
DTEND;TZID=America/Montreal:20260207T160000
DTSTAMP:20260419T215623
CREATED:20251212T164743Z
LAST-MODIFIED:20251212T164743Z
UID:10011554-1770448500-1770480000@www.lemontmartre.ca
SUMMARY:ADQC 8H
DESCRIPTION:
URL:https://www.lemontmartre.ca/event/adqc-8h-3/
CATEGORIES:C. Staub
END:VEVENT
BEGIN:VEVENT
DTSTART;TZID=America/Montreal:20260210T183000
DTEND;TZID=America/Montreal:20260210T213000
DTSTAMP:20260419T215623
CREATED:20250923T192855Z
LAST-MODIFIED:20250923T192855Z
UID:10009984-1770748200-1770759000@www.lemontmartre.ca
SUMMARY:La Schola Cantorum 18H30
DESCRIPTION:
URL:https://www.lemontmartre.ca/event/la-schola-cantorum-18h30-6/
CATEGORIES:C. Staub
END:VEVENT
BEGIN:VEVENT
DTSTART;TZID=America/Montreal:20260212T180000
DTEND;TZID=America/Montreal:20260212T210000
DTSTAMP:20260419T215623
CREATED:20251125T165519Z
LAST-MODIFIED:20251125T165519Z
UID:10010642-1770919200-1770930000@www.lemontmartre.ca
SUMMARY:Groupe St-Antoine 19H
DESCRIPTION:
URL:https://www.lemontmartre.ca/event/groupe-st-antoine-19h-5/2026-02-12/
CATEGORIES:C. Staub
END:VEVENT
BEGIN:VEVENT
DTSTART;TZID=America/Montreal:20260215T123000
DTEND;TZID=America/Montreal:20260215T160000
DTSTAMP:20260419T215623
CREATED:20260206T215927Z
LAST-MODIFIED:20260206T215927Z
UID:10012334-1771158600-1771171200@www.lemontmartre.ca
SUMMARY:Biodanza 13H
DESCRIPTION:
URL:https://www.lemontmartre.ca/event/biodanza-13h-2/
CATEGORIES:C. Staub
END:VEVENT
BEGIN:VEVENT
DTSTART;TZID=America/Montreal:20260219T180000
DTEND;TZID=America/Montreal:20260219T210000
DTSTAMP:20260419T215623
CREATED:20251125T165519Z
LAST-MODIFIED:20251125T165519Z
UID:10010643-1771524000-1771534800@www.lemontmartre.ca
SUMMARY:Groupe St-Antoine 19H
DESCRIPTION:
URL:https://www.lemontmartre.ca/event/groupe-st-antoine-19h-5/2026-02-19/
CATEGORIES:C. Staub
END:VEVENT
BEGIN:VEVENT
DTSTART;TZID=America/Montreal:20260221T080000
DTEND;TZID=America/Montreal:20260221T160000
DTSTAMP:20260419T215623
CREATED:20260206T221536Z
LAST-MODIFIED:20260206T221536Z
UID:10012341-1771660800-1771689600@www.lemontmartre.ca
SUMMARY:Communauté Jean de la Croix 8H15
DESCRIPTION:
URL:https://www.lemontmartre.ca/event/communaute-jean-de-la-croix-8h15-6/
CATEGORIES:C. Staub
END:VEVENT
BEGIN:VEVENT
DTSTART;TZID=America/Montreal:20260222T084500
DTEND;TZID=America/Montreal:20260222T120000
DTSTAMP:20260419T215623
CREATED:20251210T162609Z
LAST-MODIFIED:20251210T162609Z
UID:10011536-1771749900-1771761600@www.lemontmartre.ca
SUMMARY:Groupe Harmonie 10H
DESCRIPTION:
URL:https://www.lemontmartre.ca/event/groupe-harmonie-10h-4/
CATEGORIES:C. Staub
END:VEVENT
BEGIN:VEVENT
DTSTART;TZID=America/Montreal:20260226T180000
DTEND;TZID=America/Montreal:20260226T210000
DTSTAMP:20260419T215623
CREATED:20251125T165519Z
LAST-MODIFIED:20251125T165519Z
UID:10010644-1772128800-1772139600@www.lemontmartre.ca
SUMMARY:Groupe St-Antoine 19H
DESCRIPTION:
URL:https://www.lemontmartre.ca/event/groupe-st-antoine-19h-5/2026-02-26/
CATEGORIES:C. Staub
END:VEVENT
END:VCALENDAR