BEGIN:VCALENDAR
VERSION:2.0
PRODID:-//Le Montmartre - ECPv6.15.13//NONSGML v1.0//EN
CALSCALE:GREGORIAN
METHOD:PUBLISH
X-ORIGINAL-URL:https://www.lemontmartre.ca
X-WR-CALDESC:Évènements pour Le Montmartre
REFRESH-INTERVAL;VALUE=DURATION:PT1H
X-Robots-Tag:noindex
X-PUBLISHED-TTL:PT1H
BEGIN:VTIMEZONE
TZID:America/Montreal
BEGIN:DAYLIGHT
TZOFFSETFROM:-0500
TZOFFSETTO:-0400
TZNAME:EDT
DTSTART:20240310T070000
END:DAYLIGHT
BEGIN:STANDARD
TZOFFSETFROM:-0400
TZOFFSETTO:-0500
TZNAME:EST
DTSTART:20241103T060000
END:STANDARD
BEGIN:DAYLIGHT
TZOFFSETFROM:-0500
TZOFFSETTO:-0400
TZNAME:EDT
DTSTART:20250309T070000
END:DAYLIGHT
BEGIN:STANDARD
TZOFFSETFROM:-0400
TZOFFSETTO:-0500
TZNAME:EST
DTSTART:20251102T060000
END:STANDARD
BEGIN:DAYLIGHT
TZOFFSETFROM:-0500
TZOFFSETTO:-0400
TZNAME:EDT
DTSTART:20260308T070000
END:DAYLIGHT
BEGIN:STANDARD
TZOFFSETFROM:-0400
TZOFFSETTO:-0500
TZNAME:EST
DTSTART:20261101T060000
END:STANDARD
END:VTIMEZONE
BEGIN:VEVENT
DTSTART;TZID=America/Montreal:20251002T180000
DTEND;TZID=America/Montreal:20251002T210000
DTSTAMP:20260420T100711
CREATED:20250220T202348Z
LAST-MODIFIED:20251125T165159Z
UID:10007456-1759428000-1759438800@www.lemontmartre.ca
SUMMARY:Groupe St-Antoine 19H
DESCRIPTION:
URL:https://www.lemontmartre.ca/event/groupe-st-antoine-19h/2025-10-02/
CATEGORIES:C. Staub
END:VEVENT
BEGIN:VEVENT
DTSTART;TZID=America/Montreal:20251004T070000
DTEND;TZID=America/Montreal:20251004T203000
DTSTAMP:20260420T100711
CREATED:20250924T202954Z
LAST-MODIFIED:20250924T202954Z
UID:10009992-1759561200-1759609800@www.lemontmartre.ca
SUMMARY:Renouveau charismatique 8H30
DESCRIPTION:
URL:https://www.lemontmartre.ca/event/renouveau-charismatique-8h30-2/
CATEGORIES:C. Staub
END:VEVENT
BEGIN:VEVENT
DTSTART;TZID=America/Montreal:20251005T120000
DTEND;TZID=America/Montreal:20251005T190000
DTSTAMP:20260420T100711
CREATED:20250924T002513Z
LAST-MODIFIED:20250924T002513Z
UID:10009988-1759665600-1759690800@www.lemontmartre.ca
SUMMARY:Mouvement du cursillo secteur Québec  15H30
DESCRIPTION:
URL:https://www.lemontmartre.ca/event/mouvement-du-cursillo-secteur-quebec-15h30-2/
CATEGORIES:C. Staub
END:VEVENT
BEGIN:VEVENT
DTSTART;TZID=America/Montreal:20251007T070000
DTEND;TZID=America/Montreal:20251007T190000
DTSTAMP:20260420T100711
CREATED:20250926T202508Z
LAST-MODIFIED:20250926T202508Z
UID:10009996-1759820400-1759863600@www.lemontmartre.ca
SUMMARY:GMF-U Laurier 8H30
DESCRIPTION:
URL:https://www.lemontmartre.ca/event/gmf-u-laurier-8h30-2/
CATEGORIES:C. Staub
END:VEVENT
BEGIN:VEVENT
DTSTART;TZID=America/Montreal:20251009T180000
DTEND;TZID=America/Montreal:20251009T210000
DTSTAMP:20260420T100711
CREATED:20250220T202348Z
LAST-MODIFIED:20251125T165159Z
UID:10007457-1760032800-1760043600@www.lemontmartre.ca
SUMMARY:Groupe St-Antoine 19H
DESCRIPTION:
URL:https://www.lemontmartre.ca/event/groupe-st-antoine-19h/2025-10-09/
CATEGORIES:C. Staub
END:VEVENT
BEGIN:VEVENT
DTSTART;TZID=America/Montreal:20251010T170000
DTEND;TZID=America/Montreal:20251010T190000
DTSTAMP:20260420T100711
CREATED:20251002T183359Z
LAST-MODIFIED:20251002T183359Z
UID:10010002-1760115600-1760122800@www.lemontmartre.ca
SUMMARY:5 à 7 Montmartre 17H
DESCRIPTION:
URL:https://www.lemontmartre.ca/event/5-a-7-montmartre-17h-9/
CATEGORIES:C. Staub
END:VEVENT
BEGIN:VEVENT
DTSTART;TZID=America/Montreal:20251013T103000
DTEND;TZID=America/Montreal:20251013T170000
DTSTAMP:20260420T100711
CREATED:20251002T184155Z
LAST-MODIFIED:20251002T184155Z
UID:10010011-1760351400-1760374800@www.lemontmartre.ca
SUMMARY:Daniel Beausoleil  13H30
DESCRIPTION:
URL:https://www.lemontmartre.ca/event/daniel-beausoleil-13h30/
CATEGORIES:C. Staub
END:VEVENT
BEGIN:VEVENT
DTSTART;TZID=America/Montreal:20251014T183000
DTEND;TZID=America/Montreal:20251014T210000
DTSTAMP:20260420T100711
CREATED:20250923T192548Z
LAST-MODIFIED:20250923T192548Z
UID:10009980-1760466600-1760475600@www.lemontmartre.ca
SUMMARY:La Schola Cantorum 18H30
DESCRIPTION:
URL:https://www.lemontmartre.ca/event/la-schola-cantorum-18h30-2/
CATEGORIES:C. Staub
END:VEVENT
BEGIN:VEVENT
DTSTART;TZID=America/Montreal:20251016T180000
DTEND;TZID=America/Montreal:20251016T210000
DTSTAMP:20260420T100711
CREATED:20250220T202348Z
LAST-MODIFIED:20251125T165159Z
UID:10007458-1760637600-1760648400@www.lemontmartre.ca
SUMMARY:Groupe St-Antoine 19H
DESCRIPTION:
URL:https://www.lemontmartre.ca/event/groupe-st-antoine-19h/2025-10-16/
CATEGORIES:C. Staub
END:VEVENT
BEGIN:VEVENT
DTSTART;TZID=America/Montreal:20251018T083000
DTEND;TZID=America/Montreal:20251018T160000
DTSTAMP:20260420T100711
CREATED:20251002T191633Z
LAST-MODIFIED:20251002T191633Z
UID:10010023-1760776200-1760803200@www.lemontmartre.ca
SUMMARY:Société d'Histoire des Filles du Roy 9H
DESCRIPTION:
URL:https://www.lemontmartre.ca/event/societe-dhistoire-des-filles-du-roy-9h-10/
CATEGORIES:C. Staub
END:VEVENT
BEGIN:VEVENT
DTSTART;TZID=America/Montreal:20251022T093000
DTEND;TZID=America/Montreal:20251022T113000
DTSTAMP:20260420T100711
CREATED:20250828T190925Z
LAST-MODIFIED:20250828T190925Z
UID:10008576-1761125400-1761132600@www.lemontmartre.ca
SUMMARY:Les matins intelligents 9H30
DESCRIPTION:
URL:https://www.lemontmartre.ca/event/les-matins-intelligents-9h30-14/
CATEGORIES:C. Staub
END:VEVENT
BEGIN:VEVENT
DTSTART;TZID=America/Montreal:20251023T180000
DTEND;TZID=America/Montreal:20251023T210000
DTSTAMP:20260420T100711
CREATED:20250220T202348Z
LAST-MODIFIED:20251125T165159Z
UID:10007459-1761242400-1761253200@www.lemontmartre.ca
SUMMARY:Groupe St-Antoine 19H
DESCRIPTION:
URL:https://www.lemontmartre.ca/event/groupe-st-antoine-19h/2025-10-23/
CATEGORIES:C. Staub
END:VEVENT
BEGIN:VEVENT
DTSTART;TZID=America/Montreal:20251024T170000
DTEND;TZID=America/Montreal:20251024T190000
DTSTAMP:20260420T100711
CREATED:20251010T200920Z
LAST-MODIFIED:20251010T200920Z
UID:10010042-1761325200-1761332400@www.lemontmartre.ca
SUMMARY:5 à 7 Montmartre 17H
DESCRIPTION:
URL:https://www.lemontmartre.ca/event/5-a-7-montmartre-17h-10/
CATEGORIES:C. Staub
END:VEVENT
BEGIN:VEVENT
DTSTART;TZID=America/Montreal:20251025T080000
DTEND;TZID=America/Montreal:20251025T160000
DTSTAMP:20260420T100711
CREATED:20251003T192426Z
LAST-MODIFIED:20251003T192426Z
UID:10010036-1761379200-1761408000@www.lemontmartre.ca
SUMMARY:Communauté Jean de la Croix 8H15
DESCRIPTION:
URL:https://www.lemontmartre.ca/event/communaute-jean-de-la-croix-8h15-2/
CATEGORIES:C. Staub
END:VEVENT
BEGIN:VEVENT
DTSTART;TZID=America/Montreal:20251027T180000
DTEND;TZID=America/Montreal:20251027T220000
DTSTAMP:20260420T100711
CREATED:20251003T205939Z
LAST-MODIFIED:20251003T205939Z
UID:10010041-1761588000-1761602400@www.lemontmartre.ca
SUMMARY:SC les condos du Domaine 19H
DESCRIPTION:
URL:https://www.lemontmartre.ca/event/sc-les-condos-du-domaine-19h/
CATEGORIES:C. Staub
END:VEVENT
BEGIN:VEVENT
DTSTART;TZID=America/Montreal:20251029T180000
DTEND;TZID=America/Montreal:20251029T220000
DTSTAMP:20260420T100711
CREATED:20251015T165022Z
LAST-MODIFIED:20251015T165022Z
UID:10010136-1761760800-1761775200@www.lemontmartre.ca
SUMMARY:SDC 10 Jardins Mérici 19H
DESCRIPTION:
URL:https://www.lemontmartre.ca/event/sdc-10-jardins-merici-19h/
CATEGORIES:C. Staub
END:VEVENT
BEGIN:VEVENT
DTSTART;TZID=America/Montreal:20251030T180000
DTEND;TZID=America/Montreal:20251030T210000
DTSTAMP:20260420T100711
CREATED:20250220T202348Z
LAST-MODIFIED:20251125T165159Z
UID:10007460-1761847200-1761858000@www.lemontmartre.ca
SUMMARY:Groupe St-Antoine 19H
DESCRIPTION:
URL:https://www.lemontmartre.ca/event/groupe-st-antoine-19h/2025-10-30/
CATEGORIES:C. Staub
END:VEVENT
END:VCALENDAR