BEGIN:VCALENDAR
VERSION:2.0
PRODID:-//Le Montmartre - ECPv6.15.13//NONSGML v1.0//EN
CALSCALE:GREGORIAN
METHOD:PUBLISH
X-ORIGINAL-URL:https://www.lemontmartre.ca
X-WR-CALDESC:Évènements pour Le Montmartre
REFRESH-INTERVAL;VALUE=DURATION:PT1H
X-Robots-Tag:noindex
X-PUBLISHED-TTL:PT1H
BEGIN:VTIMEZONE
TZID:America/Montreal
BEGIN:DAYLIGHT
TZOFFSETFROM:-0500
TZOFFSETTO:-0400
TZNAME:EDT
DTSTART:20240310T070000
END:DAYLIGHT
BEGIN:STANDARD
TZOFFSETFROM:-0400
TZOFFSETTO:-0500
TZNAME:EST
DTSTART:20241103T060000
END:STANDARD
BEGIN:DAYLIGHT
TZOFFSETFROM:-0500
TZOFFSETTO:-0400
TZNAME:EDT
DTSTART:20250309T070000
END:DAYLIGHT
BEGIN:STANDARD
TZOFFSETFROM:-0400
TZOFFSETTO:-0500
TZNAME:EST
DTSTART:20251102T060000
END:STANDARD
BEGIN:DAYLIGHT
TZOFFSETFROM:-0500
TZOFFSETTO:-0400
TZNAME:EDT
DTSTART:20260308T070000
END:DAYLIGHT
BEGIN:STANDARD
TZOFFSETFROM:-0400
TZOFFSETTO:-0500
TZNAME:EST
DTSTART:20261101T060000
END:STANDARD
END:VTIMEZONE
BEGIN:VEVENT
DTSTART;TZID=America/Montreal:20250501T180000
DTEND;TZID=America/Montreal:20250501T210000
DTSTAMP:20260422T050238
CREATED:20250220T202348Z
LAST-MODIFIED:20251125T165159Z
UID:10007434-1746122400-1746133200@www.lemontmartre.ca
SUMMARY:Groupe St-Antoine 19H
DESCRIPTION:
URL:https://www.lemontmartre.ca/event/groupe-st-antoine-19h/2025-05-01/
CATEGORIES:C. Staub
END:VEVENT
BEGIN:VEVENT
DTSTART;TZID=America/Montreal:20250505T153000
DTEND;TZID=America/Montreal:20250505T180000
DTSTAMP:20260422T050238
CREATED:20250502T192320Z
LAST-MODIFIED:20250502T192320Z
UID:10007948-1746459000-1746468000@www.lemontmartre.ca
SUMMARY:Condo l'Horizontal 16H
DESCRIPTION:
URL:https://www.lemontmartre.ca/event/condo-lhorizontal-16h/
CATEGORIES:C. Staub
END:VEVENT
BEGIN:VEVENT
DTSTART;TZID=America/Montreal:20250508T180000
DTEND;TZID=America/Montreal:20250508T210000
DTSTAMP:20260422T050238
CREATED:20250220T202348Z
LAST-MODIFIED:20251125T165159Z
UID:10007435-1746727200-1746738000@www.lemontmartre.ca
SUMMARY:Groupe St-Antoine 19H
DESCRIPTION:
URL:https://www.lemontmartre.ca/event/groupe-st-antoine-19h/2025-05-08/
CATEGORIES:C. Staub
END:VEVENT
BEGIN:VEVENT
DTSTART;TZID=America/Montreal:20250509T074500
DTEND;TZID=America/Montreal:20250509T160000
DTSTAMP:20260422T050238
CREATED:20250424T205359Z
LAST-MODIFIED:20250424T205359Z
UID:10007941-1746776700-1746806400@www.lemontmartre.ca
SUMMARY:Centre de médiation Iris 8H30
DESCRIPTION:
URL:https://www.lemontmartre.ca/event/centre-de-mediation-iris-8h30/2025-05-09/
CATEGORIES:C. Staub
END:VEVENT
BEGIN:VEVENT
DTSTART;TZID=America/Montreal:20250510T074500
DTEND;TZID=America/Montreal:20250510T160000
DTSTAMP:20260422T050238
CREATED:20250424T205359Z
LAST-MODIFIED:20250424T205359Z
UID:10007942-1746863100-1746892800@www.lemontmartre.ca
SUMMARY:Centre de médiation Iris 8H30
DESCRIPTION:
URL:https://www.lemontmartre.ca/event/centre-de-mediation-iris-8h30/2025-05-10/
CATEGORIES:C. Staub
END:VEVENT
BEGIN:VEVENT
DTSTART;TZID=America/Montreal:20250514T093000
DTEND;TZID=America/Montreal:20250514T113000
DTSTAMP:20260422T050238
CREATED:20250502T193523Z
LAST-MODIFIED:20250502T193828Z
UID:10007955-1747215000-1747222200@www.lemontmartre.ca
SUMMARY:Les matins intelligents 9H30
DESCRIPTION:
URL:https://www.lemontmartre.ca/event/les-matins-intelligents-9h30-11/
CATEGORIES:C. Staub
END:VEVENT
BEGIN:VEVENT
DTSTART;TZID=America/Montreal:20250515T180000
DTEND;TZID=America/Montreal:20250515T210000
DTSTAMP:20260422T050238
CREATED:20250220T202348Z
LAST-MODIFIED:20251125T165159Z
UID:10007436-1747332000-1747342800@www.lemontmartre.ca
SUMMARY:Groupe St-Antoine 19H
DESCRIPTION:
URL:https://www.lemontmartre.ca/event/groupe-st-antoine-19h/2025-05-15/
CATEGORIES:C. Staub
END:VEVENT
BEGIN:VEVENT
DTSTART;TZID=America/Montreal:20250517T080000
DTEND;TZID=America/Montreal:20250517T160000
DTSTAMP:20260422T050238
CREATED:20250502T202537Z
LAST-MODIFIED:20250502T202537Z
UID:10007957-1747468800-1747497600@www.lemontmartre.ca
SUMMARY:Communauté Jean de la Croix 8H30
DESCRIPTION:
URL:https://www.lemontmartre.ca/event/communaute-jean-de-la-croix-8h30/
CATEGORIES:C. Staub
END:VEVENT
BEGIN:VEVENT
DTSTART;TZID=America/Montreal:20250522T180000
DTEND;TZID=America/Montreal:20250522T210000
DTSTAMP:20260422T050238
CREATED:20250220T202348Z
LAST-MODIFIED:20251125T165159Z
UID:10007437-1747936800-1747947600@www.lemontmartre.ca
SUMMARY:Groupe St-Antoine 19H
DESCRIPTION:
URL:https://www.lemontmartre.ca/event/groupe-st-antoine-19h/2025-05-22/
CATEGORIES:C. Staub
END:VEVENT
BEGIN:VEVENT
DTSTART;TZID=America/Montreal:20250527T083000
DTEND;TZID=America/Montreal:20250527T233000
DTSTAMP:20260422T050238
CREATED:20250515T202418Z
LAST-MODIFIED:20250515T202418Z
UID:10007976-1748334600-1748388600@www.lemontmartre.ca
SUMMARY:Une semaine pour Jésus 8H30
DESCRIPTION:
URL:https://www.lemontmartre.ca/event/une-semaine-pour-jesus-8h30-3/2025-05-27/
CATEGORIES:C. Staub
END:VEVENT
BEGIN:VEVENT
DTSTART;TZID=America/Montreal:20250528T083000
DTEND;TZID=America/Montreal:20250528T233000
DTSTAMP:20260422T050238
CREATED:20250515T202418Z
LAST-MODIFIED:20250515T202418Z
UID:10007977-1748421000-1748475000@www.lemontmartre.ca
SUMMARY:Une semaine pour Jésus 8H30
DESCRIPTION:
URL:https://www.lemontmartre.ca/event/une-semaine-pour-jesus-8h30-3/2025-05-28/
CATEGORIES:C. Staub
END:VEVENT
BEGIN:VEVENT
DTSTART;TZID=America/Montreal:20250529T083000
DTEND;TZID=America/Montreal:20250529T233000
DTSTAMP:20260422T050238
CREATED:20250515T202418Z
LAST-MODIFIED:20250515T202418Z
UID:10007978-1748507400-1748561400@www.lemontmartre.ca
SUMMARY:Une semaine pour Jésus 8H30
DESCRIPTION:
URL:https://www.lemontmartre.ca/event/une-semaine-pour-jesus-8h30-3/2025-05-29/
CATEGORIES:C. Staub
END:VEVENT
BEGIN:VEVENT
DTSTART;TZID=America/Montreal:20250530T083000
DTEND;TZID=America/Montreal:20250530T233000
DTSTAMP:20260422T050238
CREATED:20250515T202418Z
LAST-MODIFIED:20250515T202418Z
UID:10007979-1748593800-1748647800@www.lemontmartre.ca
SUMMARY:Une semaine pour Jésus 8H30
DESCRIPTION:
URL:https://www.lemontmartre.ca/event/une-semaine-pour-jesus-8h30-3/2025-05-30/
CATEGORIES:C. Staub
END:VEVENT
BEGIN:VEVENT
DTSTART;TZID=America/Montreal:20250531T083000
DTEND;TZID=America/Montreal:20250531T233000
DTSTAMP:20260422T050238
CREATED:20250515T202418Z
LAST-MODIFIED:20250515T202418Z
UID:10007980-1748680200-1748734200@www.lemontmartre.ca
SUMMARY:Une semaine pour Jésus 8H30
DESCRIPTION:
URL:https://www.lemontmartre.ca/event/une-semaine-pour-jesus-8h30-3/2025-05-31/
CATEGORIES:C. Staub
END:VEVENT
END:VCALENDAR