BEGIN:VCALENDAR
VERSION:2.0
PRODID:-//Le Montmartre - ECPv6.15.13//NONSGML v1.0//EN
CALSCALE:GREGORIAN
METHOD:PUBLISH
X-WR-CALNAME:Le Montmartre
X-ORIGINAL-URL:https://www.lemontmartre.ca
X-WR-CALDESC:Évènements pour Le Montmartre
REFRESH-INTERVAL;VALUE=DURATION:PT1H
X-Robots-Tag:noindex
X-PUBLISHED-TTL:PT1H
BEGIN:VTIMEZONE
TZID:America/Montreal
BEGIN:DAYLIGHT
TZOFFSETFROM:-0500
TZOFFSETTO:-0400
TZNAME:EDT
DTSTART:20240310T070000
END:DAYLIGHT
BEGIN:STANDARD
TZOFFSETFROM:-0400
TZOFFSETTO:-0500
TZNAME:EST
DTSTART:20241103T060000
END:STANDARD
BEGIN:DAYLIGHT
TZOFFSETFROM:-0500
TZOFFSETTO:-0400
TZNAME:EDT
DTSTART:20250309T070000
END:DAYLIGHT
BEGIN:STANDARD
TZOFFSETFROM:-0400
TZOFFSETTO:-0500
TZNAME:EST
DTSTART:20251102T060000
END:STANDARD
BEGIN:DAYLIGHT
TZOFFSETFROM:-0500
TZOFFSETTO:-0400
TZNAME:EDT
DTSTART:20260308T070000
END:DAYLIGHT
BEGIN:STANDARD
TZOFFSETFROM:-0400
TZOFFSETTO:-0500
TZNAME:EST
DTSTART:20261101T060000
END:STANDARD
END:VTIMEZONE
BEGIN:VEVENT
DTSTART;TZID=America/Montreal:20250403T180000
DTEND;TZID=America/Montreal:20250403T210000
DTSTAMP:20260422T064959
CREATED:20250220T202348Z
LAST-MODIFIED:20251125T165159Z
UID:10007430-1743703200-1743714000@www.lemontmartre.ca
SUMMARY:Groupe St-Antoine 19H
DESCRIPTION:
URL:https://www.lemontmartre.ca/event/groupe-st-antoine-19h/2025-04-03/
CATEGORIES:C. Staub
END:VEVENT
BEGIN:VEVENT
DTSTART;TZID=America/Montreal:20250404T130000
DTEND;TZID=America/Montreal:20250404T230000
DTSTAMP:20260422T064959
CREATED:20250326T202349Z
LAST-MODIFIED:20250326T202349Z
UID:10007518-1743771600-1743807600@www.lemontmartre.ca
SUMMARY:Orchidophiles de Québec
DESCRIPTION:
URL:https://www.lemontmartre.ca/event/orchidophiles-de-quebec-4/
CATEGORIES:C. Staub
END:VEVENT
BEGIN:VEVENT
DTSTART;TZID=America/Montreal:20250405T063000
DTEND;TZID=America/Montreal:20250405T173000
DTSTAMP:20260422T064959
CREATED:20250326T202441Z
LAST-MODIFIED:20250326T202441Z
UID:10007519-1743834600-1743874200@www.lemontmartre.ca
SUMMARY:Orchidophiles de Québec
DESCRIPTION:
URL:https://www.lemontmartre.ca/event/orchidophiles-de-quebec-5/
CATEGORIES:C. Staub
END:VEVENT
BEGIN:VEVENT
DTSTART;TZID=America/Montreal:20250407T083000
DTEND;TZID=America/Montreal:20250407T160000
DTSTAMP:20260422T064959
CREATED:20250407T153115Z
LAST-MODIFIED:20250407T153115Z
UID:10007918-1744014600-1744041600@www.lemontmartre.ca
SUMMARY:Société d'Histoire des Filles du Roy 9H
DESCRIPTION:
URL:https://www.lemontmartre.ca/event/societe-dhistoire-des-filles-du-roy-9h-9/
CATEGORIES:C. Staub
END:VEVENT
BEGIN:VEVENT
DTSTART;TZID=America/Montreal:20250410T180000
DTEND;TZID=America/Montreal:20250410T210000
DTSTAMP:20260422T064959
CREATED:20250220T202348Z
LAST-MODIFIED:20251125T165159Z
UID:10007431-1744308000-1744318800@www.lemontmartre.ca
SUMMARY:Groupe St-Antoine 19H
DESCRIPTION:
URL:https://www.lemontmartre.ca/event/groupe-st-antoine-19h/2025-04-10/
CATEGORIES:C. Staub
END:VEVENT
BEGIN:VEVENT
DTSTART;TZID=America/Montreal:20250411T170000
DTEND;TZID=America/Montreal:20250411T190000
DTSTAMP:20260422T064959
CREATED:20250401T145212Z
LAST-MODIFIED:20250401T145212Z
UID:10007523-1744390800-1744398000@www.lemontmartre.ca
SUMMARY:5 à 7 Montmartre 17H
DESCRIPTION:
URL:https://www.lemontmartre.ca/event/5-a-7-montmartre-17h-8/
CATEGORIES:C. Staub
END:VEVENT
BEGIN:VEVENT
DTSTART;TZID=America/Montreal:20250413T120000
DTEND;TZID=America/Montreal:20250413T190000
DTSTAMP:20260422T064959
CREATED:20250401T152053Z
LAST-MODIFIED:20250401T152053Z
UID:10007526-1744545600-1744570800@www.lemontmartre.ca
SUMMARY:Mouvement des cursillos 15H45
DESCRIPTION:
URL:https://www.lemontmartre.ca/event/mouvement-des-cursillos-15h45-6/
CATEGORIES:C. Staub
END:VEVENT
BEGIN:VEVENT
DTSTART;TZID=America/Montreal:20250417T180000
DTEND;TZID=America/Montreal:20250417T210000
DTSTAMP:20260422T064959
CREATED:20250220T202348Z
LAST-MODIFIED:20251125T165159Z
UID:10007432-1744912800-1744923600@www.lemontmartre.ca
SUMMARY:Groupe St-Antoine 19H
DESCRIPTION:
URL:https://www.lemontmartre.ca/event/groupe-st-antoine-19h/2025-04-17/
CATEGORIES:C. Staub
END:VEVENT
BEGIN:VEVENT
DTSTART;TZID=America/Montreal:20250423T093000
DTEND;TZID=America/Montreal:20250423T113000
DTSTAMP:20260422T064959
CREATED:20250417T204349Z
LAST-MODIFIED:20250417T204349Z
UID:10007932-1745400600-1745407800@www.lemontmartre.ca
SUMMARY:Les matins intelligents 9H30
DESCRIPTION:
URL:https://www.lemontmartre.ca/event/les-matins-intelligents-9h30-10/
CATEGORIES:C. Staub
END:VEVENT
BEGIN:VEVENT
DTSTART;TZID=America/Montreal:20250424T180000
DTEND;TZID=America/Montreal:20250424T210000
DTSTAMP:20260422T064959
CREATED:20250220T202348Z
LAST-MODIFIED:20251125T165159Z
UID:10007433-1745517600-1745528400@www.lemontmartre.ca
SUMMARY:Groupe St-Antoine 19H
DESCRIPTION:
URL:https://www.lemontmartre.ca/event/groupe-st-antoine-19h/2025-04-24/
CATEGORIES:C. Staub
END:VEVENT
BEGIN:VEVENT
DTSTART;TZID=America/Montreal:20250426T083000
DTEND;TZID=America/Montreal:20250426T160000
DTSTAMP:20260422T064959
CREATED:20241022T161239Z
LAST-MODIFIED:20241022T161239Z
UID:10005442-1745656200-1745683200@www.lemontmartre.ca
SUMMARY:Société d'histoire des Filles du Roy 9H
DESCRIPTION:
URL:https://www.lemontmartre.ca/event/societe-dhistoire-des-filles-du-roy-9h-7/
CATEGORIES:C. Staub
END:VEVENT
BEGIN:VEVENT
DTSTART;TZID=America/Montreal:20250430T190000
DTEND;TZID=America/Montreal:20250430T210000
DTSTAMP:20260422T064959
CREATED:20250423T214204Z
LAST-MODIFIED:20250423T214204Z
UID:10007934-1746039600-1746046800@www.lemontmartre.ca
SUMMARY:Défis et débats 19H30
DESCRIPTION:
URL:https://www.lemontmartre.ca/event/defis-et-debats-19h30-3/
CATEGORIES:C. Staub
END:VEVENT
END:VCALENDAR