BEGIN:VCALENDAR
VERSION:2.0
PRODID:-//Le Montmartre - ECPv6.15.13//NONSGML v1.0//EN
CALSCALE:GREGORIAN
METHOD:PUBLISH
X-ORIGINAL-URL:https://www.lemontmartre.ca
X-WR-CALDESC:Évènements pour Le Montmartre
REFRESH-INTERVAL;VALUE=DURATION:PT1H
X-Robots-Tag:noindex
X-PUBLISHED-TTL:PT1H
BEGIN:VTIMEZONE
TZID:America/Montreal
BEGIN:DAYLIGHT
TZOFFSETFROM:-0500
TZOFFSETTO:-0400
TZNAME:EDT
DTSTART:20240310T070000
END:DAYLIGHT
BEGIN:STANDARD
TZOFFSETFROM:-0400
TZOFFSETTO:-0500
TZNAME:EST
DTSTART:20241103T060000
END:STANDARD
BEGIN:DAYLIGHT
TZOFFSETFROM:-0500
TZOFFSETTO:-0400
TZNAME:EDT
DTSTART:20250309T070000
END:DAYLIGHT
BEGIN:STANDARD
TZOFFSETFROM:-0400
TZOFFSETTO:-0500
TZNAME:EST
DTSTART:20251102T060000
END:STANDARD
BEGIN:DAYLIGHT
TZOFFSETFROM:-0500
TZOFFSETTO:-0400
TZNAME:EDT
DTSTART:20260308T070000
END:DAYLIGHT
BEGIN:STANDARD
TZOFFSETFROM:-0400
TZOFFSETTO:-0500
TZNAME:EST
DTSTART:20261101T060000
END:STANDARD
END:VTIMEZONE
BEGIN:VEVENT
DTSTART;TZID=America/Montreal:20250302T100000
DTEND;TZID=America/Montreal:20250302T160000
DTSTAMP:20260422T083015
CREATED:20250220T201352Z
LAST-MODIFIED:20250220T201352Z
UID:10007421-1740909600-1740931200@www.lemontmartre.ca
SUMMARY:Néo catéchuménat 10H30
DESCRIPTION:
URL:https://www.lemontmartre.ca/event/neo-catechumenat-10h30-6/
CATEGORIES:C. Staub
END:VEVENT
BEGIN:VEVENT
DTSTART;TZID=America/Montreal:20250303T140000
DTEND;TZID=America/Montreal:20250303T160000
DTSTAMP:20260422T083015
CREATED:20241219T232332Z
LAST-MODIFIED:20241219T232332Z
UID:10006791-1741010400-1741017600@www.lemontmartre.ca
SUMMARY:Maisonnée 2 14H
DESCRIPTION:
URL:https://www.lemontmartre.ca/event/maisonnee-2-14h-4/2025-03-03/
CATEGORIES:C. Staub
END:VEVENT
BEGIN:VEVENT
DTSTART;TZID=America/Montreal:20250304T090000
DTEND;TZID=America/Montreal:20250304T113000
DTSTAMP:20260422T083015
CREATED:20250220T201557Z
LAST-MODIFIED:20250220T201557Z
UID:10007422-1741078800-1741087800@www.lemontmartre.ca
SUMMARY:Ligue de bridge de Québec 9H15
DESCRIPTION:
URL:https://www.lemontmartre.ca/event/ligue-de-bridge-de-quebec-9h15-4/
CATEGORIES:C. Staub
END:VEVENT
BEGIN:VEVENT
DTSTART;TZID=America/Montreal:20250306T180000
DTEND;TZID=America/Montreal:20250306T210000
DTSTAMP:20260422T083015
CREATED:20250220T202348Z
LAST-MODIFIED:20251125T165159Z
UID:10007426-1741284000-1741294800@www.lemontmartre.ca
SUMMARY:Groupe St-Antoine 19H
DESCRIPTION:
URL:https://www.lemontmartre.ca/event/groupe-st-antoine-19h/2025-03-06/
CATEGORIES:C. Staub
END:VEVENT
BEGIN:VEVENT
DTSTART;TZID=America/Montreal:20250308T093000
DTEND;TZID=America/Montreal:20250308T213000
DTSTAMP:20260422T083016
CREATED:20250220T202820Z
LAST-MODIFIED:20250220T202820Z
UID:10007472-1741426200-1741469400@www.lemontmartre.ca
SUMMARY:ADQC 13H
DESCRIPTION:
URL:https://www.lemontmartre.ca/event/adqc-13h-3/
CATEGORIES:C. Staub
END:VEVENT
BEGIN:VEVENT
DTSTART;TZID=America/Montreal:20250313T180000
DTEND;TZID=America/Montreal:20250313T210000
DTSTAMP:20260422T083016
CREATED:20250220T202348Z
LAST-MODIFIED:20251125T165159Z
UID:10007427-1741888800-1741899600@www.lemontmartre.ca
SUMMARY:Groupe St-Antoine 19H
DESCRIPTION:
URL:https://www.lemontmartre.ca/event/groupe-st-antoine-19h/2025-03-13/
CATEGORIES:C. Staub
END:VEVENT
BEGIN:VEVENT
DTSTART;TZID=America/Montreal:20250314T170000
DTEND;TZID=America/Montreal:20250314T190000
DTSTAMP:20260422T083016
CREATED:20250220T203302Z
LAST-MODIFIED:20250220T203302Z
UID:10007477-1741971600-1741978800@www.lemontmartre.ca
SUMMARY:5 à 7 Montmartre 17H
DESCRIPTION:
URL:https://www.lemontmartre.ca/event/5-a-7-montmartre-17h-7/
CATEGORIES:C. Staub
END:VEVENT
BEGIN:VEVENT
DTSTART;TZID=America/Montreal:20250320T180000
DTEND;TZID=America/Montreal:20250320T210000
DTSTAMP:20260422T083016
CREATED:20250220T202348Z
LAST-MODIFIED:20251125T165159Z
UID:10007428-1742493600-1742504400@www.lemontmartre.ca
SUMMARY:Groupe St-Antoine 19H
DESCRIPTION:
URL:https://www.lemontmartre.ca/event/groupe-st-antoine-19h/2025-03-20/
CATEGORIES:C. Staub
END:VEVENT
BEGIN:VEVENT
DTSTART;TZID=America/Montreal:20250322T083000
DTEND;TZID=America/Montreal:20250322T160000
DTSTAMP:20260422T083016
CREATED:20241022T161203Z
LAST-MODIFIED:20241022T161203Z
UID:10005441-1742632200-1742659200@www.lemontmartre.ca
SUMMARY:Société d'histoire des Filles du Roy 9H
DESCRIPTION:
URL:https://www.lemontmartre.ca/event/societe-dhistoire-des-filles-du-roy-9h-6/
CATEGORIES:C. Staub
END:VEVENT
BEGIN:VEVENT
DTSTART;TZID=America/Montreal:20250327T180000
DTEND;TZID=America/Montreal:20250327T210000
DTSTAMP:20260422T083016
CREATED:20250220T202348Z
LAST-MODIFIED:20251125T165159Z
UID:10007429-1743098400-1743109200@www.lemontmartre.ca
SUMMARY:Groupe St-Antoine 19H
DESCRIPTION:
URL:https://www.lemontmartre.ca/event/groupe-st-antoine-19h/2025-03-27/
CATEGORIES:C. Staub
END:VEVENT
BEGIN:VEVENT
DTSTART;TZID=America/Montreal:20250329T080000
DTEND;TZID=America/Montreal:20250329T153000
DTSTAMP:20260422T083016
CREATED:20250314T174208Z
LAST-MODIFIED:20250314T174208Z
UID:10007503-1743235200-1743262200@www.lemontmartre.ca
SUMMARY:Communauté Jean de la Croix 8H
DESCRIPTION:
URL:https://www.lemontmartre.ca/event/communaute-jean-de-la-croix-8h-7/
CATEGORIES:C. Staub
END:VEVENT
END:VCALENDAR