BEGIN:VCALENDAR
VERSION:2.0
PRODID:-//Le Montmartre - ECPv6.15.13//NONSGML v1.0//EN
CALSCALE:GREGORIAN
METHOD:PUBLISH
X-WR-CALNAME:Le Montmartre
X-ORIGINAL-URL:https://www.lemontmartre.ca
X-WR-CALDESC:Évènements pour Le Montmartre
REFRESH-INTERVAL;VALUE=DURATION:PT1H
X-Robots-Tag:noindex
X-PUBLISHED-TTL:PT1H
BEGIN:VTIMEZONE
TZID:America/Montreal
BEGIN:DAYLIGHT
TZOFFSETFROM:-0500
TZOFFSETTO:-0400
TZNAME:EDT
DTSTART:20240310T070000
END:DAYLIGHT
BEGIN:STANDARD
TZOFFSETFROM:-0400
TZOFFSETTO:-0500
TZNAME:EST
DTSTART:20241103T060000
END:STANDARD
BEGIN:DAYLIGHT
TZOFFSETFROM:-0500
TZOFFSETTO:-0400
TZNAME:EDT
DTSTART:20250309T070000
END:DAYLIGHT
BEGIN:STANDARD
TZOFFSETFROM:-0400
TZOFFSETTO:-0500
TZNAME:EST
DTSTART:20251102T060000
END:STANDARD
BEGIN:DAYLIGHT
TZOFFSETFROM:-0500
TZOFFSETTO:-0400
TZNAME:EDT
DTSTART:20260308T070000
END:DAYLIGHT
BEGIN:STANDARD
TZOFFSETFROM:-0400
TZOFFSETTO:-0500
TZNAME:EST
DTSTART:20261101T060000
END:STANDARD
END:VTIMEZONE
BEGIN:VEVENT
DTSTART;TZID=America/Montreal:20250203T140000
DTEND;TZID=America/Montreal:20250203T160000
DTSTAMP:20260422T114840
CREATED:20241219T232332Z
LAST-MODIFIED:20241219T232332Z
UID:10006789-1738591200-1738598400@www.lemontmartre.ca
SUMMARY:Maisonnée 2 14H
DESCRIPTION:
URL:https://www.lemontmartre.ca/event/maisonnee-2-14h-4/2025-02-03/
CATEGORIES:C. Staub
END:VEVENT
BEGIN:VEVENT
DTSTART;TZID=America/Montreal:20250205T090000
DTEND;TZID=America/Montreal:20250205T113000
DTSTAMP:20260422T114840
CREATED:20250124T152722Z
LAST-MODIFIED:20250124T152722Z
UID:10007006-1738746000-1738755000@www.lemontmartre.ca
SUMMARY:Les matins intelligent 9H30
DESCRIPTION:
URL:https://www.lemontmartre.ca/event/les-matins-intelligent-9h30/
CATEGORIES:C. Staub
END:VEVENT
BEGIN:VEVENT
DTSTART;TZID=America/Montreal:20250207T170000
DTEND;TZID=America/Montreal:20250207T190000
DTSTAMP:20260422T114840
CREATED:20250124T153245Z
LAST-MODIFIED:20250124T153245Z
UID:10007008-1738947600-1738954800@www.lemontmartre.ca
SUMMARY:5 à 7 Montmartre 17H
DESCRIPTION:
URL:https://www.lemontmartre.ca/event/5-a-7-montmartre-17h-6/
CATEGORIES:C. Staub
END:VEVENT
BEGIN:VEVENT
DTSTART;TZID=America/Montreal:20250208T071500
DTEND;TZID=America/Montreal:20250208T160000
DTSTAMP:20260422T114840
CREATED:20250124T155540Z
LAST-MODIFIED:20250124T155540Z
UID:10007011-1738998900-1739030400@www.lemontmartre.ca
SUMMARY:ADQC 8h00
DESCRIPTION:
URL:https://www.lemontmartre.ca/event/adqc-8h00-2/
CATEGORIES:C. Staub
END:VEVENT
BEGIN:VEVENT
DTSTART;TZID=America/Montreal:20250215T083000
DTEND;TZID=America/Montreal:20250215T160000
DTSTAMP:20260422T114840
CREATED:20241022T161133Z
LAST-MODIFIED:20241022T161133Z
UID:10005440-1739608200-1739635200@www.lemontmartre.ca
SUMMARY:Société d'histoire des Filles du Roy 9H
DESCRIPTION:
URL:https://www.lemontmartre.ca/event/societe-dhistoire-des-filles-du-roy-9h-5/
CATEGORIES:C. Staub
END:VEVENT
BEGIN:VEVENT
DTSTART;TZID=America/Montreal:20250216T120000
DTEND;TZID=America/Montreal:20250216T190000
DTSTAMP:20260422T114840
CREATED:20250207T204546Z
LAST-MODIFIED:20250207T204546Z
UID:10007399-1739707200-1739732400@www.lemontmartre.ca
SUMMARY:Mouvement des Cursillos 15H45
DESCRIPTION:
URL:https://www.lemontmartre.ca/event/mouvement-des-cursillos-15h45-2/
CATEGORIES:C. Staub
END:VEVENT
BEGIN:VEVENT
DTSTART;TZID=America/Montreal:20250217T140000
DTEND;TZID=America/Montreal:20250217T160000
DTSTAMP:20260422T114840
CREATED:20241219T232332Z
LAST-MODIFIED:20241219T232332Z
UID:10006790-1739800800-1739808000@www.lemontmartre.ca
SUMMARY:Maisonnée 2 14H
DESCRIPTION:
URL:https://www.lemontmartre.ca/event/maisonnee-2-14h-4/2025-02-17/
CATEGORIES:C. Staub
END:VEVENT
BEGIN:VEVENT
DTSTART;TZID=America/Montreal:20250223T083000
DTEND;TZID=America/Montreal:20250223T160000
DTSTAMP:20260422T114840
CREATED:20250207T205311Z
LAST-MODIFIED:20250207T205311Z
UID:10007405-1740299400-1740326400@www.lemontmartre.ca
SUMMARY:Tel-Aide Québec 9H
DESCRIPTION:
URL:https://www.lemontmartre.ca/event/tel-aide-quebec-9h/
CATEGORIES:C. Staub
END:VEVENT
BEGIN:VEVENT
DTSTART;TZID=America/Montreal:20250226T090000
DTEND;TZID=America/Montreal:20250226T113000
DTSTAMP:20260422T114840
CREATED:20250207T212449Z
LAST-MODIFIED:20250207T212449Z
UID:10007410-1740560400-1740569400@www.lemontmartre.ca
SUMMARY:Les matins intelligents 9H30
DESCRIPTION:
URL:https://www.lemontmartre.ca/event/les-matins-intelligents-9h30-9/
CATEGORIES:C. Staub
END:VEVENT
END:VCALENDAR