BEGIN:VCALENDAR
VERSION:2.0
PRODID:-//Le Montmartre - ECPv6.15.13//NONSGML v1.0//EN
CALSCALE:GREGORIAN
METHOD:PUBLISH
X-WR-CALNAME:Le Montmartre
X-ORIGINAL-URL:https://www.lemontmartre.ca
X-WR-CALDESC:Évènements pour Le Montmartre
REFRESH-INTERVAL;VALUE=DURATION:PT1H
X-Robots-Tag:noindex
X-PUBLISHED-TTL:PT1H
BEGIN:VTIMEZONE
TZID:America/Montreal
BEGIN:DAYLIGHT
TZOFFSETFROM:-0500
TZOFFSETTO:-0400
TZNAME:EDT
DTSTART:20230312T070000
END:DAYLIGHT
BEGIN:STANDARD
TZOFFSETFROM:-0400
TZOFFSETTO:-0500
TZNAME:EST
DTSTART:20231105T060000
END:STANDARD
BEGIN:DAYLIGHT
TZOFFSETFROM:-0500
TZOFFSETTO:-0400
TZNAME:EDT
DTSTART:20240310T070000
END:DAYLIGHT
BEGIN:STANDARD
TZOFFSETFROM:-0400
TZOFFSETTO:-0500
TZNAME:EST
DTSTART:20241103T060000
END:STANDARD
BEGIN:DAYLIGHT
TZOFFSETFROM:-0500
TZOFFSETTO:-0400
TZNAME:EDT
DTSTART:20250309T070000
END:DAYLIGHT
BEGIN:STANDARD
TZOFFSETFROM:-0400
TZOFFSETTO:-0500
TZNAME:EST
DTSTART:20251102T060000
END:STANDARD
END:VTIMEZONE
BEGIN:VEVENT
DTSTART;TZID=America/Montreal:20241007T133000
DTEND;TZID=America/Montreal:20241007T170000
DTSTAMP:20260422T191913
CREATED:20241007T195418Z
LAST-MODIFIED:20241007T195418Z
UID:10005398-1728307800-1728320400@www.lemontmartre.ca
SUMMARY:Maisonnée 2 14H
DESCRIPTION:
URL:https://www.lemontmartre.ca/event/maisonnee-2-14h/
CATEGORIES:C. Staub
END:VEVENT
BEGIN:VEVENT
DTSTART;TZID=America/Montreal:20241010T080000
DTEND;TZID=America/Montreal:20241010T170000
DTSTAMP:20260422T191913
CREATED:20241007T200033Z
LAST-MODIFIED:20241007T200033Z
UID:10005400-1728547200-1728579600@www.lemontmartre.ca
SUMMARY:Centre de médiation Iris 9H
DESCRIPTION:
URL:https://www.lemontmartre.ca/event/centre-de-mediation-iris-9h/2024-10-10/
CATEGORIES:C. Staub
END:VEVENT
BEGIN:VEVENT
DTSTART;TZID=America/Montreal:20241011T080000
DTEND;TZID=America/Montreal:20241011T170000
DTSTAMP:20260422T191913
CREATED:20241007T200033Z
LAST-MODIFIED:20241007T200033Z
UID:10005401-1728633600-1728666000@www.lemontmartre.ca
SUMMARY:Centre de médiation Iris 9H
DESCRIPTION:
URL:https://www.lemontmartre.ca/event/centre-de-mediation-iris-9h/2024-10-11/
CATEGORIES:C. Staub
END:VEVENT
BEGIN:VEVENT
DTSTART;TZID=America/Montreal:20241012T080000
DTEND;TZID=America/Montreal:20241012T170000
DTSTAMP:20260422T191913
CREATED:20241007T200033Z
LAST-MODIFIED:20241007T200033Z
UID:10005402-1728720000-1728752400@www.lemontmartre.ca
SUMMARY:Centre de médiation Iris 9H
DESCRIPTION:
URL:https://www.lemontmartre.ca/event/centre-de-mediation-iris-9h/2024-10-12/
CATEGORIES:C. Staub
END:VEVENT
BEGIN:VEVENT
DTSTART;TZID=America/Montreal:20241015T190000
DTEND;TZID=America/Montreal:20241015T210000
DTSTAMP:20260422T191913
CREATED:20240924T154913Z
LAST-MODIFIED:20240924T154913Z
UID:10005388-1729018800-1729026000@www.lemontmartre.ca
SUMMARY:Augustin l'homme-l'oeuvre 19H
DESCRIPTION:
URL:https://www.lemontmartre.ca/event/augustin-lhomme-loeuvre-19h-2/
CATEGORIES:C. Staub
END:VEVENT
BEGIN:VEVENT
DTSTART;TZID=America/Montreal:20241016T090000
DTEND;TZID=America/Montreal:20241016T113000
DTSTAMP:20260422T191913
CREATED:20240910T232730Z
LAST-MODIFIED:20240910T232730Z
UID:10004561-1729069200-1729078200@www.lemontmartre.ca
SUMMARY:Les matins intelligents 9H30
DESCRIPTION:
URL:https://www.lemontmartre.ca/event/les-matins-intelligents-9h30-4/
CATEGORIES:C. Staub
END:VEVENT
BEGIN:VEVENT
DTSTART;TZID=America/Montreal:20241019T080000
DTEND;TZID=America/Montreal:20241019T153000
DTSTAMP:20260422T191913
CREATED:20241011T191239Z
LAST-MODIFIED:20241011T191239Z
UID:10005417-1729324800-1729351800@www.lemontmartre.ca
SUMMARY:Communauté Jean de la Croix 8H
DESCRIPTION:
URL:https://www.lemontmartre.ca/event/communaute-jean-de-la-croix-8h-2/
CATEGORIES:C. Staub
END:VEVENT
BEGIN:VEVENT
DTSTART;TZID=America/Montreal:20241021T133000
DTEND;TZID=America/Montreal:20241021T160000
DTSTAMP:20260422T191913
CREATED:20241011T192152Z
LAST-MODIFIED:20241011T192152Z
UID:10005421-1729517400-1729526400@www.lemontmartre.ca
SUMMARY:Maisonnée 2 14H
DESCRIPTION:
URL:https://www.lemontmartre.ca/event/maisonnee-2-14h-2/
CATEGORIES:C. Staub
END:VEVENT
BEGIN:VEVENT
DTSTART;TZID=America/Montreal:20241023T090000
DTEND;TZID=America/Montreal:20241023T113000
DTSTAMP:20260422T191913
CREATED:20240910T232802Z
LAST-MODIFIED:20240910T232802Z
UID:10004562-1729674000-1729683000@www.lemontmartre.ca
SUMMARY:Les matins intelligents 9H30
DESCRIPTION:
URL:https://www.lemontmartre.ca/event/les-matins-intelligents-9h30-5/
CATEGORIES:C. Staub
END:VEVENT
BEGIN:VEVENT
DTSTART;TZID=America/Montreal:20241026T083000
DTEND;TZID=America/Montreal:20241026T160000
DTSTAMP:20260422T191913
CREATED:20241022T160940Z
LAST-MODIFIED:20241022T160940Z
UID:10005437-1729931400-1729958400@www.lemontmartre.ca
SUMMARY:Société d'histoire des Filles du Roy 9H
DESCRIPTION:
URL:https://www.lemontmartre.ca/event/societe-dhistoire-des-filles-du-roy-9h-2/
CATEGORIES:C. Staub
END:VEVENT
BEGIN:VEVENT
DTSTART;TZID=America/Montreal:20241027T120000
DTEND;TZID=America/Montreal:20241027T190000
DTSTAMP:20260422T191913
CREATED:20241024T140914Z
LAST-MODIFIED:20241024T140914Z
UID:10005447-1730030400-1730055600@www.lemontmartre.ca
SUMMARY:Mouvement du cursillo 13H15
DESCRIPTION:
URL:https://www.lemontmartre.ca/event/mouvement-du-cursillo-13h15-2/
CATEGORIES:C. Staub
END:VEVENT
BEGIN:VEVENT
DTSTART;TZID=America/Montreal:20241029T153000
DTEND;TZID=America/Montreal:20241029T190000
DTSTAMP:20260422T191913
CREATED:20241024T191603Z
LAST-MODIFIED:20241024T191603Z
UID:10005473-1730215800-1730228400@www.lemontmartre.ca
SUMMARY:CPE Marie Godard 17H
DESCRIPTION:
URL:https://www.lemontmartre.ca/event/cpe-marie-godard-17h/
CATEGORIES:C. Staub
END:VEVENT
BEGIN:VEVENT
DTSTART;TZID=America/Montreal:20241030T090000
DTEND;TZID=America/Montreal:20241030T120000
DTSTAMP:20260422T191913
CREATED:20241024T191815Z
LAST-MODIFIED:20241024T191815Z
UID:10005475-1730278800-1730289600@www.lemontmartre.ca
SUMMARY:Ligue de bridge de Québec 9H15
DESCRIPTION:
URL:https://www.lemontmartre.ca/event/ligue-de-bridge-de-quebec-9h15-2/
CATEGORIES:C. Staub
END:VEVENT
END:VCALENDAR