BEGIN:VCALENDAR
VERSION:2.0
PRODID:-//Le Montmartre - ECPv6.15.13//NONSGML v1.0//EN
CALSCALE:GREGORIAN
METHOD:PUBLISH
X-ORIGINAL-URL:https://www.lemontmartre.ca
X-WR-CALDESC:Évènements pour Le Montmartre
REFRESH-INTERVAL;VALUE=DURATION:PT1H
X-Robots-Tag:noindex
X-PUBLISHED-TTL:PT1H
BEGIN:VTIMEZONE
TZID:America/Montreal
BEGIN:DAYLIGHT
TZOFFSETFROM:-0500
TZOFFSETTO:-0400
TZNAME:EDT
DTSTART:20230312T070000
END:DAYLIGHT
BEGIN:STANDARD
TZOFFSETFROM:-0400
TZOFFSETTO:-0500
TZNAME:EST
DTSTART:20231105T060000
END:STANDARD
BEGIN:DAYLIGHT
TZOFFSETFROM:-0500
TZOFFSETTO:-0400
TZNAME:EDT
DTSTART:20240310T070000
END:DAYLIGHT
BEGIN:STANDARD
TZOFFSETFROM:-0400
TZOFFSETTO:-0500
TZNAME:EST
DTSTART:20241103T060000
END:STANDARD
BEGIN:DAYLIGHT
TZOFFSETFROM:-0500
TZOFFSETTO:-0400
TZNAME:EDT
DTSTART:20250309T070000
END:DAYLIGHT
BEGIN:STANDARD
TZOFFSETFROM:-0400
TZOFFSETTO:-0500
TZNAME:EST
DTSTART:20251102T060000
END:STANDARD
END:VTIMEZONE
BEGIN:VEVENT
DTSTART;TZID=America/Montreal:20240903T090000
DTEND;TZID=America/Montreal:20240903T120000
DTSTAMP:20260422T192206
CREATED:20240815T185945Z
LAST-MODIFIED:20240815T185945Z
UID:10004348-1725354000-1725364800@www.lemontmartre.ca
SUMMARY:CICRQ 9H
DESCRIPTION:
URL:https://www.lemontmartre.ca/event/cicrq-9h/
CATEGORIES:C. Staub
END:VEVENT
BEGIN:VEVENT
DTSTART;TZID=America/Montreal:20240911T073000
DTEND;TZID=America/Montreal:20240911T163000
DTSTAMP:20260422T192206
CREATED:20240909T213805Z
LAST-MODIFIED:20240909T213805Z
UID:10004511-1726039800-1726072200@www.lemontmartre.ca
SUMMARY:Ministère de la Santé 8H30
DESCRIPTION:
URL:https://www.lemontmartre.ca/event/ministere-de-la-sante-8h30-2/
CATEGORIES:C. Staub
END:VEVENT
BEGIN:VEVENT
DTSTART;TZID=America/Montreal:20240912T080000
DTEND;TZID=America/Montreal:20240912T160000
DTSTAMP:20260422T192206
CREATED:20240909T213951Z
LAST-MODIFIED:20240909T213951Z
UID:10004513-1726128000-1726156800@www.lemontmartre.ca
SUMMARY:Ministère de la Santé 8H45
DESCRIPTION:
URL:https://www.lemontmartre.ca/event/ministere-de-la-sante-8h45-2/
CATEGORIES:C. Staub
END:VEVENT
BEGIN:VEVENT
DTSTART;TZID=America/Montreal:20240913T170000
DTEND;TZID=America/Montreal:20240913T190000
DTSTAMP:20260422T192206
CREATED:20240909T214322Z
LAST-MODIFIED:20240909T214322Z
UID:10004516-1726246800-1726254000@www.lemontmartre.ca
SUMMARY:5 à 7 Montmartre 17H
DESCRIPTION:
URL:https://www.lemontmartre.ca/event/5-a-7-montmartre-17h-2/
CATEGORIES:C. Staub
END:VEVENT
BEGIN:VEVENT
DTSTART;TZID=America/Montreal:20240914T150000
DTEND;TZID=America/Montreal:20240914T180000
DTSTAMP:20260422T192206
CREATED:20240909T214758Z
LAST-MODIFIED:20240909T214758Z
UID:10004519-1726326000-1726336800@www.lemontmartre.ca
SUMMARY:Famille Pâquerette Desbiens 15H
DESCRIPTION:
URL:https://www.lemontmartre.ca/event/famille-paquerette-desbiens-15h/
CATEGORIES:C. Staub
END:VEVENT
BEGIN:VEVENT
DTSTART;TZID=America/Montreal:20240918T090000
DTEND;TZID=America/Montreal:20240918T113000
DTSTAMP:20260422T192206
CREATED:20240910T232646Z
LAST-MODIFIED:20240910T232646Z
UID:10004560-1726650000-1726659000@www.lemontmartre.ca
SUMMARY:Les matins intelligents 9H30
DESCRIPTION:
URL:https://www.lemontmartre.ca/event/les-matins-intelligents-9h30-3/
CATEGORIES:C. Staub
END:VEVENT
END:VCALENDAR