BEGIN:VCALENDAR
VERSION:2.0
PRODID:-//Le Montmartre - ECPv6.15.13//NONSGML v1.0//EN
CALSCALE:GREGORIAN
METHOD:PUBLISH
X-ORIGINAL-URL:https://www.lemontmartre.ca
X-WR-CALDESC:Évènements pour Le Montmartre
REFRESH-INTERVAL;VALUE=DURATION:PT1H
X-Robots-Tag:noindex
X-PUBLISHED-TTL:PT1H
BEGIN:VTIMEZONE
TZID:America/Montreal
BEGIN:DAYLIGHT
TZOFFSETFROM:-0500
TZOFFSETTO:-0400
TZNAME:EDT
DTSTART:20230312T070000
END:DAYLIGHT
BEGIN:STANDARD
TZOFFSETFROM:-0400
TZOFFSETTO:-0500
TZNAME:EST
DTSTART:20231105T060000
END:STANDARD
BEGIN:DAYLIGHT
TZOFFSETFROM:-0500
TZOFFSETTO:-0400
TZNAME:EDT
DTSTART:20240310T070000
END:DAYLIGHT
BEGIN:STANDARD
TZOFFSETFROM:-0400
TZOFFSETTO:-0500
TZNAME:EST
DTSTART:20241103T060000
END:STANDARD
BEGIN:DAYLIGHT
TZOFFSETFROM:-0500
TZOFFSETTO:-0400
TZNAME:EDT
DTSTART:20250309T070000
END:DAYLIGHT
BEGIN:STANDARD
TZOFFSETFROM:-0400
TZOFFSETTO:-0500
TZNAME:EST
DTSTART:20251102T060000
END:STANDARD
END:VTIMEZONE
BEGIN:VEVENT
DTSTART;TZID=America/Montreal:20240414T120000
DTEND;TZID=America/Montreal:20240414T190000
DTSTAMP:20260423T151353
CREATED:20240423T200944Z
LAST-MODIFIED:20240423T200944Z
UID:10002109-1713096000-1713121200@www.lemontmartre.ca
SUMMARY:Mouvement des cursillos 15H30
DESCRIPTION:
URL:https://www.lemontmartre.ca/event/mouvement-des-cursillos-15h30-2/
CATEGORIES:C. Staub
END:VEVENT
BEGIN:VEVENT
DTSTART;TZID=America/Montreal:20240420T083000
DTEND;TZID=America/Montreal:20240420T140000
DTSTAMP:20260423T151353
CREATED:20240423T201956Z
LAST-MODIFIED:20240423T201956Z
UID:10002172-1713601800-1713621600@www.lemontmartre.ca
SUMMARY:Laïcs de l'Assomption 9H
DESCRIPTION:
URL:https://www.lemontmartre.ca/event/laics-de-lassomption-9h/
CATEGORIES:C. Staub
END:VEVENT
BEGIN:VEVENT
DTSTART;TZID=America/Montreal:20240421T100000
DTEND;TZID=America/Montreal:20240421T160000
DTSTAMP:20260423T151353
CREATED:20240423T202543Z
LAST-MODIFIED:20240423T202543Z
UID:10002178-1713693600-1713715200@www.lemontmartre.ca
SUMMARY:Néo catéchuménat 10H30
DESCRIPTION:
URL:https://www.lemontmartre.ca/event/neo-catechumenat-10h30-2/
CATEGORIES:C. Staub
END:VEVENT
BEGIN:VEVENT
DTSTART;TZID=America/Montreal:20240425T120000
DTEND;TZID=America/Montreal:20240425T160000
DTSTAMP:20260423T151353
CREATED:20240423T204209Z
LAST-MODIFIED:20240423T204209Z
UID:10002198-1714046400-1714060800@www.lemontmartre.ca
SUMMARY:Dialogue Interreligieux 13H
DESCRIPTION:
URL:https://www.lemontmartre.ca/event/dialogue-interreligieux-13h/
CATEGORIES:C. Staub
END:VEVENT
BEGIN:VEVENT
DTSTART;TZID=America/Montreal:20240426T170000
DTEND;TZID=America/Montreal:20240426T190000
DTSTAMP:20260423T151353
CREATED:20240423T204311Z
LAST-MODIFIED:20240423T204311Z
UID:10002199-1714150800-1714158000@www.lemontmartre.ca
SUMMARY:5 à 7 Montmartre 17H
DESCRIPTION:
URL:https://www.lemontmartre.ca/event/5-a-7-montmartre-17h/
CATEGORIES:C. Staub
END:VEVENT
END:VCALENDAR