BEGIN:VCALENDAR
VERSION:2.0
PRODID:-//Le Montmartre - ECPv6.15.13//NONSGML v1.0//EN
CALSCALE:GREGORIAN
METHOD:PUBLISH
X-WR-CALNAME:Le Montmartre
X-ORIGINAL-URL:https://www.lemontmartre.ca
X-WR-CALDESC:Évènements pour Le Montmartre
REFRESH-INTERVAL;VALUE=DURATION:PT1H
X-Robots-Tag:noindex
X-PUBLISHED-TTL:PT1H
BEGIN:VTIMEZONE
TZID:America/Montreal
BEGIN:DAYLIGHT
TZOFFSETFROM:-0500
TZOFFSETTO:-0400
TZNAME:EDT
DTSTART:20250309T070000
END:DAYLIGHT
BEGIN:STANDARD
TZOFFSETFROM:-0400
TZOFFSETTO:-0500
TZNAME:EST
DTSTART:20251102T060000
END:STANDARD
BEGIN:DAYLIGHT
TZOFFSETFROM:-0500
TZOFFSETTO:-0400
TZNAME:EDT
DTSTART:20260308T070000
END:DAYLIGHT
BEGIN:STANDARD
TZOFFSETFROM:-0400
TZOFFSETTO:-0500
TZNAME:EST
DTSTART:20261101T060000
END:STANDARD
BEGIN:DAYLIGHT
TZOFFSETFROM:-0500
TZOFFSETTO:-0400
TZNAME:EDT
DTSTART:20270314T070000
END:DAYLIGHT
BEGIN:STANDARD
TZOFFSETFROM:-0400
TZOFFSETTO:-0500
TZNAME:EST
DTSTART:20271107T060000
END:STANDARD
END:VTIMEZONE
BEGIN:VEVENT
DTSTART;TZID=America/Montreal:20260501T090000
DTEND;TZID=America/Montreal:20260501T170000
DTSTAMP:20260419T123342
CREATED:20251210T154853Z
LAST-MODIFIED:20251210T154853Z
UID:10011521-1777626000-1777654800@www.lemontmartre.ca
SUMMARY:Aquarelle Diane Boilard 9H30
DESCRIPTION:
URL:https://www.lemontmartre.ca/event/aquarelle-diane-boilard-9h30-17/2026-05-01/
CATEGORIES:St-Vallier
END:VEVENT
BEGIN:VEVENT
DTSTART;TZID=America/Montreal:20260501T120000
DTEND;TZID=America/Montreal:20260501T160000
DTSTAMP:20260419T123342
CREATED:20251125T171154Z
LAST-MODIFIED:20251125T171154Z
UID:10010855-1777636800-1777651200@www.lemontmartre.ca
SUMMARY:Club de bridge de la Capitale 12H45
DESCRIPTION:
URL:https://www.lemontmartre.ca/event/club-de-bridge-de-la-capitale-12h45-2/2026-05-01/
CATEGORIES:Marie-Guyart
END:VEVENT
BEGIN:VEVENT
DTSTART;TZID=America/Montreal:20260501T180000
DTEND;TZID=America/Montreal:20260501T220000
DTSTAMP:20260419T123342
CREATED:20260410T201922Z
LAST-MODIFIED:20260410T201922Z
UID:10012526-1777658400-1777672800@www.lemontmartre.ca
SUMMARY:En route vers la liberté 19H30
DESCRIPTION:
URL:https://www.lemontmartre.ca/event/en-route-vers-la-liberte-19h30-14/
CATEGORIES:C. Staub
END:VEVENT
BEGIN:VEVENT
DTSTART;TZID=America/Montreal:20260502T064500
DTEND;TZID=America/Montreal:20260502T180000
DTSTAMP:20260419T123342
CREATED:20260415T140555Z
LAST-MODIFIED:20260415T140555Z
UID:10012531-1777704300-1777744800@www.lemontmartre.ca
SUMMARY:Fuzzy Muzik 9H
DESCRIPTION:
URL:https://www.lemontmartre.ca/event/fuzzy-muzik-9h/
CATEGORIES:Marie-Guyart
END:VEVENT
BEGIN:VEVENT
DTSTART;TZID=America/Montreal:20260502T090000
DTEND;TZID=America/Montreal:20260502T170000
DTSTAMP:20260419T123342
CREATED:20251210T154853Z
LAST-MODIFIED:20251210T154853Z
UID:10011522-1777712400-1777741200@www.lemontmartre.ca
SUMMARY:Aquarelle Diane Boilard 9H30
DESCRIPTION:
URL:https://www.lemontmartre.ca/event/aquarelle-diane-boilard-9h30-17/2026-05-02/
CATEGORIES:St-Vallier
END:VEVENT
BEGIN:VEVENT
DTSTART;TZID=America/Montreal:20260502T093000
DTEND;TZID=America/Montreal:20260502T120000
DTSTAMP:20260419T123342
CREATED:20260415T140654Z
LAST-MODIFIED:20260415T140654Z
UID:10012532-1777714200-1777723200@www.lemontmartre.ca
SUMMARY:Famille Guy Bédard 10H
DESCRIPTION:
URL:https://www.lemontmartre.ca/event/famille-guy-bedard-10h/
CATEGORIES:St-Augustin
END:VEVENT
BEGIN:VEVENT
DTSTART;TZID=America/Montreal:20260502T110000
DTEND;TZID=America/Montreal:20260502T150000
DTSTAMP:20260419T123342
CREATED:20260415T140752Z
LAST-MODIFIED:20260415T140752Z
UID:10012533-1777719600-1777734000@www.lemontmartre.ca
SUMMARY:Famille Guy Bédard 12H
DESCRIPTION:
URL:https://www.lemontmartre.ca/event/famille-guy-bedard-12h/
CATEGORIES:E. D’Alzon
END:VEVENT
BEGIN:VEVENT
DTSTART;TZID=America/Montreal:20260503T084500
DTEND;TZID=America/Montreal:20260503T120000
DTSTAMP:20260419T123342
CREATED:20251210T162810Z
LAST-MODIFIED:20251210T162810Z
UID:10011538-1777797900-1777809600@www.lemontmartre.ca
SUMMARY:Groupe Harmonie 10H
DESCRIPTION:
URL:https://www.lemontmartre.ca/event/groupe-harmonie-10h-6/
CATEGORIES:C. Staub
END:VEVENT
BEGIN:VEVENT
DTSTART;TZID=America/Montreal:20260503T090000
DTEND;TZID=America/Montreal:20260503T170000
DTSTAMP:20260419T123342
CREATED:20251210T161823Z
LAST-MODIFIED:20251210T161823Z
UID:10011535-1777798800-1777827600@www.lemontmartre.ca
SUMMARY:Aquarelle Diane Boilard 9H30
DESCRIPTION:
URL:https://www.lemontmartre.ca/event/aquarelle-diane-boilard-9h30-25/
CATEGORIES:St-Vallier
END:VEVENT
BEGIN:VEVENT
DTSTART;TZID=America/Montreal:20260503T093000
DTEND;TZID=America/Montreal:20260503T133000
DTSTAMP:20260419T123342
CREATED:20251204T203356Z
LAST-MODIFIED:20260220T162025Z
UID:10011465-1777800600-1777815000@www.lemontmartre.ca
SUMMARY:Centre ukrainien 10H
DESCRIPTION:
URL:https://www.lemontmartre.ca/event/centre-ukrainien-10h/2026-05-03/
CATEGORIES:E. D’Alzon
END:VEVENT
BEGIN:VEVENT
DTSTART;TZID=America/Montreal:20260503T103000
DTEND;TZID=America/Montreal:20260503T120000
DTSTAMP:20260419T123342
CREATED:20251125T210053Z
LAST-MODIFIED:20251125T210053Z
UID:10010936-1777804200-1777809600@www.lemontmartre.ca
SUMMARY:Messe 10H30
DESCRIPTION:
URL:https://www.lemontmartre.ca/event/messe-10h30-3/2026-05-03/
CATEGORIES:St-Augustin
END:VEVENT
BEGIN:VEVENT
DTSTART;TZID=America/Montreal:20260504T120000
DTEND;TZID=America/Montreal:20260504T160000
DTSTAMP:20260419T123342
CREATED:20251125T164801Z
LAST-MODIFIED:20251125T164801Z
UID:10010603-1777896000-1777910400@www.lemontmartre.ca
SUMMARY:Club de bridge de Charlesbourg 12H45
DESCRIPTION:
URL:https://www.lemontmartre.ca/event/club-de-bridge-de-charlesbourg-12h45-3/2026-05-04/
CATEGORIES:Marie-Guyart
END:VEVENT
BEGIN:VEVENT
DTSTART;TZID=America/Montreal:20260504T180000
DTEND;TZID=America/Montreal:20260504T210000
DTSTAMP:20260419T123342
CREATED:20260327T150317Z
LAST-MODIFIED:20260327T150317Z
UID:10012476-1777917600-1777928400@www.lemontmartre.ca
SUMMARY:Néocatéchuménat Saint-Ursule 18H30
DESCRIPTION:
URL:https://www.lemontmartre.ca/event/neocatechumenat-saint-ursule-18h30/2026-05-04/
CATEGORIES:E. D’Alzon
END:VEVENT
BEGIN:VEVENT
DTSTART;TZID=America/Montreal:20260504T180000
DTEND;TZID=America/Montreal:20260504T213000
DTSTAMP:20260419T123342
CREATED:20250530T143415Z
LAST-MODIFIED:20260310T153059Z
UID:10008069-1777917600-1777930200@www.lemontmartre.ca
SUMMARY:Soirées d'adoration et de louange 19H
DESCRIPTION:
URL:https://www.lemontmartre.ca/event/soirees-dadoration-et-de-louange-19h/2026-05-04/
CATEGORIES:St-Augustin
END:VEVENT
BEGIN:VEVENT
DTSTART;TZID=America/Montreal:20260505T120000
DTEND;TZID=America/Montreal:20260505T160000
DTSTAMP:20260419T123342
CREATED:20251125T164613Z
LAST-MODIFIED:20251125T165819Z
UID:10010704-1777982400-1777996800@www.lemontmartre.ca
SUMMARY:Club de bridge Roi de pique 12H45
DESCRIPTION:
URL:https://www.lemontmartre.ca/event/club-de-bridge-roi-de-pique-12h45/2026-05-05/
CATEGORIES:Marie-Guyart
END:VEVENT
BEGIN:VEVENT
DTSTART;TZID=America/Montreal:20260505T180000
DTEND;TZID=America/Montreal:20260505T210000
DTSTAMP:20260419T123342
CREATED:20260327T151245Z
LAST-MODIFIED:20260327T151245Z
UID:10012483-1778004000-1778014800@www.lemontmartre.ca
SUMMARY:Néocatéchuménat Saint-Ursule 18H30
DESCRIPTION:
URL:https://www.lemontmartre.ca/event/neocatechumenat-saint-ursule-18h30-2/2026-05-05/
CATEGORIES:E. D’Alzon
END:VEVENT
BEGIN:VEVENT
DTSTART;TZID=America/Montreal:20260505T183000
DTEND;TZID=America/Montreal:20260505T210000
DTSTAMP:20260419T123342
CREATED:20251125T171653Z
LAST-MODIFIED:20251211T211453Z
UID:10010906-1778005800-1778014800@www.lemontmartre.ca
SUMMARY:Club Toastmasters Les Communicateurs de Québec  18H50
DESCRIPTION:
URL:https://www.lemontmartre.ca/event/club-toastmasters-les-communicateurs-de-quebec-18h50-2/2026-05-05/
CATEGORIES:St-Vallier
END:VEVENT
BEGIN:VEVENT
DTSTART;TZID=America/Montreal:20260505T190000
DTEND;TZID=America/Montreal:20260505T210000
DTSTAMP:20260419T123342
CREATED:20260213T172032Z
LAST-MODIFIED:20260213T172032Z
UID:10012357-1778007600-1778014800@www.lemontmartre.ca
SUMMARY:St Augustin - et le Pape Léon 19H
DESCRIPTION:
URL:https://www.lemontmartre.ca/event/st-augustin-et-le-pape-leon-19h-4/
CATEGORIES:Sanctuaire
END:VEVENT
BEGIN:VEVENT
DTSTART;TZID=America/Montreal:20260506T120000
DTEND;TZID=America/Montreal:20260506T160000
DTSTAMP:20260419T123342
CREATED:20251125T170548Z
LAST-MODIFIED:20260410T200106Z
UID:10010755-1778068800-1778083200@www.lemontmartre.ca
SUMMARY:Club de bridge l'Entame 12H45
DESCRIPTION:
URL:https://www.lemontmartre.ca/event/club-de-bridge-lentame-12h45-13/2026-05-06/
CATEGORIES:Marie-Guyart
END:VEVENT
BEGIN:VEVENT
DTSTART;TZID=America/Montreal:20260506T150000
DTEND;TZID=America/Montreal:20260506T163000
DTSTAMP:20260419T123342
CREATED:20260213T202822Z
LAST-MODIFIED:20260213T203132Z
UID:10012373-1778079600-1778085000@www.lemontmartre.ca
SUMMARY:Dieu est à l'oeuvre en cet âge 15H
DESCRIPTION:
URL:https://www.lemontmartre.ca/event/dieu-est-a-loeuvre-en-cet-age-15h-8/
CATEGORIES:Sanctuaire
END:VEVENT
BEGIN:VEVENT
DTSTART;TZID=America/Montreal:20260506T174500
DTEND;TZID=America/Montreal:20260506T203000
DTSTAMP:20260419T123342
CREATED:20251206T185805Z
LAST-MODIFIED:20251206T185805Z
UID:10011510-1778089500-1778099400@www.lemontmartre.ca
SUMMARY:Méditation au lever du soleil 18H30
DESCRIPTION:
URL:https://www.lemontmartre.ca/event/meditation-au-lever-du-soleil-18h30-9/
CATEGORIES:St-Vallier
END:VEVENT
BEGIN:VEVENT
DTSTART;TZID=America/Montreal:20260506T180000
DTEND;TZID=America/Montreal:20260506T210000
DTSTAMP:20260419T123342
CREATED:20260327T151904Z
LAST-MODIFIED:20260327T151904Z
UID:10012490-1778090400-1778101200@www.lemontmartre.ca
SUMMARY:Néocatéchuménat Saint-Ursule 19H30
DESCRIPTION:
URL:https://www.lemontmartre.ca/event/neocatechumenat-saint-ursule-19h30/2026-05-06/
CATEGORIES:E. D’Alzon
END:VEVENT
BEGIN:VEVENT
DTSTART;TZID=America/Montreal:20260507T120000
DTEND;TZID=America/Montreal:20260507T160000
DTSTAMP:20260419T123342
CREATED:20251125T170939Z
LAST-MODIFIED:20251125T170939Z
UID:10010806-1778155200-1778169600@www.lemontmartre.ca
SUMMARY:Club de bridge Vieux-Québec 12H45
DESCRIPTION:
URL:https://www.lemontmartre.ca/event/club-de-bridge-vieux-quebec-12h45/2026-05-07/
CATEGORIES:Marie-Guyart
END:VEVENT
BEGIN:VEVENT
DTSTART;TZID=America/Montreal:20260507T180000
DTEND;TZID=America/Montreal:20260507T210000
DTSTAMP:20260419T123342
CREATED:20251125T165519Z
LAST-MODIFIED:20251125T165519Z
UID:10010654-1778176800-1778187600@www.lemontmartre.ca
SUMMARY:Groupe St-Antoine 19H
DESCRIPTION:
URL:https://www.lemontmartre.ca/event/groupe-st-antoine-19h-5/2026-05-07/
CATEGORIES:C. Staub
END:VEVENT
BEGIN:VEVENT
DTSTART;TZID=America/Montreal:20260507T180000
DTEND;TZID=America/Montreal:20260507T210000
DTSTAMP:20260419T123342
CREATED:20260327T152116Z
LAST-MODIFIED:20260327T152116Z
UID:10012497-1778176800-1778187600@www.lemontmartre.ca
SUMMARY:Néocatéchuménat Saint-Ursule 19H30
DESCRIPTION:
URL:https://www.lemontmartre.ca/event/neocatechumenat-saint-ursule-19h30-2/2026-05-07/
CATEGORIES:E. D’Alzon
END:VEVENT
BEGIN:VEVENT
DTSTART;TZID=America/Montreal:20260508T120000
DTEND;TZID=America/Montreal:20260508T160000
DTSTAMP:20260419T123342
CREATED:20251125T171154Z
LAST-MODIFIED:20251125T171154Z
UID:10010856-1778241600-1778256000@www.lemontmartre.ca
SUMMARY:Club de bridge de la Capitale 12H45
DESCRIPTION:
URL:https://www.lemontmartre.ca/event/club-de-bridge-de-la-capitale-12h45-2/2026-05-08/
CATEGORIES:Marie-Guyart
END:VEVENT
BEGIN:VEVENT
DTSTART;TZID=America/Montreal:20260508T180000
DTEND;TZID=America/Montreal:20260508T220000
DTSTAMP:20260419T123342
CREATED:20260410T202043Z
LAST-MODIFIED:20260410T202043Z
UID:10012527-1778263200-1778277600@www.lemontmartre.ca
SUMMARY:En route vers la liberté 19H30
DESCRIPTION:
URL:https://www.lemontmartre.ca/event/en-route-vers-la-liberte-19h30-15/
CATEGORIES:St-Vallier
END:VEVENT
BEGIN:VEVENT
DTSTART;TZID=America/Montreal:20260510T084500
DTEND;TZID=America/Montreal:20260510T120000
DTSTAMP:20260419T123342
CREATED:20251125T210244Z
LAST-MODIFIED:20251210T162509Z
UID:10010989-1778402700-1778414400@www.lemontmartre.ca
SUMMARY:Groupe Harmonie 10H
DESCRIPTION:
URL:https://www.lemontmartre.ca/event/groupe-harmonie-10h-3/2026-05-10/
CATEGORIES:St-Vallier
END:VEVENT
BEGIN:VEVENT
DTSTART;TZID=America/Montreal:20260510T093000
DTEND;TZID=America/Montreal:20260510T133000
DTSTAMP:20260419T123342
CREATED:20251204T203356Z
LAST-MODIFIED:20260220T162025Z
UID:10011466-1778405400-1778419800@www.lemontmartre.ca
SUMMARY:Centre ukrainien 10H
DESCRIPTION:
URL:https://www.lemontmartre.ca/event/centre-ukrainien-10h/2026-05-10/
CATEGORIES:E. D’Alzon
END:VEVENT
BEGIN:VEVENT
DTSTART;TZID=America/Montreal:20260510T103000
DTEND;TZID=America/Montreal:20260510T120000
DTSTAMP:20260419T123342
CREATED:20251125T210053Z
LAST-MODIFIED:20251125T210053Z
UID:10010937-1778409000-1778414400@www.lemontmartre.ca
SUMMARY:Messe 10H30
DESCRIPTION:
URL:https://www.lemontmartre.ca/event/messe-10h30-3/2026-05-10/
CATEGORIES:St-Augustin
END:VEVENT
END:VCALENDAR