BEGIN:VCALENDAR
VERSION:2.0
PRODID:-//Le Montmartre - ECPv6.15.13//NONSGML v1.0//EN
CALSCALE:GREGORIAN
METHOD:PUBLISH
X-WR-CALNAME:Le Montmartre
X-ORIGINAL-URL:https://www.lemontmartre.ca
X-WR-CALDESC:Évènements pour Le Montmartre
REFRESH-INTERVAL;VALUE=DURATION:PT1H
X-Robots-Tag:noindex
X-PUBLISHED-TTL:PT1H
BEGIN:VTIMEZONE
TZID:America/Montreal
BEGIN:DAYLIGHT
TZOFFSETFROM:-0500
TZOFFSETTO:-0400
TZNAME:EDT
DTSTART:20250309T070000
END:DAYLIGHT
BEGIN:STANDARD
TZOFFSETFROM:-0400
TZOFFSETTO:-0500
TZNAME:EST
DTSTART:20251102T060000
END:STANDARD
BEGIN:DAYLIGHT
TZOFFSETFROM:-0500
TZOFFSETTO:-0400
TZNAME:EDT
DTSTART:20260308T070000
END:DAYLIGHT
BEGIN:STANDARD
TZOFFSETFROM:-0400
TZOFFSETTO:-0500
TZNAME:EST
DTSTART:20261101T060000
END:STANDARD
BEGIN:DAYLIGHT
TZOFFSETFROM:-0500
TZOFFSETTO:-0400
TZNAME:EDT
DTSTART:20270314T070000
END:DAYLIGHT
BEGIN:STANDARD
TZOFFSETFROM:-0400
TZOFFSETTO:-0500
TZNAME:EST
DTSTART:20271107T060000
END:STANDARD
END:VTIMEZONE
BEGIN:VEVENT
DTSTART;VALUE=DATE:20260101
DTEND;VALUE=DATE:20260102
DTSTAMP:20260419T170743
CREATED:20251125T210437Z
LAST-MODIFIED:20251125T210437Z
UID:10011023-1767225600-1767311999@www.lemontmartre.ca
SUMMARY:Jour de l'An
DESCRIPTION:
URL:https://www.lemontmartre.ca/event/jour-de-lan-2/
CATEGORIES:Autre lieu
END:VEVENT
BEGIN:VEVENT
DTSTART;TZID=America/Montreal:20260101T103000
DTEND;TZID=America/Montreal:20260101T120000
DTSTAMP:20260419T170743
CREATED:20251204T194742Z
LAST-MODIFIED:20251204T194742Z
UID:10011079-1767263400-1767268800@www.lemontmartre.ca
SUMMARY:Eucharistie 10H30
DESCRIPTION:
URL:https://www.lemontmartre.ca/event/eucharistie-10h30/
CATEGORIES:Sanctuaire
END:VEVENT
BEGIN:VEVENT
DTSTART;TZID=America/Montreal:20260102T180000
DTEND;TZID=America/Montreal:20260102T220000
DTSTAMP:20260419T170743
CREATED:20251204T194627Z
LAST-MODIFIED:20260410T201746Z
UID:10011028-1767376800-1767391200@www.lemontmartre.ca
SUMMARY:En route vers la liberté 19H30
DESCRIPTION:
URL:https://www.lemontmartre.ca/event/en-route-vers-la-liberte-19h30-11/2026-01-02/
CATEGORIES:Marie-Guyart
END:VEVENT
BEGIN:VEVENT
DTSTART;TZID=America/Montreal:20260104T084500
DTEND;TZID=America/Montreal:20260104T120000
DTSTAMP:20260419T170743
CREATED:20251125T210244Z
LAST-MODIFIED:20251210T162509Z
UID:10010971-1767516300-1767528000@www.lemontmartre.ca
SUMMARY:Groupe Harmonie 10H
DESCRIPTION:
URL:https://www.lemontmartre.ca/event/groupe-harmonie-10h-3/2026-01-04/
CATEGORIES:St-Vallier
END:VEVENT
BEGIN:VEVENT
DTSTART;TZID=America/Montreal:20260104T103000
DTEND;TZID=America/Montreal:20260104T120000
DTSTAMP:20260419T170743
CREATED:20251125T210053Z
LAST-MODIFIED:20251125T210053Z
UID:10010919-1767522600-1767528000@www.lemontmartre.ca
SUMMARY:Messe 10H30
DESCRIPTION:
URL:https://www.lemontmartre.ca/event/messe-10h30-3/2026-01-04/
CATEGORIES:St-Augustin
END:VEVENT
BEGIN:VEVENT
DTSTART;TZID=America/Montreal:20260105T120000
DTEND;TZID=America/Montreal:20260105T160000
DTSTAMP:20260419T170743
CREATED:20251125T164801Z
LAST-MODIFIED:20251125T164801Z
UID:10010586-1767614400-1767628800@www.lemontmartre.ca
SUMMARY:Club de bridge de Charlesbourg 12H45
DESCRIPTION:
URL:https://www.lemontmartre.ca/event/club-de-bridge-de-charlesbourg-12h45-3/2026-01-05/
CATEGORIES:Marie-Guyart
END:VEVENT
BEGIN:VEVENT
DTSTART;TZID=America/Montreal:20260106T120000
DTEND;TZID=America/Montreal:20260106T160000
DTSTAMP:20260419T170743
CREATED:20251125T164613Z
LAST-MODIFIED:20251125T165819Z
UID:10010687-1767700800-1767715200@www.lemontmartre.ca
SUMMARY:Club de bridge Roi de pique 12H45
DESCRIPTION:
URL:https://www.lemontmartre.ca/event/club-de-bridge-roi-de-pique-12h45/2026-01-06/
CATEGORIES:Marie-Guyart
END:VEVENT
BEGIN:VEVENT
DTSTART;TZID=America/Montreal:20260106T183000
DTEND;TZID=America/Montreal:20260106T210000
DTSTAMP:20260419T170743
CREATED:20251125T171653Z
LAST-MODIFIED:20251211T211453Z
UID:10010889-1767724200-1767733200@www.lemontmartre.ca
SUMMARY:Club Toastmasters Les Communicateurs de Québec  18H50
DESCRIPTION:
URL:https://www.lemontmartre.ca/event/club-toastmasters-les-communicateurs-de-quebec-18h50-2/2026-01-06/
CATEGORIES:St-Vallier
END:VEVENT
BEGIN:VEVENT
DTSTART;TZID=America/Montreal:20260107T120000
DTEND;TZID=America/Montreal:20260107T160000
DTSTAMP:20260419T170743
CREATED:20251125T170548Z
LAST-MODIFIED:20260410T200106Z
UID:10010738-1767787200-1767801600@www.lemontmartre.ca
SUMMARY:Club de bridge l'Entame 12H45
DESCRIPTION:
URL:https://www.lemontmartre.ca/event/club-de-bridge-lentame-12h45-13/2026-01-07/
CATEGORIES:Marie-Guyart
END:VEVENT
BEGIN:VEVENT
DTSTART;TZID=America/Montreal:20260107T174500
DTEND;TZID=America/Montreal:20260107T203000
DTSTAMP:20260419T170743
CREATED:20251206T184517Z
LAST-MODIFIED:20251206T184517Z
UID:10011501-1767807900-1767817800@www.lemontmartre.ca
SUMMARY:Méditation au lever du soleil 18H30
DESCRIPTION:
URL:https://www.lemontmartre.ca/event/meditation-au-lever-du-soleil-18h30/
CATEGORIES:E. D’Alzon
END:VEVENT
BEGIN:VEVENT
DTSTART;TZID=America/Montreal:20260108T120000
DTEND;TZID=America/Montreal:20260108T160000
DTSTAMP:20260419T170743
CREATED:20251125T170939Z
LAST-MODIFIED:20251125T170939Z
UID:10010789-1767873600-1767888000@www.lemontmartre.ca
SUMMARY:Club de bridge Vieux-Québec 12H45
DESCRIPTION:
URL:https://www.lemontmartre.ca/event/club-de-bridge-vieux-quebec-12h45/2026-01-08/
CATEGORIES:Marie-Guyart
END:VEVENT
BEGIN:VEVENT
DTSTART;TZID=America/Montreal:20260108T180000
DTEND;TZID=America/Montreal:20260108T210000
DTSTAMP:20260419T170743
CREATED:20251125T165519Z
LAST-MODIFIED:20251125T165519Z
UID:10010637-1767895200-1767906000@www.lemontmartre.ca
SUMMARY:Groupe St-Antoine 19H
DESCRIPTION:
URL:https://www.lemontmartre.ca/event/groupe-st-antoine-19h-5/2026-01-08/
CATEGORIES:C. Staub
END:VEVENT
BEGIN:VEVENT
DTSTART;TZID=America/Montreal:20260109T120000
DTEND;TZID=America/Montreal:20260109T160000
DTSTAMP:20260419T170744
CREATED:20251125T171154Z
LAST-MODIFIED:20251125T171154Z
UID:10010839-1767960000-1767974400@www.lemontmartre.ca
SUMMARY:Club de bridge de la Capitale 12H45
DESCRIPTION:
URL:https://www.lemontmartre.ca/event/club-de-bridge-de-la-capitale-12h45-2/2026-01-09/
CATEGORIES:Marie-Guyart
END:VEVENT
BEGIN:VEVENT
DTSTART;TZID=America/Montreal:20260109T180000
DTEND;TZID=America/Montreal:20260109T220000
DTSTAMP:20260419T170744
CREATED:20251204T194627Z
LAST-MODIFIED:20260410T201746Z
UID:10011029-1767981600-1767996000@www.lemontmartre.ca
SUMMARY:En route vers la liberté 19H30
DESCRIPTION:
URL:https://www.lemontmartre.ca/event/en-route-vers-la-liberte-19h30-11/2026-01-09/
CATEGORIES:Marie-Guyart
END:VEVENT
BEGIN:VEVENT
DTSTART;TZID=America/Montreal:20260111T084500
DTEND;TZID=America/Montreal:20260111T120000
DTSTAMP:20260419T170744
CREATED:20251125T210244Z
LAST-MODIFIED:20251210T162509Z
UID:10010972-1768121100-1768132800@www.lemontmartre.ca
SUMMARY:Groupe Harmonie 10H
DESCRIPTION:
URL:https://www.lemontmartre.ca/event/groupe-harmonie-10h-3/2026-01-11/
CATEGORIES:St-Vallier
END:VEVENT
BEGIN:VEVENT
DTSTART;TZID=America/Montreal:20260111T090000
DTEND;TZID=America/Montreal:20260111T143000
DTSTAMP:20260419T170744
CREATED:20251206T190551Z
LAST-MODIFIED:20251206T190551Z
UID:10011512-1768122000-1768141800@www.lemontmartre.ca
SUMMARY:Causeries croquantes 12H
DESCRIPTION:
URL:https://www.lemontmartre.ca/event/causeries-croquantes-12h-4/
CATEGORIES:Marie-Guyart
END:VEVENT
BEGIN:VEVENT
DTSTART;TZID=America/Montreal:20260111T103000
DTEND;TZID=America/Montreal:20260111T120000
DTSTAMP:20260419T170744
CREATED:20251125T210053Z
LAST-MODIFIED:20251125T210053Z
UID:10010920-1768127400-1768132800@www.lemontmartre.ca
SUMMARY:Messe 10H30
DESCRIPTION:
URL:https://www.lemontmartre.ca/event/messe-10h30-3/2026-01-11/
CATEGORIES:St-Augustin
END:VEVENT
BEGIN:VEVENT
DTSTART;TZID=America/Montreal:20260112T120000
DTEND;TZID=America/Montreal:20260112T160000
DTSTAMP:20260419T170744
CREATED:20251125T164801Z
LAST-MODIFIED:20251125T164801Z
UID:10010587-1768219200-1768233600@www.lemontmartre.ca
SUMMARY:Club de bridge de Charlesbourg 12H45
DESCRIPTION:
URL:https://www.lemontmartre.ca/event/club-de-bridge-de-charlesbourg-12h45-3/2026-01-12/
CATEGORIES:Marie-Guyart
END:VEVENT
BEGIN:VEVENT
DTSTART;TZID=America/Montreal:20260112T180000
DTEND;TZID=America/Montreal:20260112T213000
DTSTAMP:20260419T170744
CREATED:20250530T143415Z
LAST-MODIFIED:20260310T153059Z
UID:10008053-1768240800-1768253400@www.lemontmartre.ca
SUMMARY:Soirées d'adoration et de louange 19H
DESCRIPTION:
URL:https://www.lemontmartre.ca/event/soirees-dadoration-et-de-louange-19h/2026-01-12/
CATEGORIES:St-Augustin
END:VEVENT
BEGIN:VEVENT
DTSTART;TZID=America/Montreal:20260113T120000
DTEND;TZID=America/Montreal:20260113T160000
DTSTAMP:20260419T170744
CREATED:20251125T164613Z
LAST-MODIFIED:20251125T165819Z
UID:10010688-1768305600-1768320000@www.lemontmartre.ca
SUMMARY:Club de bridge Roi de pique 12H45
DESCRIPTION:
URL:https://www.lemontmartre.ca/event/club-de-bridge-roi-de-pique-12h45/2026-01-13/
CATEGORIES:Marie-Guyart
END:VEVENT
BEGIN:VEVENT
DTSTART;TZID=America/Montreal:20260113T180000
DTEND;TZID=America/Montreal:20260113T220000
DTSTAMP:20260419T170744
CREATED:20251002T184746Z
LAST-MODIFIED:20251002T184746Z
UID:10010017-1768327200-1768341600@www.lemontmartre.ca
SUMMARY:ADQC 19H
DESCRIPTION:
URL:https://www.lemontmartre.ca/event/adqc-19h-7/
CATEGORIES:St-Augustin
END:VEVENT
BEGIN:VEVENT
DTSTART;TZID=America/Montreal:20260113T183000
DTEND;TZID=America/Montreal:20260113T210000
DTSTAMP:20260419T170744
CREATED:20251125T171653Z
LAST-MODIFIED:20251211T211453Z
UID:10010890-1768329000-1768338000@www.lemontmartre.ca
SUMMARY:Club Toastmasters Les Communicateurs de Québec  18H50
DESCRIPTION:
URL:https://www.lemontmartre.ca/event/club-toastmasters-les-communicateurs-de-quebec-18h50-2/2026-01-13/
CATEGORIES:St-Vallier
END:VEVENT
BEGIN:VEVENT
DTSTART;TZID=America/Montreal:20260113T183000
DTEND;TZID=America/Montreal:20260113T213000
DTSTAMP:20260419T170744
CREATED:20250923T192804Z
LAST-MODIFIED:20250923T192804Z
UID:10009983-1768329000-1768339800@www.lemontmartre.ca
SUMMARY:La Schola Cantorum 18H30
DESCRIPTION:
URL:https://www.lemontmartre.ca/event/la-schola-cantorum-18h30-5/
CATEGORIES:C. Staub
END:VEVENT
BEGIN:VEVENT
DTSTART;TZID=America/Montreal:20260114T093000
DTEND;TZID=America/Montreal:20260114T150000
DTSTAMP:20260419T170744
CREATED:20251210T150229Z
LAST-MODIFIED:20251210T150229Z
UID:10011515-1768383000-1768402800@www.lemontmartre.ca
SUMMARY:Association des retraités de Radio-Canada 11H00
DESCRIPTION:
URL:https://www.lemontmartre.ca/event/association-des-retraites-de-radio-canada-11h00/
CATEGORIES:E. D’Alzon
END:VEVENT
BEGIN:VEVENT
DTSTART;TZID=America/Montreal:20260114T093000
DTEND;TZID=America/Montreal:20260114T150000
DTSTAMP:20260419T170744
CREATED:20251210T150309Z
LAST-MODIFIED:20251210T150309Z
UID:10011516-1768383000-1768402800@www.lemontmartre.ca
SUMMARY:Association des retraités de Radio-Canada 11H00
DESCRIPTION:
URL:https://www.lemontmartre.ca/event/association-des-retraites-de-radio-canada-11h00-2/
CATEGORIES:Grand Hall
END:VEVENT
BEGIN:VEVENT
DTSTART;TZID=America/Montreal:20260114T120000
DTEND;TZID=America/Montreal:20260114T160000
DTSTAMP:20260419T170744
CREATED:20251125T170548Z
LAST-MODIFIED:20260410T200106Z
UID:10010739-1768392000-1768406400@www.lemontmartre.ca
SUMMARY:Club de bridge l'Entame 12H45
DESCRIPTION:
URL:https://www.lemontmartre.ca/event/club-de-bridge-lentame-12h45-13/2026-01-14/
CATEGORIES:Marie-Guyart
END:VEVENT
BEGIN:VEVENT
DTSTART;TZID=America/Montreal:20260115T120000
DTEND;TZID=America/Montreal:20260115T160000
DTSTAMP:20260419T170744
CREATED:20251125T170939Z
LAST-MODIFIED:20251125T170939Z
UID:10010790-1768478400-1768492800@www.lemontmartre.ca
SUMMARY:Club de bridge Vieux-Québec 12H45
DESCRIPTION:
URL:https://www.lemontmartre.ca/event/club-de-bridge-vieux-quebec-12h45/2026-01-15/
CATEGORIES:Marie-Guyart
END:VEVENT
BEGIN:VEVENT
DTSTART;TZID=America/Montreal:20260115T180000
DTEND;TZID=America/Montreal:20260115T210000
DTSTAMP:20260419T170744
CREATED:20251125T165519Z
LAST-MODIFIED:20251125T165519Z
UID:10010638-1768500000-1768510800@www.lemontmartre.ca
SUMMARY:Groupe St-Antoine 19H
DESCRIPTION:
URL:https://www.lemontmartre.ca/event/groupe-st-antoine-19h-5/2026-01-15/
CATEGORIES:C. Staub
END:VEVENT
BEGIN:VEVENT
DTSTART;TZID=America/Montreal:20260116T120000
DTEND;TZID=America/Montreal:20260116T160000
DTSTAMP:20260419T170744
CREATED:20251125T171154Z
LAST-MODIFIED:20251125T171154Z
UID:10010840-1768564800-1768579200@www.lemontmartre.ca
SUMMARY:Club de bridge de la Capitale 12H45
DESCRIPTION:
URL:https://www.lemontmartre.ca/event/club-de-bridge-de-la-capitale-12h45-2/2026-01-16/
CATEGORIES:Marie-Guyart
END:VEVENT
BEGIN:VEVENT
DTSTART;TZID=America/Montreal:20260116T180000
DTEND;TZID=America/Montreal:20260116T220000
DTSTAMP:20260419T170744
CREATED:20251204T194627Z
LAST-MODIFIED:20260410T201746Z
UID:10011030-1768586400-1768600800@www.lemontmartre.ca
SUMMARY:En route vers la liberté 19H30
DESCRIPTION:
URL:https://www.lemontmartre.ca/event/en-route-vers-la-liberte-19h30-11/2026-01-16/
CATEGORIES:Marie-Guyart
END:VEVENT
END:VCALENDAR