BEGIN:VCALENDAR
VERSION:2.0
PRODID:-//Le Montmartre - ECPv6.15.13//NONSGML v1.0//EN
CALSCALE:GREGORIAN
METHOD:PUBLISH
X-ORIGINAL-URL:https://www.lemontmartre.ca
X-WR-CALDESC:Évènements pour Le Montmartre
REFRESH-INTERVAL;VALUE=DURATION:PT1H
X-Robots-Tag:noindex
X-PUBLISHED-TTL:PT1H
BEGIN:VTIMEZONE
TZID:America/Montreal
BEGIN:DAYLIGHT
TZOFFSETFROM:-0500
TZOFFSETTO:-0400
TZNAME:EDT
DTSTART:20240310T070000
END:DAYLIGHT
BEGIN:STANDARD
TZOFFSETFROM:-0400
TZOFFSETTO:-0500
TZNAME:EST
DTSTART:20241103T060000
END:STANDARD
BEGIN:DAYLIGHT
TZOFFSETFROM:-0500
TZOFFSETTO:-0400
TZNAME:EDT
DTSTART:20250309T070000
END:DAYLIGHT
BEGIN:STANDARD
TZOFFSETFROM:-0400
TZOFFSETTO:-0500
TZNAME:EST
DTSTART:20251102T060000
END:STANDARD
BEGIN:DAYLIGHT
TZOFFSETFROM:-0500
TZOFFSETTO:-0400
TZNAME:EDT
DTSTART:20260308T070000
END:DAYLIGHT
BEGIN:STANDARD
TZOFFSETFROM:-0400
TZOFFSETTO:-0500
TZNAME:EST
DTSTART:20261101T060000
END:STANDARD
END:VTIMEZONE
BEGIN:VEVENT
DTSTART;TZID=America/Montreal:20251201T120000
DTEND;TZID=America/Montreal:20251201T160000
DTSTAMP:20260419T222906
CREATED:20241218T215738Z
LAST-MODIFIED:20251125T163916Z
UID:10006448-1764590400-1764604800@www.lemontmartre.ca
SUMMARY:Club de bridge de Charlesbourg 12H45
DESCRIPTION:
URL:https://www.lemontmartre.ca/event/club-de-bridge-de-charlesbourg-12h45/2025-12-01/
CATEGORIES:Marie-Guyart
END:VEVENT
BEGIN:VEVENT
DTSTART;TZID=America/Montreal:20251201T180000
DTEND;TZID=America/Montreal:20251201T213000
DTSTAMP:20260419T222906
CREATED:20250530T143415Z
LAST-MODIFIED:20260310T153059Z
UID:10008041-1764612000-1764624600@www.lemontmartre.ca
SUMMARY:Soirées d'adoration et de louange 19H
DESCRIPTION:
URL:https://www.lemontmartre.ca/event/soirees-dadoration-et-de-louange-19h/2025-12-01/
CATEGORIES:St-Augustin
END:VEVENT
BEGIN:VEVENT
DTSTART;TZID=America/Montreal:20251202T120000
DTEND;TZID=America/Montreal:20251202T160000
DTSTAMP:20260419T222906
CREATED:20241218T215927Z
LAST-MODIFIED:20251125T164413Z
UID:10006498-1764676800-1764691200@www.lemontmartre.ca
SUMMARY:Club de bridge Roi de pique 12H45
DESCRIPTION:
URL:https://www.lemontmartre.ca/event/club-de-bridge-limperatif-12h45/2025-12-02/
CATEGORIES:Marie-Guyart
END:VEVENT
BEGIN:VEVENT
DTSTART;TZID=America/Montreal:20251202T180000
DTEND;TZID=America/Montreal:20251202T213000
DTSTAMP:20260419T222906
CREATED:20251117T212405Z
LAST-MODIFIED:20251117T212405Z
UID:10010555-1764698400-1764711000@www.lemontmartre.ca
SUMMARY:SC Cité Verte N-O-P-Q 18H30
DESCRIPTION:
URL:https://www.lemontmartre.ca/event/sc-cite-verte-n-o-p-q-18h30/
CATEGORIES:C. Staub
END:VEVENT
BEGIN:VEVENT
DTSTART;TZID=America/Montreal:20251202T183000
DTEND;TZID=America/Montreal:20251202T203000
DTSTAMP:20260419T222906
CREATED:20250828T190416Z
LAST-MODIFIED:20250828T190416Z
UID:10008564-1764700200-1764707400@www.lemontmartre.ca
SUMMARY:Club Toastmasters Les Communicateurs de Québec 18H50
DESCRIPTION:
URL:https://www.lemontmartre.ca/event/club-toastmasters-les-communicateurs-de-quebec-18h50/2025-12-02/
CATEGORIES:St-Vallier
END:VEVENT
BEGIN:VEVENT
DTSTART;TZID=America/Montreal:20251202T183000
DTEND;TZID=America/Montreal:20251202T210000
DTSTAMP:20260419T222906
CREATED:20250923T192448Z
LAST-MODIFIED:20250923T192448Z
UID:10009968-1764700200-1764709200@www.lemontmartre.ca
SUMMARY:La Schola Cantorum 18H30
DESCRIPTION:
URL:https://www.lemontmartre.ca/event/la-schola-cantorum-18h30/2025-12-02/
CATEGORIES:St-Augustin
END:VEVENT
BEGIN:VEVENT
DTSTART;TZID=America/Montreal:20251203T093000
DTEND;TZID=America/Montreal:20251203T113000
DTSTAMP:20260419T222906
CREATED:20250828T190733Z
LAST-MODIFIED:20251022T001822Z
UID:10008573-1764754200-1764761400@www.lemontmartre.ca
SUMMARY:Les matins intelligents 9H30
DESCRIPTION:
URL:https://www.lemontmartre.ca/event/les-matins-intelligents-9h30-12/2025-12-03/
CATEGORIES:St-Vallier
END:VEVENT
BEGIN:VEVENT
DTSTART;TZID=America/Montreal:20251203T120000
DTEND;TZID=America/Montreal:20251203T160000
DTSTAMP:20260419T222906
CREATED:20241218T220039Z
LAST-MODIFIED:20251104T212648Z
UID:10006548-1764763200-1764777600@www.lemontmartre.ca
SUMMARY:Club de bridge l'Entame 12H45
DESCRIPTION:
URL:https://www.lemontmartre.ca/event/club-de-bridge-lentame-12h45-6/2025-12-03/
CATEGORIES:Marie-Guyart
END:VEVENT
BEGIN:VEVENT
DTSTART;TZID=America/Montreal:20251204T120000
DTEND;TZID=America/Montreal:20251204T160000
DTSTAMP:20260419T222906
CREATED:20241218T221216Z
LAST-MODIFIED:20250711T182225Z
UID:10006751-1764849600-1764864000@www.lemontmartre.ca
SUMMARY:Club de bridge Vieux-Québec 12H45
DESCRIPTION:
URL:https://www.lemontmartre.ca/event/club-de-bridge-de-sillery-12h45/2025-12-04/
CATEGORIES:Marie-Guyart
END:VEVENT
BEGIN:VEVENT
DTSTART;TZID=America/Montreal:20251204T163000
DTEND;TZID=America/Montreal:20251204T223000
DTSTAMP:20260419T222906
CREATED:20251117T212021Z
LAST-MODIFIED:20251117T212021Z
UID:10010554-1764865800-1764887400@www.lemontmartre.ca
SUMMARY:Association des retraités de La Capitale 18H30
DESCRIPTION:
URL:https://www.lemontmartre.ca/event/association-des-retraites-de-la-capitale-18h30/
CATEGORIES:Marie-Guyart
END:VEVENT
BEGIN:VEVENT
DTSTART;TZID=America/Montreal:20251204T180000
DTEND;TZID=America/Montreal:20251204T210000
DTSTAMP:20260419T222906
CREATED:20250220T202348Z
LAST-MODIFIED:20251125T165159Z
UID:10007465-1764871200-1764882000@www.lemontmartre.ca
SUMMARY:Groupe St-Antoine 19H
DESCRIPTION:
URL:https://www.lemontmartre.ca/event/groupe-st-antoine-19h/2025-12-04/
CATEGORIES:C. Staub
END:VEVENT
BEGIN:VEVENT
DTSTART;TZID=America/Montreal:20251205T120000
DTEND;TZID=America/Montreal:20251205T160000
DTSTAMP:20260419T222906
CREATED:20241218T220251Z
LAST-MODIFIED:20251105T194941Z
UID:10006648-1764936000-1764950400@www.lemontmartre.ca
SUMMARY:Club de bridge de la Capitale 12H45
DESCRIPTION:
URL:https://www.lemontmartre.ca/event/club-de-bridge-de-la-capitale-12h45/2025-12-05/
CATEGORIES:Marie-Guyart
END:VEVENT
BEGIN:VEVENT
DTSTART;TZID=America/Montreal:20251205T180000
DTEND;TZID=America/Montreal:20251205T220000
DTSTAMP:20260419T222906
CREATED:20251125T163147Z
LAST-MODIFIED:20251125T163147Z
UID:10010581-1764957600-1764972000@www.lemontmartre.ca
SUMMARY:En route vers la liberté 19H30
DESCRIPTION:
URL:https://www.lemontmartre.ca/event/en-route-vers-la-liberte-19h30-9/
CATEGORIES:St-Vallier
END:VEVENT
BEGIN:VEVENT
DTSTART;TZID=America/Montreal:20251206T100000
DTEND;TZID=America/Montreal:20251206T220000
DTSTAMP:20260419T222906
CREATED:20251119T211735Z
LAST-MODIFIED:20251119T211735Z
UID:10010573-1765015200-1765058400@www.lemontmartre.ca
SUMMARY:Centre de la Foi Triomphante 18H30
DESCRIPTION:
URL:https://www.lemontmartre.ca/event/centre-de-la-foi-triomphante-18h30/
CATEGORIES:Marie-Guyart
END:VEVENT
BEGIN:VEVENT
DTSTART;TZID=America/Montreal:20251207T084500
DTEND;TZID=America/Montreal:20251207T120000
DTSTAMP:20260419T222906
CREATED:20241218T215554Z
LAST-MODIFIED:20251002T183002Z
UID:10006397-1765097100-1765108800@www.lemontmartre.ca
SUMMARY:Groupe Harmonie 10H
DESCRIPTION:
URL:https://www.lemontmartre.ca/event/groupe-harmonie-10h-2/2025-12-07/
CATEGORIES:St-Vallier
END:VEVENT
BEGIN:VEVENT
DTSTART;TZID=America/Montreal:20251207T103000
DTEND;TZID=America/Montreal:20251207T120000
DTSTAMP:20260419T222906
CREATED:20241218T215437Z
LAST-MODIFIED:20241218T215437Z
UID:10006345-1765103400-1765108800@www.lemontmartre.ca
SUMMARY:Messe 10H30
DESCRIPTION:
URL:https://www.lemontmartre.ca/event/messe-10h30-2/2025-12-07/
CATEGORIES:St-Augustin
END:VEVENT
BEGIN:VEVENT
DTSTART;TZID=America/Montreal:20251207T123000
DTEND;TZID=America/Montreal:20251207T160000
DTSTAMP:20260419T222906
CREATED:20251002T183902Z
LAST-MODIFIED:20251002T183902Z
UID:10010009-1765110600-1765123200@www.lemontmartre.ca
SUMMARY:Biodanza 13H
DESCRIPTION:
URL:https://www.lemontmartre.ca/event/biodanza-13h/2025-12-07/
CATEGORIES:E. D’Alzon
END:VEVENT
BEGIN:VEVENT
DTSTART;TZID=America/Montreal:20251208T120000
DTEND;TZID=America/Montreal:20251208T160000
DTSTAMP:20260419T222906
CREATED:20241218T215738Z
LAST-MODIFIED:20251125T163916Z
UID:10006449-1765195200-1765209600@www.lemontmartre.ca
SUMMARY:Club de bridge de Charlesbourg 12H45
DESCRIPTION:
URL:https://www.lemontmartre.ca/event/club-de-bridge-de-charlesbourg-12h45/2025-12-08/
CATEGORIES:Marie-Guyart
END:VEVENT
BEGIN:VEVENT
DTSTART;TZID=America/Montreal:20251208T180000
DTEND;TZID=America/Montreal:20251208T213000
DTSTAMP:20260419T222906
CREATED:20250530T143415Z
LAST-MODIFIED:20260310T153059Z
UID:10008042-1765216800-1765229400@www.lemontmartre.ca
SUMMARY:Soirées d'adoration et de louange 19H
DESCRIPTION:
URL:https://www.lemontmartre.ca/event/soirees-dadoration-et-de-louange-19h/2025-12-08/
CATEGORIES:St-Augustin
END:VEVENT
BEGIN:VEVENT
DTSTART;TZID=America/Montreal:20251208T193000
DTEND;TZID=America/Montreal:20251208T203000
DTSTAMP:20260419T222906
CREATED:20251118T212709Z
LAST-MODIFIED:20251118T212709Z
UID:10010566-1765222200-1765225800@www.lemontmartre.ca
SUMMARY:Halte spirituelle 19H30
DESCRIPTION:
URL:https://www.lemontmartre.ca/event/halte-spirituelle-19h30/2025-12-08/
CATEGORIES:E. D’Alzon
END:VEVENT
BEGIN:VEVENT
DTSTART;TZID=America/Montreal:20251209T093000
DTEND;TZID=America/Montreal:20251209T110000
DTSTAMP:20260419T222906
CREATED:20250911T161126Z
LAST-MODIFIED:20250911T161552Z
UID:10008663-1765272600-1765278000@www.lemontmartre.ca
SUMMARY:Café «Bonne nouvelle» 9H30
DESCRIPTION:
URL:https://www.lemontmartre.ca/event/cafe-bonne-nouvelle-9h30-16/
CATEGORIES:Marie-Guyart
END:VEVENT
BEGIN:VEVENT
DTSTART;TZID=America/Montreal:20251209T110000
DTEND;TZID=America/Montreal:20251209T170000
DTSTAMP:20260419T222906
CREATED:20251121T195514Z
LAST-MODIFIED:20251121T195514Z
UID:10010577-1765278000-1765299600@www.lemontmartre.ca
SUMMARY:APRQ 13H
DESCRIPTION:
URL:https://www.lemontmartre.ca/event/aprq-13h/
CATEGORIES:C. Staub
END:VEVENT
BEGIN:VEVENT
DTSTART;TZID=America/Montreal:20251209T120000
DTEND;TZID=America/Montreal:20251209T160000
DTSTAMP:20260419T222906
CREATED:20241218T215927Z
LAST-MODIFIED:20251125T164413Z
UID:10006499-1765281600-1765296000@www.lemontmartre.ca
SUMMARY:Club de bridge Roi de pique 12H45
DESCRIPTION:
URL:https://www.lemontmartre.ca/event/club-de-bridge-limperatif-12h45/2025-12-09/
CATEGORIES:Marie-Guyart
END:VEVENT
BEGIN:VEVENT
DTSTART;TZID=America/Montreal:20251209T180000
DTEND;TZID=America/Montreal:20251209T213000
DTSTAMP:20260419T222906
CREATED:20251118T202820Z
LAST-MODIFIED:20251118T202820Z
UID:10010563-1765303200-1765315800@www.lemontmartre.ca
SUMMARY:SC Cité Verte Bloc-9 18H30
DESCRIPTION:
URL:https://www.lemontmartre.ca/event/sc-cite-verte-bloc-9-18h30/
CATEGORIES:C. Staub
END:VEVENT
BEGIN:VEVENT
DTSTART;TZID=America/Montreal:20251209T180000
DTEND;TZID=America/Montreal:20251209T220000
DTSTAMP:20260419T222906
CREATED:20251002T184641Z
LAST-MODIFIED:20251002T185103Z
UID:10010016-1765303200-1765317600@www.lemontmartre.ca
SUMMARY:ADQC 19H
DESCRIPTION:
URL:https://www.lemontmartre.ca/event/aqdc-19h-3/
CATEGORIES:St-Augustin
END:VEVENT
BEGIN:VEVENT
DTSTART;TZID=America/Montreal:20251209T193000
DTEND;TZID=America/Montreal:20251209T203000
DTSTAMP:20260419T222906
CREATED:20251118T212709Z
LAST-MODIFIED:20251118T212709Z
UID:10010567-1765308600-1765312200@www.lemontmartre.ca
SUMMARY:Halte spirituelle 19H30
DESCRIPTION:
URL:https://www.lemontmartre.ca/event/halte-spirituelle-19h30/2025-12-09/
CATEGORIES:E. D’Alzon
END:VEVENT
BEGIN:VEVENT
DTSTART;TZID=America/Montreal:20251210T090000
DTEND;TZID=America/Montreal:20251210T170000
DTSTAMP:20260419T222906
CREATED:20251118T202427Z
LAST-MODIFIED:20251118T202427Z
UID:10010559-1765357200-1765386000@www.lemontmartre.ca
SUMMARY:Aquarelle Diane Boilard 9H30
DESCRIPTION:
URL:https://www.lemontmartre.ca/event/aquarelle-diane-boilard-9h30-13/2025-12-10/
CATEGORIES:St-Vallier
END:VEVENT
BEGIN:VEVENT
DTSTART;TZID=America/Montreal:20251210T093000
DTEND;TZID=America/Montreal:20251210T113000
DTSTAMP:20260419T222906
CREATED:20250828T191112Z
LAST-MODIFIED:20250828T191112Z
UID:10008578-1765359000-1765366200@www.lemontmartre.ca
SUMMARY:Les matins intelligents 9H30
DESCRIPTION:
URL:https://www.lemontmartre.ca/event/les-matins-intelligents-9h30-16/
CATEGORIES:C. Staub
END:VEVENT
BEGIN:VEVENT
DTSTART;TZID=America/Montreal:20251210T120000
DTEND;TZID=America/Montreal:20251210T160000
DTSTAMP:20260419T222906
CREATED:20241218T220039Z
LAST-MODIFIED:20251104T212648Z
UID:10006549-1765368000-1765382400@www.lemontmartre.ca
SUMMARY:Club de bridge l'Entame 12H45
DESCRIPTION:
URL:https://www.lemontmartre.ca/event/club-de-bridge-lentame-12h45-6/2025-12-10/
CATEGORIES:Marie-Guyart
END:VEVENT
BEGIN:VEVENT
DTSTART;TZID=America/Montreal:20251210T193000
DTEND;TZID=America/Montreal:20251210T203000
DTSTAMP:20260419T222906
CREATED:20251118T212709Z
LAST-MODIFIED:20251118T212709Z
UID:10010568-1765395000-1765398600@www.lemontmartre.ca
SUMMARY:Halte spirituelle 19H30
DESCRIPTION:
URL:https://www.lemontmartre.ca/event/halte-spirituelle-19h30/2025-12-10/
CATEGORIES:E. D’Alzon
END:VEVENT
END:VCALENDAR