BEGIN:VCALENDAR
VERSION:2.0
PRODID:-//Le Montmartre - ECPv6.15.13//NONSGML v1.0//EN
CALSCALE:GREGORIAN
METHOD:PUBLISH
X-ORIGINAL-URL:https://www.lemontmartre.ca
X-WR-CALDESC:Évènements pour Le Montmartre
REFRESH-INTERVAL;VALUE=DURATION:PT1H
X-Robots-Tag:noindex
X-PUBLISHED-TTL:PT1H
BEGIN:VTIMEZONE
TZID:America/Montreal
BEGIN:DAYLIGHT
TZOFFSETFROM:-0500
TZOFFSETTO:-0400
TZNAME:EDT
DTSTART:20240310T070000
END:DAYLIGHT
BEGIN:STANDARD
TZOFFSETFROM:-0400
TZOFFSETTO:-0500
TZNAME:EST
DTSTART:20241103T060000
END:STANDARD
BEGIN:DAYLIGHT
TZOFFSETFROM:-0500
TZOFFSETTO:-0400
TZNAME:EDT
DTSTART:20250309T070000
END:DAYLIGHT
BEGIN:STANDARD
TZOFFSETFROM:-0400
TZOFFSETTO:-0500
TZNAME:EST
DTSTART:20251102T060000
END:STANDARD
BEGIN:DAYLIGHT
TZOFFSETFROM:-0500
TZOFFSETTO:-0400
TZNAME:EDT
DTSTART:20260308T070000
END:DAYLIGHT
BEGIN:STANDARD
TZOFFSETFROM:-0400
TZOFFSETTO:-0500
TZNAME:EST
DTSTART:20261101T060000
END:STANDARD
END:VTIMEZONE
BEGIN:VEVENT
DTSTART;TZID=America/Montreal:20251101T080000
DTEND;TZID=America/Montreal:20251101T170000
DTSTAMP:20260422T061957
CREATED:20251015T165236Z
LAST-MODIFIED:20251015T165537Z
UID:10010139-1761984000-1762016400@www.lemontmartre.ca
SUMMARY:Centre de médiation Iris 9H
DESCRIPTION:
URL:https://www.lemontmartre.ca/event/centre-de-mediation-iris-9h-2/2025-11-01/
CATEGORIES:E. D’Alzon
END:VEVENT
BEGIN:VEVENT
DTSTART;TZID=America/Montreal:20251102T080000
DTEND;TZID=America/Montreal:20251102T230000
DTSTAMP:20260422T061957
CREATED:20251003T195434Z
LAST-MODIFIED:20251003T195434Z
UID:10010037-1762070400-1762124400@www.lemontmartre.ca
SUMMARY:Élections Ville de Québec 10H
DESCRIPTION:
URL:https://www.lemontmartre.ca/event/elections-ville-de-quebec-10h/
CATEGORIES:C. Staub
END:VEVENT
BEGIN:VEVENT
DTSTART;TZID=America/Montreal:20251102T080000
DTEND;TZID=America/Montreal:20251102T230000
DTSTAMP:20260422T061957
CREATED:20251003T195523Z
LAST-MODIFIED:20251003T195523Z
UID:10010038-1762070400-1762124400@www.lemontmartre.ca
SUMMARY:Élections Ville de Québec 10H
DESCRIPTION:
URL:https://www.lemontmartre.ca/event/elections-ville-de-quebec-10h-2/
CATEGORIES:E. D’Alzon
END:VEVENT
BEGIN:VEVENT
DTSTART;TZID=America/Montreal:20251102T080000
DTEND;TZID=America/Montreal:20251102T230000
DTSTAMP:20260422T061958
CREATED:20251003T195605Z
LAST-MODIFIED:20251003T195605Z
UID:10010039-1762070400-1762124400@www.lemontmartre.ca
SUMMARY:Élections Ville de Québec 10H
DESCRIPTION:
URL:https://www.lemontmartre.ca/event/elections-ville-de-quebec-10h-3/
CATEGORIES:Grand Hall
END:VEVENT
BEGIN:VEVENT
DTSTART;TZID=America/Montreal:20251102T080000
DTEND;TZID=America/Montreal:20251102T230000
DTSTAMP:20260422T061958
CREATED:20251003T195655Z
LAST-MODIFIED:20251003T195655Z
UID:10010040-1762070400-1762124400@www.lemontmartre.ca
SUMMARY:Élections Ville de Québec 10H
DESCRIPTION:
URL:https://www.lemontmartre.ca/event/elections-ville-de-quebec-10h-4/
CATEGORIES:Marie-Guyart
END:VEVENT
BEGIN:VEVENT
DTSTART;TZID=America/Montreal:20251102T084500
DTEND;TZID=America/Montreal:20251102T120000
DTSTAMP:20260422T061958
CREATED:20241218T215554Z
LAST-MODIFIED:20251002T183002Z
UID:10006392-1762073100-1762084800@www.lemontmartre.ca
SUMMARY:Groupe Harmonie 10H
DESCRIPTION:
URL:https://www.lemontmartre.ca/event/groupe-harmonie-10h-2/2025-11-02/
CATEGORIES:St-Vallier
END:VEVENT
BEGIN:VEVENT
DTSTART;TZID=America/Montreal:20251102T103000
DTEND;TZID=America/Montreal:20251102T120000
DTSTAMP:20260422T061958
CREATED:20241218T215437Z
LAST-MODIFIED:20241218T215437Z
UID:10006340-1762079400-1762084800@www.lemontmartre.ca
SUMMARY:Messe 10H30
DESCRIPTION:
URL:https://www.lemontmartre.ca/event/messe-10h30-2/2025-11-02/
CATEGORIES:St-Augustin
END:VEVENT
BEGIN:VEVENT
DTSTART;TZID=America/Montreal:20251103T090000
DTEND;TZID=America/Montreal:20251103T120000
DTSTAMP:20260422T061958
CREATED:20251022T002204Z
LAST-MODIFIED:20251022T002204Z
UID:10010146-1762160400-1762171200@www.lemontmartre.ca
SUMMARY:Retraite Québec 10H
DESCRIPTION:
URL:https://www.lemontmartre.ca/event/retraite-quebec-10h/
CATEGORIES:E. D’Alzon
END:VEVENT
BEGIN:VEVENT
DTSTART;TZID=America/Montreal:20251103T120000
DTEND;TZID=America/Montreal:20251103T160000
DTSTAMP:20260422T061958
CREATED:20241218T215738Z
LAST-MODIFIED:20251125T163916Z
UID:10006444-1762171200-1762185600@www.lemontmartre.ca
SUMMARY:Club de bridge de Charlesbourg 12H45
DESCRIPTION:
URL:https://www.lemontmartre.ca/event/club-de-bridge-de-charlesbourg-12h45/2025-11-03/
CATEGORIES:Marie-Guyart
END:VEVENT
BEGIN:VEVENT
DTSTART;TZID=America/Montreal:20251103T180000
DTEND;TZID=America/Montreal:20251103T213000
DTSTAMP:20260422T061958
CREATED:20250530T143415Z
LAST-MODIFIED:20260310T153059Z
UID:10008037-1762192800-1762205400@www.lemontmartre.ca
SUMMARY:Soirées d'adoration et de louange 19H
DESCRIPTION:
URL:https://www.lemontmartre.ca/event/soirees-dadoration-et-de-louange-19h/2025-11-03/
CATEGORIES:St-Augustin
END:VEVENT
BEGIN:VEVENT
DTSTART;TZID=America/Montreal:20251104T120000
DTEND;TZID=America/Montreal:20251104T160000
DTSTAMP:20260422T061958
CREATED:20241218T215927Z
LAST-MODIFIED:20251125T164413Z
UID:10006494-1762257600-1762272000@www.lemontmartre.ca
SUMMARY:Club de bridge Roi de pique 12H45
DESCRIPTION:
URL:https://www.lemontmartre.ca/event/club-de-bridge-limperatif-12h45/2025-11-04/
CATEGORIES:Marie-Guyart
END:VEVENT
BEGIN:VEVENT
DTSTART;TZID=America/Montreal:20251104T183000
DTEND;TZID=America/Montreal:20251104T203000
DTSTAMP:20260422T061958
CREATED:20250828T190416Z
LAST-MODIFIED:20250828T190416Z
UID:10008560-1762281000-1762288200@www.lemontmartre.ca
SUMMARY:Club Toastmasters Les Communicateurs de Québec 18H50
DESCRIPTION:
URL:https://www.lemontmartre.ca/event/club-toastmasters-les-communicateurs-de-quebec-18h50/2025-11-04/
CATEGORIES:St-Vallier
END:VEVENT
BEGIN:VEVENT
DTSTART;TZID=America/Montreal:20251104T183000
DTEND;TZID=America/Montreal:20251104T210000
DTSTAMP:20260422T061958
CREATED:20250923T192448Z
LAST-MODIFIED:20250923T192448Z
UID:10009966-1762281000-1762290000@www.lemontmartre.ca
SUMMARY:La Schola Cantorum 18H30
DESCRIPTION:
URL:https://www.lemontmartre.ca/event/la-schola-cantorum-18h30/2025-11-04/
CATEGORIES:St-Augustin
END:VEVENT
BEGIN:VEVENT
DTSTART;TZID=America/Montreal:20251105T073000
DTEND;TZID=America/Montreal:20251105T160000
DTSTAMP:20260422T061958
CREATED:20251022T002436Z
LAST-MODIFIED:20251022T002436Z
UID:10010147-1762327800-1762358400@www.lemontmartre.ca
SUMMARY:Maison Michel-Sarrazin 9H
DESCRIPTION:
URL:https://www.lemontmartre.ca/event/maison-michel-sarrazin-9h-5/
CATEGORIES:Marie-Guyart
END:VEVENT
BEGIN:VEVENT
DTSTART;TZID=America/Montreal:20251105T073000
DTEND;TZID=America/Montreal:20251105T160000
DTSTAMP:20260422T061958
CREATED:20251022T002623Z
LAST-MODIFIED:20251022T002623Z
UID:10010148-1762327800-1762358400@www.lemontmartre.ca
SUMMARY:Maison Michel-Sarrazin 9H
DESCRIPTION:
URL:https://www.lemontmartre.ca/event/maison-michel-sarrazin-9h-6/
CATEGORIES:E. D’Alzon
END:VEVENT
BEGIN:VEVENT
DTSTART;TZID=America/Montreal:20251105T093000
DTEND;TZID=America/Montreal:20251105T113000
DTSTAMP:20260422T061958
CREATED:20251022T002004Z
LAST-MODIFIED:20251022T002004Z
UID:10010145-1762335000-1762342200@www.lemontmartre.ca
SUMMARY:Les matins intelligents 9H30
DESCRIPTION:
URL:https://www.lemontmartre.ca/event/les-matins-intelligents-9h30-17/
CATEGORIES:C. Staub
END:VEVENT
BEGIN:VEVENT
DTSTART;TZID=America/Montreal:20251105T120000
DTEND;TZID=America/Montreal:20251105T160000
DTSTAMP:20260422T061958
CREATED:20251028T163026Z
LAST-MODIFIED:20251028T163026Z
UID:10010170-1762344000-1762358400@www.lemontmartre.ca
SUMMARY:Club de bridge l'Entame 12H45
DESCRIPTION:
URL:https://www.lemontmartre.ca/event/club-de-bridge-lentame-12h45-11/
CATEGORIES:St-Vallier
END:VEVENT
BEGIN:VEVENT
DTSTART;TZID=America/Montreal:20251106T120000
DTEND;TZID=America/Montreal:20251106T160000
DTSTAMP:20260422T061958
CREATED:20241218T221216Z
LAST-MODIFIED:20250711T182225Z
UID:10006747-1762430400-1762444800@www.lemontmartre.ca
SUMMARY:Club de bridge Vieux-Québec 12H45
DESCRIPTION:
URL:https://www.lemontmartre.ca/event/club-de-bridge-de-sillery-12h45/2025-11-06/
CATEGORIES:Marie-Guyart
END:VEVENT
BEGIN:VEVENT
DTSTART;TZID=America/Montreal:20251106T180000
DTEND;TZID=America/Montreal:20251106T210000
DTSTAMP:20260422T061958
CREATED:20250220T202348Z
LAST-MODIFIED:20251125T165159Z
UID:10007461-1762452000-1762462800@www.lemontmartre.ca
SUMMARY:Groupe St-Antoine 19H
DESCRIPTION:
URL:https://www.lemontmartre.ca/event/groupe-st-antoine-19h/2025-11-06/
CATEGORIES:C. Staub
END:VEVENT
BEGIN:VEVENT
DTSTART;TZID=America/Montreal:20251106T193000
DTEND;TZID=America/Montreal:20251106T210000
DTSTAMP:20260422T061958
CREATED:20251027T140347Z
LAST-MODIFIED:20251027T140347Z
UID:10010161-1762457400-1762462800@www.lemontmartre.ca
SUMMARY:Défis et débats actuels 19H30
DESCRIPTION:
URL:https://www.lemontmartre.ca/event/defis-et-debats-actuels-19h30-4/
CATEGORIES:Marie-Guyart
END:VEVENT
BEGIN:VEVENT
DTSTART;TZID=America/Montreal:20251107T120000
DTEND;TZID=America/Montreal:20251107T160000
DTSTAMP:20260422T061958
CREATED:20241218T220251Z
LAST-MODIFIED:20251105T194941Z
UID:10006644-1762516800-1762531200@www.lemontmartre.ca
SUMMARY:Club de bridge de la Capitale 12H45
DESCRIPTION:
URL:https://www.lemontmartre.ca/event/club-de-bridge-de-la-capitale-12h45/2025-11-07/
CATEGORIES:Marie-Guyart
END:VEVENT
BEGIN:VEVENT
DTSTART;TZID=America/Montreal:20251107T180000
DTEND;TZID=America/Montreal:20251107T220000
DTSTAMP:20260422T061958
CREATED:20251030T125442Z
LAST-MODIFIED:20251030T125442Z
UID:10010171-1762538400-1762552800@www.lemontmartre.ca
SUMMARY:En route vers la liberté 19H30
DESCRIPTION:
URL:https://www.lemontmartre.ca/event/en-route-vers-la-liberte-19h30-7/
CATEGORIES:St-Vallier
END:VEVENT
BEGIN:VEVENT
DTSTART;TZID=America/Montreal:20251108T064500
DTEND;TZID=America/Montreal:20251108T180000
DTSTAMP:20260422T061958
CREATED:20251022T202808Z
LAST-MODIFIED:20251022T202808Z
UID:10010149-1762584300-1762624800@www.lemontmartre.ca
SUMMARY:Rendez-vous vinyles Québec 9H
DESCRIPTION:
URL:https://www.lemontmartre.ca/event/rendez-vous-vinyles-quebec-9h/
CATEGORIES:Marie-Guyart
END:VEVENT
BEGIN:VEVENT
DTSTART;TZID=America/Montreal:20251108T080000
DTEND;TZID=America/Montreal:20251108T203000
DTSTAMP:20260422T061958
CREATED:20251024T175453Z
LAST-MODIFIED:20251024T175453Z
UID:10010159-1762588800-1762633800@www.lemontmartre.ca
SUMMARY:Chorale Écho de louange (15ième anniversaire) 16H
DESCRIPTION:
URL:https://www.lemontmartre.ca/event/chorale-echo-de-louange-15ieme-anniversaire-16h/
CATEGORIES:St-Augustin
END:VEVENT
BEGIN:VEVENT
DTSTART;TZID=America/Montreal:20251108T080000
DTEND;TZID=America/Montreal:20251108T203000
DTSTAMP:20260422T061958
CREATED:20251024T175536Z
LAST-MODIFIED:20251024T175536Z
UID:10010160-1762588800-1762633800@www.lemontmartre.ca
SUMMARY:Chorale Écho de louange (15ième anniversaire) 16H
DESCRIPTION:
URL:https://www.lemontmartre.ca/event/chorale-echo-de-louange-15ieme-anniversaire-16h-2/
CATEGORIES:E. D’Alzon
END:VEVENT
BEGIN:VEVENT
DTSTART;TZID=America/Montreal:20251109T084500
DTEND;TZID=America/Montreal:20251109T120000
DTSTAMP:20260422T061958
CREATED:20241218T215554Z
LAST-MODIFIED:20251002T183002Z
UID:10006393-1762677900-1762689600@www.lemontmartre.ca
SUMMARY:Groupe Harmonie 10H
DESCRIPTION:
URL:https://www.lemontmartre.ca/event/groupe-harmonie-10h-2/2025-11-09/
CATEGORIES:St-Vallier
END:VEVENT
BEGIN:VEVENT
DTSTART;TZID=America/Montreal:20251109T103000
DTEND;TZID=America/Montreal:20251109T120000
DTSTAMP:20260422T061958
CREATED:20241218T215437Z
LAST-MODIFIED:20241218T215437Z
UID:10006341-1762684200-1762689600@www.lemontmartre.ca
SUMMARY:Messe 10H30
DESCRIPTION:
URL:https://www.lemontmartre.ca/event/messe-10h30-2/2025-11-09/
CATEGORIES:St-Augustin
END:VEVENT
BEGIN:VEVENT
DTSTART;TZID=America/Montreal:20251109T123000
DTEND;TZID=America/Montreal:20251109T160000
DTSTAMP:20260422T061958
CREATED:20251002T183902Z
LAST-MODIFIED:20251002T183902Z
UID:10010005-1762691400-1762704000@www.lemontmartre.ca
SUMMARY:Biodanza 13H
DESCRIPTION:
URL:https://www.lemontmartre.ca/event/biodanza-13h/2025-11-09/
CATEGORIES:E. D’Alzon
END:VEVENT
BEGIN:VEVENT
DTSTART;TZID=America/Montreal:20251110T120000
DTEND;TZID=America/Montreal:20251110T160000
DTSTAMP:20260422T061958
CREATED:20241218T215738Z
LAST-MODIFIED:20251125T163916Z
UID:10006445-1762776000-1762790400@www.lemontmartre.ca
SUMMARY:Club de bridge de Charlesbourg 12H45
DESCRIPTION:
URL:https://www.lemontmartre.ca/event/club-de-bridge-de-charlesbourg-12h45/2025-11-10/
CATEGORIES:Marie-Guyart
END:VEVENT
BEGIN:VEVENT
DTSTART;TZID=America/Montreal:20251110T180000
DTEND;TZID=America/Montreal:20251110T213000
DTSTAMP:20260422T061958
CREATED:20250530T143415Z
LAST-MODIFIED:20260310T153059Z
UID:10008038-1762797600-1762810200@www.lemontmartre.ca
SUMMARY:Soirées d'adoration et de louange 19H
DESCRIPTION:
URL:https://www.lemontmartre.ca/event/soirees-dadoration-et-de-louange-19h/2025-11-10/
CATEGORIES:St-Augustin
END:VEVENT
END:VCALENDAR