BEGIN:VCALENDAR
VERSION:2.0
PRODID:-//Le Montmartre - ECPv6.15.13//NONSGML v1.0//EN
CALSCALE:GREGORIAN
METHOD:PUBLISH
X-WR-CALNAME:Le Montmartre
X-ORIGINAL-URL:https://www.lemontmartre.ca
X-WR-CALDESC:Évènements pour Le Montmartre
REFRESH-INTERVAL;VALUE=DURATION:PT1H
X-Robots-Tag:noindex
X-PUBLISHED-TTL:PT1H
BEGIN:VTIMEZONE
TZID:America/Montreal
BEGIN:DAYLIGHT
TZOFFSETFROM:-0500
TZOFFSETTO:-0400
TZNAME:EDT
DTSTART:20240310T070000
END:DAYLIGHT
BEGIN:STANDARD
TZOFFSETFROM:-0400
TZOFFSETTO:-0500
TZNAME:EST
DTSTART:20241103T060000
END:STANDARD
BEGIN:DAYLIGHT
TZOFFSETFROM:-0500
TZOFFSETTO:-0400
TZNAME:EDT
DTSTART:20250309T070000
END:DAYLIGHT
BEGIN:STANDARD
TZOFFSETFROM:-0400
TZOFFSETTO:-0500
TZNAME:EST
DTSTART:20251102T060000
END:STANDARD
BEGIN:DAYLIGHT
TZOFFSETFROM:-0500
TZOFFSETTO:-0400
TZNAME:EDT
DTSTART:20260308T070000
END:DAYLIGHT
BEGIN:STANDARD
TZOFFSETFROM:-0400
TZOFFSETTO:-0500
TZNAME:EST
DTSTART:20261101T060000
END:STANDARD
END:VTIMEZONE
BEGIN:VEVENT
DTSTART;TZID=America/Montreal:20251001T093000
DTEND;TZID=America/Montreal:20251001T113000
DTSTAMP:20260424T063312
CREATED:20250828T190733Z
LAST-MODIFIED:20251022T001822Z
UID:10008567-1759311000-1759318200@www.lemontmartre.ca
SUMMARY:Les matins intelligents 9H30
DESCRIPTION:
URL:https://www.lemontmartre.ca/event/les-matins-intelligents-9h30-12/2025-10-01/
CATEGORIES:St-Vallier
END:VEVENT
BEGIN:VEVENT
DTSTART;TZID=America/Montreal:20251001T120000
DTEND;TZID=America/Montreal:20251001T160000
DTSTAMP:20260424T063312
CREATED:20241218T220039Z
LAST-MODIFIED:20251104T212648Z
UID:10006539-1759320000-1759334400@www.lemontmartre.ca
SUMMARY:Club de bridge l'Entame 12H45
DESCRIPTION:
URL:https://www.lemontmartre.ca/event/club-de-bridge-lentame-12h45-6/2025-10-01/
CATEGORIES:Marie-Guyart
END:VEVENT
BEGIN:VEVENT
DTSTART;TZID=America/Montreal:20251002T120000
DTEND;TZID=America/Montreal:20251002T160000
DTSTAMP:20260424T063312
CREATED:20241218T221216Z
LAST-MODIFIED:20250711T182225Z
UID:10006742-1759406400-1759420800@www.lemontmartre.ca
SUMMARY:Club de bridge Vieux-Québec 12H45
DESCRIPTION:
URL:https://www.lemontmartre.ca/event/club-de-bridge-de-sillery-12h45/2025-10-02/
CATEGORIES:Marie-Guyart
END:VEVENT
BEGIN:VEVENT
DTSTART;TZID=America/Montreal:20251002T180000
DTEND;TZID=America/Montreal:20251002T210000
DTSTAMP:20260424T063312
CREATED:20250220T202348Z
LAST-MODIFIED:20251125T165159Z
UID:10007456-1759428000-1759438800@www.lemontmartre.ca
SUMMARY:Groupe St-Antoine 19H
DESCRIPTION:
URL:https://www.lemontmartre.ca/event/groupe-st-antoine-19h/2025-10-02/
CATEGORIES:C. Staub
END:VEVENT
BEGIN:VEVENT
DTSTART;TZID=America/Montreal:20251003T120000
DTEND;TZID=America/Montreal:20251003T160000
DTSTAMP:20260424T063312
CREATED:20241218T220251Z
LAST-MODIFIED:20251105T194941Z
UID:10006639-1759492800-1759507200@www.lemontmartre.ca
SUMMARY:Club de bridge de la Capitale 12H45
DESCRIPTION:
URL:https://www.lemontmartre.ca/event/club-de-bridge-de-la-capitale-12h45/2025-10-03/
CATEGORIES:Marie-Guyart
END:VEVENT
BEGIN:VEVENT
DTSTART;TZID=America/Montreal:20251003T123000
DTEND;TZID=America/Montreal:20251003T163000
DTSTAMP:20260424T063312
CREATED:20250925T185040Z
LAST-MODIFIED:20250925T185040Z
UID:10009995-1759494600-1759509000@www.lemontmartre.ca
SUMMARY:Renouveau charismatique 12H30 Installation
DESCRIPTION:
URL:https://www.lemontmartre.ca/event/renouveau-charismatique-12h30-installation/
CATEGORIES:St-Augustin
END:VEVENT
BEGIN:VEVENT
DTSTART;TZID=America/Montreal:20251003T180000
DTEND;TZID=America/Montreal:20251003T220000
DTSTAMP:20260424T063312
CREATED:20241218T220554Z
LAST-MODIFIED:20251125T163034Z
UID:10006691-1759514400-1759528800@www.lemontmartre.ca
SUMMARY:En route vers la liberté 19H30
DESCRIPTION:
URL:https://www.lemontmartre.ca/event/en-route-vers-la-liberte-19h30-5/2025-10-03/
CATEGORIES:Marie-Guyart
END:VEVENT
BEGIN:VEVENT
DTSTART;TZID=America/Montreal:20251004T070000
DTEND;TZID=America/Montreal:20251004T203000
DTSTAMP:20260424T063312
CREATED:20250924T202849Z
LAST-MODIFIED:20250924T202849Z
UID:10009991-1759561200-1759609800@www.lemontmartre.ca
SUMMARY:Renouveau charismatique 8H30
DESCRIPTION:
URL:https://www.lemontmartre.ca/event/renouveau-charismatique-8h30/
CATEGORIES:St-Augustin
END:VEVENT
BEGIN:VEVENT
DTSTART;TZID=America/Montreal:20251004T070000
DTEND;TZID=America/Montreal:20251004T203000
DTSTAMP:20260424T063312
CREATED:20250924T202954Z
LAST-MODIFIED:20250924T202954Z
UID:10009992-1759561200-1759609800@www.lemontmartre.ca
SUMMARY:Renouveau charismatique 8H30
DESCRIPTION:
URL:https://www.lemontmartre.ca/event/renouveau-charismatique-8h30-2/
CATEGORIES:C. Staub
END:VEVENT
BEGIN:VEVENT
DTSTART;TZID=America/Montreal:20251004T070000
DTEND;TZID=America/Montreal:20251004T203000
DTSTAMP:20260424T063312
CREATED:20250924T203048Z
LAST-MODIFIED:20250924T203048Z
UID:10009993-1759561200-1759609800@www.lemontmartre.ca
SUMMARY:Renouveau charismatique 8H30
DESCRIPTION:
URL:https://www.lemontmartre.ca/event/renouveau-charismatique-8h30-3/
CATEGORIES:E. D’Alzon
END:VEVENT
BEGIN:VEVENT
DTSTART;TZID=America/Montreal:20251004T070000
DTEND;TZID=America/Montreal:20251004T203000
DTSTAMP:20260424T063312
CREATED:20250924T203134Z
LAST-MODIFIED:20250924T203134Z
UID:10009994-1759561200-1759609800@www.lemontmartre.ca
SUMMARY:Renouveau charismatique 8H30
DESCRIPTION:
URL:https://www.lemontmartre.ca/event/renouveau-charismatique-8h30-4/
CATEGORIES:Marie-Guyart
END:VEVENT
BEGIN:VEVENT
DTSTART;TZID=America/Montreal:20251004T120000
DTEND;TZID=America/Montreal:20251004T160000
DTSTAMP:20260424T063312
CREATED:20250919T145552Z
LAST-MODIFIED:20250919T145552Z
UID:10009962-1759579200-1759593600@www.lemontmartre.ca
SUMMARY:Club de bridge Quatre-Coeurs 12H45
DESCRIPTION:
URL:https://www.lemontmartre.ca/event/club-de-bridge-quatre-coeurs-12h45-18/
CATEGORIES:St-Vallier
END:VEVENT
BEGIN:VEVENT
DTSTART;TZID=America/Montreal:20251005T103000
DTEND;TZID=America/Montreal:20251005T120000
DTSTAMP:20260424T063312
CREATED:20241218T215437Z
LAST-MODIFIED:20241218T215437Z
UID:10006336-1759660200-1759665600@www.lemontmartre.ca
SUMMARY:Messe 10H30
DESCRIPTION:
URL:https://www.lemontmartre.ca/event/messe-10h30-2/2025-10-05/
CATEGORIES:St-Augustin
END:VEVENT
BEGIN:VEVENT
DTSTART;TZID=America/Montreal:20251005T120000
DTEND;TZID=America/Montreal:20251005T190000
DTSTAMP:20260424T063312
CREATED:20250924T002429Z
LAST-MODIFIED:20250924T002429Z
UID:10009987-1759665600-1759690800@www.lemontmartre.ca
SUMMARY:Mouvement du cursillo secteur Québec  15H30
DESCRIPTION:
URL:https://www.lemontmartre.ca/event/mouvement-du-cursillo-secteur-quebec-15h30/
CATEGORIES:St-Augustin
END:VEVENT
BEGIN:VEVENT
DTSTART;TZID=America/Montreal:20251005T120000
DTEND;TZID=America/Montreal:20251005T190000
DTSTAMP:20260424T063312
CREATED:20250924T002513Z
LAST-MODIFIED:20250924T002513Z
UID:10009988-1759665600-1759690800@www.lemontmartre.ca
SUMMARY:Mouvement du cursillo secteur Québec  15H30
DESCRIPTION:
URL:https://www.lemontmartre.ca/event/mouvement-du-cursillo-secteur-quebec-15h30-2/
CATEGORIES:C. Staub
END:VEVENT
BEGIN:VEVENT
DTSTART;TZID=America/Montreal:20251005T120000
DTEND;TZID=America/Montreal:20251005T190000
DTSTAMP:20260424T063312
CREATED:20250924T002549Z
LAST-MODIFIED:20250924T002549Z
UID:10009989-1759665600-1759690800@www.lemontmartre.ca
SUMMARY:Mouvement du cursillo secteur Québec  15H30
DESCRIPTION:
URL:https://www.lemontmartre.ca/event/mouvement-du-cursillo-secteur-quebec-15h30-3/
CATEGORIES:E. D’Alzon
END:VEVENT
BEGIN:VEVENT
DTSTART;TZID=America/Montreal:20251005T120000
DTEND;TZID=America/Montreal:20251005T190000
DTSTAMP:20260424T063312
CREATED:20250924T002630Z
LAST-MODIFIED:20250924T002630Z
UID:10009990-1759665600-1759690800@www.lemontmartre.ca
SUMMARY:Mouvement du cursillo secteur Québec  15H30
DESCRIPTION:
URL:https://www.lemontmartre.ca/event/mouvement-du-cursillo-secteur-quebec-15h30-4/
CATEGORIES:St-Vallier
END:VEVENT
BEGIN:VEVENT
DTSTART;TZID=America/Montreal:20251006T080000
DTEND;TZID=America/Montreal:20251006T170000
DTSTAMP:20260424T063312
CREATED:20251002T183219Z
LAST-MODIFIED:20251002T183219Z
UID:10009998-1759737600-1759770000@www.lemontmartre.ca
SUMMARY:IAIM 9H
DESCRIPTION:
URL:https://www.lemontmartre.ca/event/iaim-9h/2025-10-06/
CATEGORIES:E. D’Alzon
END:VEVENT
BEGIN:VEVENT
DTSTART;TZID=America/Montreal:20251006T120000
DTEND;TZID=America/Montreal:20251006T160000
DTSTAMP:20260424T063312
CREATED:20241218T215738Z
LAST-MODIFIED:20251125T163916Z
UID:10006440-1759752000-1759766400@www.lemontmartre.ca
SUMMARY:Club de bridge de Charlesbourg 12H45
DESCRIPTION:
URL:https://www.lemontmartre.ca/event/club-de-bridge-de-charlesbourg-12h45/2025-10-06/
CATEGORIES:Marie-Guyart
END:VEVENT
BEGIN:VEVENT
DTSTART;TZID=America/Montreal:20251006T180000
DTEND;TZID=America/Montreal:20251006T213000
DTSTAMP:20260424T063312
CREATED:20250530T143415Z
LAST-MODIFIED:20260310T153059Z
UID:10008033-1759773600-1759786200@www.lemontmartre.ca
SUMMARY:Soirées d'adoration et de louange 19H
DESCRIPTION:
URL:https://www.lemontmartre.ca/event/soirees-dadoration-et-de-louange-19h/2025-10-06/
CATEGORIES:St-Augustin
END:VEVENT
BEGIN:VEVENT
DTSTART;TZID=America/Montreal:20251007T070000
DTEND;TZID=America/Montreal:20251007T190000
DTSTAMP:20260424T063312
CREATED:20250926T202508Z
LAST-MODIFIED:20250926T202508Z
UID:10009996-1759820400-1759863600@www.lemontmartre.ca
SUMMARY:GMF-U Laurier 8H30
DESCRIPTION:
URL:https://www.lemontmartre.ca/event/gmf-u-laurier-8h30-2/
CATEGORIES:C. Staub
END:VEVENT
BEGIN:VEVENT
DTSTART;TZID=America/Montreal:20251007T080000
DTEND;TZID=America/Montreal:20251007T170000
DTSTAMP:20260424T063312
CREATED:20251002T183219Z
LAST-MODIFIED:20251002T183219Z
UID:10009999-1759824000-1759856400@www.lemontmartre.ca
SUMMARY:IAIM 9H
DESCRIPTION:
URL:https://www.lemontmartre.ca/event/iaim-9h/2025-10-07/
CATEGORIES:E. D’Alzon
END:VEVENT
BEGIN:VEVENT
DTSTART;TZID=America/Montreal:20251007T120000
DTEND;TZID=America/Montreal:20251007T160000
DTSTAMP:20260424T063312
CREATED:20241218T215927Z
LAST-MODIFIED:20251125T164413Z
UID:10006490-1759838400-1759852800@www.lemontmartre.ca
SUMMARY:Club de bridge Roi de pique 12H45
DESCRIPTION:
URL:https://www.lemontmartre.ca/event/club-de-bridge-limperatif-12h45/2025-10-07/
CATEGORIES:Marie-Guyart
END:VEVENT
BEGIN:VEVENT
DTSTART;TZID=America/Montreal:20251007T183000
DTEND;TZID=America/Montreal:20251007T203000
DTSTAMP:20260424T063312
CREATED:20250828T190416Z
LAST-MODIFIED:20250828T190416Z
UID:10008556-1759861800-1759869000@www.lemontmartre.ca
SUMMARY:Club Toastmasters Les Communicateurs de Québec 18H50
DESCRIPTION:
URL:https://www.lemontmartre.ca/event/club-toastmasters-les-communicateurs-de-quebec-18h50/2025-10-07/
CATEGORIES:St-Vallier
END:VEVENT
BEGIN:VEVENT
DTSTART;TZID=America/Montreal:20251007T183000
DTEND;TZID=America/Montreal:20251007T210000
DTSTAMP:20260424T063312
CREATED:20250923T192448Z
LAST-MODIFIED:20250923T192448Z
UID:10009963-1759861800-1759870800@www.lemontmartre.ca
SUMMARY:La Schola Cantorum 18H30
DESCRIPTION:
URL:https://www.lemontmartre.ca/event/la-schola-cantorum-18h30/2025-10-07/
CATEGORIES:St-Augustin
END:VEVENT
BEGIN:VEVENT
DTSTART;TZID=America/Montreal:20251008T080000
DTEND;TZID=America/Montreal:20251008T170000
DTSTAMP:20260424T063312
CREATED:20251002T183219Z
LAST-MODIFIED:20251002T183219Z
UID:10010000-1759910400-1759942800@www.lemontmartre.ca
SUMMARY:IAIM 9H
DESCRIPTION:
URL:https://www.lemontmartre.ca/event/iaim-9h/2025-10-08/
CATEGORIES:E. D’Alzon
END:VEVENT
BEGIN:VEVENT
DTSTART;TZID=America/Montreal:20251008T093000
DTEND;TZID=America/Montreal:20251008T113000
DTSTAMP:20260424T063312
CREATED:20250828T190733Z
LAST-MODIFIED:20251022T001822Z
UID:10008568-1759915800-1759923000@www.lemontmartre.ca
SUMMARY:Les matins intelligents 9H30
DESCRIPTION:
URL:https://www.lemontmartre.ca/event/les-matins-intelligents-9h30-12/2025-10-08/
CATEGORIES:St-Vallier
END:VEVENT
BEGIN:VEVENT
DTSTART;TZID=America/Montreal:20251008T120000
DTEND;TZID=America/Montreal:20251008T160000
DTSTAMP:20260424T063312
CREATED:20241218T220039Z
LAST-MODIFIED:20251104T212648Z
UID:10006540-1759924800-1759939200@www.lemontmartre.ca
SUMMARY:Club de bridge l'Entame 12H45
DESCRIPTION:
URL:https://www.lemontmartre.ca/event/club-de-bridge-lentame-12h45-6/2025-10-08/
CATEGORIES:Marie-Guyart
END:VEVENT
BEGIN:VEVENT
DTSTART;TZID=America/Montreal:20251008T180000
DTEND;TZID=America/Montreal:20251008T220000
DTSTAMP:20260424T063312
CREATED:20250928T174442Z
LAST-MODIFIED:20250928T174442Z
UID:10009997-1759946400-1759960800@www.lemontmartre.ca
SUMMARY:Condo Woodfield 19H
DESCRIPTION:
URL:https://www.lemontmartre.ca/event/condo-woodfield-19h/
CATEGORIES:St-Augustin
END:VEVENT
BEGIN:VEVENT
DTSTART;TZID=America/Montreal:20251009T080000
DTEND;TZID=America/Montreal:20251009T170000
DTSTAMP:20260424T063312
CREATED:20251002T183219Z
LAST-MODIFIED:20251002T183219Z
UID:10010001-1759996800-1760029200@www.lemontmartre.ca
SUMMARY:IAIM 9H
DESCRIPTION:
URL:https://www.lemontmartre.ca/event/iaim-9h/2025-10-09/
CATEGORIES:E. D’Alzon
END:VEVENT
END:VCALENDAR