BEGIN:VCALENDAR
VERSION:2.0
PRODID:-//Le Montmartre - ECPv6.15.13//NONSGML v1.0//EN
CALSCALE:GREGORIAN
METHOD:PUBLISH
X-WR-CALNAME:Le Montmartre
X-ORIGINAL-URL:https://www.lemontmartre.ca
X-WR-CALDESC:Évènements pour Le Montmartre
REFRESH-INTERVAL;VALUE=DURATION:PT1H
X-Robots-Tag:noindex
X-PUBLISHED-TTL:PT1H
BEGIN:VTIMEZONE
TZID:America/Montreal
BEGIN:DAYLIGHT
TZOFFSETFROM:-0500
TZOFFSETTO:-0400
TZNAME:EDT
DTSTART:20230312T070000
END:DAYLIGHT
BEGIN:STANDARD
TZOFFSETFROM:-0400
TZOFFSETTO:-0500
TZNAME:EST
DTSTART:20231105T060000
END:STANDARD
BEGIN:DAYLIGHT
TZOFFSETFROM:-0500
TZOFFSETTO:-0400
TZNAME:EDT
DTSTART:20240310T070000
END:DAYLIGHT
BEGIN:STANDARD
TZOFFSETFROM:-0400
TZOFFSETTO:-0500
TZNAME:EST
DTSTART:20241103T060000
END:STANDARD
BEGIN:DAYLIGHT
TZOFFSETFROM:-0500
TZOFFSETTO:-0400
TZNAME:EDT
DTSTART:20250309T070000
END:DAYLIGHT
BEGIN:STANDARD
TZOFFSETFROM:-0400
TZOFFSETTO:-0500
TZNAME:EST
DTSTART:20251102T060000
END:STANDARD
END:VTIMEZONE
BEGIN:VEVENT
DTSTART;TZID=America/Montreal:20241204T190000
DTEND;TZID=America/Montreal:20241204T210000
DTSTAMP:20260422T201755
CREATED:20241126T020153Z
LAST-MODIFIED:20241126T020308Z
UID:10005897-1733338800-1733346000@www.lemontmartre.ca
SUMMARY:Halte spirituelle «Aux portes de l’Avent»
DESCRIPTION:Avec Marcel Poirier\, augustin de l’Assomption
URL:https://www.lemontmartre.ca/event/halte-spirituelle-aux-portes-de-lavent/2024-12-04/
LOCATION:Centre Le Montmartre
CATEGORIES:Prière et intériorité
END:VEVENT
BEGIN:VEVENT
DTSTART;TZID=America/Montreal:20241205T190000
DTEND;TZID=America/Montreal:20241205T210000
DTSTAMP:20260422T201755
CREATED:20241126T020153Z
LAST-MODIFIED:20241126T020308Z
UID:10005898-1733425200-1733432400@www.lemontmartre.ca
SUMMARY:Halte spirituelle «Aux portes de l’Avent»
DESCRIPTION:Avec Marcel Poirier\, augustin de l’Assomption
URL:https://www.lemontmartre.ca/event/halte-spirituelle-aux-portes-de-lavent/2024-12-05/
LOCATION:Centre Le Montmartre
CATEGORIES:Prière et intériorité
END:VEVENT
BEGIN:VEVENT
DTSTART;TZID=America/Montreal:20241207T093000
DTEND;TZID=America/Montreal:20241207T110000
DTSTAMP:20260422T201755
CREATED:20241126T020153Z
LAST-MODIFIED:20241126T020308Z
UID:10005899-1733563800-1733569200@www.lemontmartre.ca
SUMMARY:Halte spirituelle «Aux portes de l’Avent»
DESCRIPTION:Avec Marcel Poirier\, augustin de l’Assomption
URL:https://www.lemontmartre.ca/event/halte-spirituelle-aux-portes-de-lavent/2024-12-07/
LOCATION:Centre Le Montmartre
CATEGORIES:Prière et intériorité
END:VEVENT
BEGIN:VEVENT
DTSTART;TZID=America/Montreal:20241218T190000
DTEND;TZID=America/Montreal:20241218T210000
DTSTAMP:20260422T201755
CREATED:20241126T024352Z
LAST-MODIFIED:20241126T024352Z
UID:10005900-1734548400-1734555600@www.lemontmartre.ca
SUMMARY:Célébration de Réconciliation
DESCRIPTION:
URL:https://www.lemontmartre.ca/event/celebration-de-reconciliation/
LOCATION:Centre Le Montmartre
CATEGORIES:Prière et intériorité
END:VEVENT
BEGIN:VEVENT
DTSTART;TZID=America/Montreal:20241221T140000
DTEND;TZID=America/Montreal:20241221T153000
DTSTAMP:20260422T201755
CREATED:20241207T213001Z
LAST-MODIFIED:20241207T213001Z
UID:10005906-1734789600-1734795000@www.lemontmartre.ca
SUMMARY:Ensemble chantons Noël
DESCRIPTION:À la chapelle du Sacré-Cœur au Montmartre à Québec
URL:https://www.lemontmartre.ca/event/ensemble-chantons-noel/
LOCATION:Sanctuaire Montmartre\, 1679\, chemin Saint-Louis\, Québec\, Québec\, G1S 1G5\, Canada
CATEGORIES:Prière et intériorité
ATTACH;FMTTYPE=image/jpeg:https://www.lemontmartre.ca/wp-content/uploads/2024/12/Chantons-Noel-Ensemble-Montmartre-2024.jpg
END:VEVENT
END:VCALENDAR