BEGIN:VCALENDAR
VERSION:2.0
PRODID:-//Le Montmartre - ECPv6.15.13//NONSGML v1.0//EN
CALSCALE:GREGORIAN
METHOD:PUBLISH
X-WR-CALNAME:Le Montmartre
X-ORIGINAL-URL:https://www.lemontmartre.ca
X-WR-CALDESC:Évènements pour Le Montmartre
REFRESH-INTERVAL;VALUE=DURATION:PT1H
X-Robots-Tag:noindex
X-PUBLISHED-TTL:PT1H
BEGIN:VTIMEZONE
TZID:America/Montreal
BEGIN:DAYLIGHT
TZOFFSETFROM:-0500
TZOFFSETTO:-0400
TZNAME:EDT
DTSTART:20240310T070000
END:DAYLIGHT
BEGIN:STANDARD
TZOFFSETFROM:-0400
TZOFFSETTO:-0500
TZNAME:EST
DTSTART:20241103T060000
END:STANDARD
BEGIN:DAYLIGHT
TZOFFSETFROM:-0500
TZOFFSETTO:-0400
TZNAME:EDT
DTSTART:20250309T070000
END:DAYLIGHT
BEGIN:STANDARD
TZOFFSETFROM:-0400
TZOFFSETTO:-0500
TZNAME:EST
DTSTART:20251102T060000
END:STANDARD
BEGIN:DAYLIGHT
TZOFFSETFROM:-0500
TZOFFSETTO:-0400
TZNAME:EDT
DTSTART:20260308T070000
END:DAYLIGHT
BEGIN:STANDARD
TZOFFSETFROM:-0400
TZOFFSETTO:-0500
TZNAME:EST
DTSTART:20261101T060000
END:STANDARD
END:VTIMEZONE
BEGIN:VEVENT
DTSTART;TZID=America/Montreal:20251001T150000
DTEND;TZID=America/Montreal:20251001T163000
DTSTAMP:20260420T070253
CREATED:20250904T034728Z
LAST-MODIFIED:20250907T181935Z
UID:10008641-1759330800-1759336200@www.lemontmartre.ca
SUMMARY:« DIEU EST À L’OEUVRE EN CET ÂGE ». « Les Actes des Apôtres » comme compagnon de route pour la vie heureuse et unifiée au quotidien
DESCRIPTION:Formation avec Édouard Shatov\, augustin de l’Assomption
URL:https://www.lemontmartre.ca/event/dieu-est-a-loeuvre-en-cet-age-les-actes-des-apotres-comme-compagnon-de-route-pour-la-vie-heureuse-et-unifiee-au-quotidien/2025-10-01/
LOCATION:Sanctuaire Montmartre\, 1679\, chemin Saint-Louis\, Québec\, Québec\, G1S 1G5\, Canada
CATEGORIES:Formations
ATTACH;FMTTYPE=image/jpeg:https://www.lemontmartre.ca/wp-content/uploads/2025/09/Formation-Actes-des-Apotres-Edouard-Shatov-Automne-2025-Facebook-Cover-scaled.jpg
END:VEVENT
BEGIN:VEVENT
DTSTART;TZID=America/Montreal:20251011T133000
DTEND;TZID=America/Montreal:20251011T153000
DTSTAMP:20260420T070253
CREATED:20250904T041451Z
LAST-MODIFIED:20251021T171909Z
UID:10008634-1760189400-1760196600@www.lemontmartre.ca
SUMMARY:Petite philosophie de la consolation
DESCRIPTION:Formation en ZOOM avec Monique Lortie
URL:https://www.lemontmartre.ca/event/petite-philosophie-de-la-consolation/2025-10-11/
LOCATION:Québec
CATEGORIES:Formations
ATTACH;FMTTYPE=image/jpeg:https://www.lemontmartre.ca/wp-content/uploads/2025/09/Formation-Monique-Lortie-Automne-2025-Facebook-Cover-scaled.jpg
END:VEVENT
BEGIN:VEVENT
DTSTART;TZID=America/Montreal:20251015T150000
DTEND;TZID=America/Montreal:20251015T163000
DTSTAMP:20260420T070253
CREATED:20250904T034728Z
LAST-MODIFIED:20250907T181935Z
UID:10008642-1760540400-1760545800@www.lemontmartre.ca
SUMMARY:« DIEU EST À L’OEUVRE EN CET ÂGE ». « Les Actes des Apôtres » comme compagnon de route pour la vie heureuse et unifiée au quotidien
DESCRIPTION:Formation avec Édouard Shatov\, augustin de l’Assomption
URL:https://www.lemontmartre.ca/event/dieu-est-a-loeuvre-en-cet-age-les-actes-des-apotres-comme-compagnon-de-route-pour-la-vie-heureuse-et-unifiee-au-quotidien/2025-10-15/
LOCATION:Sanctuaire Montmartre\, 1679\, chemin Saint-Louis\, Québec\, Québec\, G1S 1G5\, Canada
CATEGORIES:Formations
ATTACH;FMTTYPE=image/jpeg:https://www.lemontmartre.ca/wp-content/uploads/2025/09/Formation-Actes-des-Apotres-Edouard-Shatov-Automne-2025-Facebook-Cover-scaled.jpg
END:VEVENT
BEGIN:VEVENT
DTSTART;TZID=America/Montreal:20251015T193000
DTEND;TZID=America/Montreal:20251015T210000
DTSTAMP:20260420T070253
CREATED:20250904T031334Z
LAST-MODIFIED:20250909T123606Z
UID:10008650-1760556600-1760562000@www.lemontmartre.ca
SUMMARY:« RETROUVER LA CONFIANCE. AGIR DANS L’INTELLIGENCE DU COEUR » Comprendre « CREDO – JE CROIS » en image avec et grâce à René Kuder
DESCRIPTION:Formation en PRÉSENTIEL et en ZOOM avec Édouard Shatov \n*ZOOM sera accessible seulement aux personnes qui habitent à l’extérieur de la ville de Québec et pour qui il est impossible de se rendre à la rencontre en présentiel.
URL:https://www.lemontmartre.ca/event/retrouver-la-confiance-agir-dans-lintelligence-du-coeur-comprendre-credo-je-crois-en-image-avec-et-grace-a-rene-kuder/2025-10-15/
LOCATION:Sanctuaire Montmartre\, 1679\, chemin Saint-Louis\, Québec\, Québec\, G1S 1G5\, Canada
CATEGORIES:Formations
ATTACH;FMTTYPE=image/jpeg:https://www.lemontmartre.ca/wp-content/uploads/2025/09/Formation-Credo-Edouard-Shatov-Automne-2025-Facebook-Cover-scaled.jpg
END:VEVENT
BEGIN:VEVENT
DTSTART;TZID=America/Montreal:20251020T193000
DTEND;TZID=America/Montreal:20251020T210000
DTSTAMP:20260420T070253
CREATED:20250904T031334Z
LAST-MODIFIED:20250909T123606Z
UID:10008602-1760988600-1760994000@www.lemontmartre.ca
SUMMARY:« RETROUVER LA CONFIANCE. AGIR DANS L’INTELLIGENCE DU COEUR » Comprendre « CREDO – JE CROIS » en image avec et grâce à René Kuder
DESCRIPTION:Formation en PRÉSENTIEL et en ZOOM avec Édouard Shatov \n*ZOOM sera accessible seulement aux personnes qui habitent à l’extérieur de la ville de Québec et pour qui il est impossible de se rendre à la rencontre en présentiel.
URL:https://www.lemontmartre.ca/event/retrouver-la-confiance-agir-dans-lintelligence-du-coeur-comprendre-credo-je-crois-en-image-avec-et-grace-a-rene-kuder/2025-10-20/
LOCATION:Sanctuaire Montmartre\, 1679\, chemin Saint-Louis\, Québec\, Québec\, G1S 1G5\, Canada
CATEGORIES:Formations
ATTACH;FMTTYPE=image/jpeg:https://www.lemontmartre.ca/wp-content/uploads/2025/09/Formation-Credo-Edouard-Shatov-Automne-2025-Facebook-Cover-scaled.jpg
END:VEVENT
BEGIN:VEVENT
DTSTART;TZID=America/Montreal:20251021T190000
DTEND;TZID=America/Montreal:20251021T210000
DTSTAMP:20260420T070253
CREATED:20250904T032058Z
LAST-MODIFIED:20250904T032334Z
UID:10008609-1761073200-1761080400@www.lemontmartre.ca
SUMMARY:La prière des psaumes
DESCRIPTION:Formation avec Marcel Poirier\, augustin de l’Assomption
URL:https://www.lemontmartre.ca/event/la-priere-des-psaumes/2025-10-21/
LOCATION:Sanctuaire Montmartre\, 1679\, chemin Saint-Louis\, Québec\, Québec\, G1S 1G5\, Canada
CATEGORIES:Formations
ATTACH;FMTTYPE=image/jpeg:https://www.lemontmartre.ca/wp-content/uploads/2025/09/Formation-Psaumes-Marcel-Poirier-2025-Facebook-Cover-Facebook-Cover-scaled.jpg
END:VEVENT
BEGIN:VEVENT
DTSTART;TZID=America/Montreal:20251022T150000
DTEND;TZID=America/Montreal:20251022T163000
DTSTAMP:20260420T070253
CREATED:20250904T034728Z
LAST-MODIFIED:20250907T181935Z
UID:10008643-1761145200-1761150600@www.lemontmartre.ca
SUMMARY:« DIEU EST À L’OEUVRE EN CET ÂGE ». « Les Actes des Apôtres » comme compagnon de route pour la vie heureuse et unifiée au quotidien
DESCRIPTION:Formation avec Édouard Shatov\, augustin de l’Assomption
URL:https://www.lemontmartre.ca/event/dieu-est-a-loeuvre-en-cet-age-les-actes-des-apotres-comme-compagnon-de-route-pour-la-vie-heureuse-et-unifiee-au-quotidien/2025-10-22/
LOCATION:Sanctuaire Montmartre\, 1679\, chemin Saint-Louis\, Québec\, Québec\, G1S 1G5\, Canada
CATEGORIES:Formations
ATTACH;FMTTYPE=image/jpeg:https://www.lemontmartre.ca/wp-content/uploads/2025/09/Formation-Actes-des-Apotres-Edouard-Shatov-Automne-2025-Facebook-Cover-scaled.jpg
END:VEVENT
BEGIN:VEVENT
DTSTART;TZID=America/Montreal:20251025T133000
DTEND;TZID=America/Montreal:20251025T153000
DTSTAMP:20260420T070253
CREATED:20250904T041451Z
LAST-MODIFIED:20251021T171909Z
UID:10008635-1761399000-1761406200@www.lemontmartre.ca
SUMMARY:Petite philosophie de la consolation
DESCRIPTION:Formation en ZOOM avec Monique Lortie
URL:https://www.lemontmartre.ca/event/petite-philosophie-de-la-consolation/2025-10-25/
LOCATION:Québec
CATEGORIES:Formations
ATTACH;FMTTYPE=image/jpeg:https://www.lemontmartre.ca/wp-content/uploads/2025/09/Formation-Monique-Lortie-Automne-2025-Facebook-Cover-scaled.jpg
END:VEVENT
BEGIN:VEVENT
DTSTART;TZID=America/Montreal:20251030T190000
DTEND;TZID=America/Montreal:20251030T200000
DTSTAMP:20260420T070253
CREATED:20250904T035625Z
LAST-MODIFIED:20250904T042245Z
UID:10008629-1761850800-1761854400@www.lemontmartre.ca
SUMMARY:Le Bon Samaritain : altérité\, solidarité et société
DESCRIPTION:Formation EN ZOOM avec Jean-Bosco Kanyama\, augustin de l’Assomption
URL:https://www.lemontmartre.ca/event/le-bon-samaritain-alterite-solidarite-et-societe/2025-10-30/
LOCATION:Québec
CATEGORIES:Formations
ATTACH;FMTTYPE=image/jpeg:https://www.lemontmartre.ca/wp-content/uploads/2025/09/Bon-Samaritain-Formation-2025-Facebook-Cover-scaled.jpg
END:VEVENT
END:VCALENDAR