BEGIN:VCALENDAR
VERSION:2.0
PRODID:-//Le Montmartre - ECPv6.15.13//NONSGML v1.0//EN
CALSCALE:GREGORIAN
METHOD:PUBLISH
X-ORIGINAL-URL:https://www.lemontmartre.ca
X-WR-CALDESC:Évènements pour Le Montmartre
REFRESH-INTERVAL;VALUE=DURATION:PT1H
X-Robots-Tag:noindex
X-PUBLISHED-TTL:PT1H
BEGIN:VTIMEZONE
TZID:America/Montreal
BEGIN:DAYLIGHT
TZOFFSETFROM:-0500
TZOFFSETTO:-0400
TZNAME:EDT
DTSTART:20240310T070000
END:DAYLIGHT
BEGIN:STANDARD
TZOFFSETFROM:-0400
TZOFFSETTO:-0500
TZNAME:EST
DTSTART:20241103T060000
END:STANDARD
BEGIN:DAYLIGHT
TZOFFSETFROM:-0500
TZOFFSETTO:-0400
TZNAME:EDT
DTSTART:20250309T070000
END:DAYLIGHT
BEGIN:STANDARD
TZOFFSETFROM:-0400
TZOFFSETTO:-0500
TZNAME:EST
DTSTART:20251102T060000
END:STANDARD
BEGIN:DAYLIGHT
TZOFFSETFROM:-0500
TZOFFSETTO:-0400
TZNAME:EDT
DTSTART:20260308T070000
END:DAYLIGHT
BEGIN:STANDARD
TZOFFSETFROM:-0400
TZOFFSETTO:-0500
TZNAME:EST
DTSTART:20261101T060000
END:STANDARD
END:VTIMEZONE
BEGIN:VEVENT
DTSTART;TZID=America/Montreal:20250913T133000
DTEND;TZID=America/Montreal:20250913T153000
DTSTAMP:20260420T083341
CREATED:20250904T041451Z
LAST-MODIFIED:20251021T171909Z
UID:10008632-1757770200-1757777400@www.lemontmartre.ca
SUMMARY:Petite philosophie de la consolation
DESCRIPTION:Formation en ZOOM avec Monique Lortie
URL:https://www.lemontmartre.ca/event/petite-philosophie-de-la-consolation/2025-09-13/
LOCATION:Québec
CATEGORIES:Formations
ATTACH;FMTTYPE=image/jpeg:https://www.lemontmartre.ca/wp-content/uploads/2025/09/Formation-Monique-Lortie-Automne-2025-Facebook-Cover-scaled.jpg
END:VEVENT
BEGIN:VEVENT
DTSTART;TZID=America/Montreal:20250915T193000
DTEND;TZID=America/Montreal:20250915T210000
DTSTAMP:20260420T083341
CREATED:20250904T031334Z
LAST-MODIFIED:20250909T123606Z
UID:10008599-1757964600-1757970000@www.lemontmartre.ca
SUMMARY:« RETROUVER LA CONFIANCE. AGIR DANS L’INTELLIGENCE DU COEUR » Comprendre « CREDO – JE CROIS » en image avec et grâce à René Kuder
DESCRIPTION:Formation en PRÉSENTIEL et en ZOOM avec Édouard Shatov \n*ZOOM sera accessible seulement aux personnes qui habitent à l’extérieur de la ville de Québec et pour qui il est impossible de se rendre à la rencontre en présentiel.
URL:https://www.lemontmartre.ca/event/retrouver-la-confiance-agir-dans-lintelligence-du-coeur-comprendre-credo-je-crois-en-image-avec-et-grace-a-rene-kuder/2025-09-15/
LOCATION:Sanctuaire Montmartre\, 1679\, chemin Saint-Louis\, Québec\, Québec\, G1S 1G5\, Canada
CATEGORIES:Formations
ATTACH;FMTTYPE=image/jpeg:https://www.lemontmartre.ca/wp-content/uploads/2025/09/Formation-Credo-Edouard-Shatov-Automne-2025-Facebook-Cover-scaled.jpg
END:VEVENT
BEGIN:VEVENT
DTSTART;TZID=America/Montreal:20250917T150000
DTEND;TZID=America/Montreal:20250917T163000
DTSTAMP:20260420T083341
CREATED:20250904T034728Z
LAST-MODIFIED:20250907T181935Z
UID:10008639-1758121200-1758126600@www.lemontmartre.ca
SUMMARY:« DIEU EST À L’OEUVRE EN CET ÂGE ». « Les Actes des Apôtres » comme compagnon de route pour la vie heureuse et unifiée au quotidien
DESCRIPTION:Formation avec Édouard Shatov\, augustin de l’Assomption
URL:https://www.lemontmartre.ca/event/dieu-est-a-loeuvre-en-cet-age-les-actes-des-apotres-comme-compagnon-de-route-pour-la-vie-heureuse-et-unifiee-au-quotidien/2025-09-17/
LOCATION:Sanctuaire Montmartre\, 1679\, chemin Saint-Louis\, Québec\, Québec\, G1S 1G5\, Canada
CATEGORIES:Formations
ATTACH;FMTTYPE=image/jpeg:https://www.lemontmartre.ca/wp-content/uploads/2025/09/Formation-Actes-des-Apotres-Edouard-Shatov-Automne-2025-Facebook-Cover-scaled.jpg
END:VEVENT
BEGIN:VEVENT
DTSTART;TZID=America/Montreal:20250923T190000
DTEND;TZID=America/Montreal:20250923T210000
DTSTAMP:20260420T083341
CREATED:20250904T032058Z
LAST-MODIFIED:20250904T032334Z
UID:10008608-1758654000-1758661200@www.lemontmartre.ca
SUMMARY:La prière des psaumes
DESCRIPTION:Formation avec Marcel Poirier\, augustin de l’Assomption
URL:https://www.lemontmartre.ca/event/la-priere-des-psaumes/2025-09-23/
LOCATION:Sanctuaire Montmartre\, 1679\, chemin Saint-Louis\, Québec\, Québec\, G1S 1G5\, Canada
CATEGORIES:Formations
ATTACH;FMTTYPE=image/jpeg:https://www.lemontmartre.ca/wp-content/uploads/2025/09/Formation-Psaumes-Marcel-Poirier-2025-Facebook-Cover-Facebook-Cover-scaled.jpg
END:VEVENT
BEGIN:VEVENT
DTSTART;TZID=America/Montreal:20250924T150000
DTEND;TZID=America/Montreal:20250924T163000
DTSTAMP:20260420T083341
CREATED:20250904T034728Z
LAST-MODIFIED:20250907T181935Z
UID:10008640-1758726000-1758731400@www.lemontmartre.ca
SUMMARY:« DIEU EST À L’OEUVRE EN CET ÂGE ». « Les Actes des Apôtres » comme compagnon de route pour la vie heureuse et unifiée au quotidien
DESCRIPTION:Formation avec Édouard Shatov\, augustin de l’Assomption
URL:https://www.lemontmartre.ca/event/dieu-est-a-loeuvre-en-cet-age-les-actes-des-apotres-comme-compagnon-de-route-pour-la-vie-heureuse-et-unifiee-au-quotidien/2025-09-24/
LOCATION:Sanctuaire Montmartre\, 1679\, chemin Saint-Louis\, Québec\, Québec\, G1S 1G5\, Canada
CATEGORIES:Formations
ATTACH;FMTTYPE=image/jpeg:https://www.lemontmartre.ca/wp-content/uploads/2025/09/Formation-Actes-des-Apotres-Edouard-Shatov-Automne-2025-Facebook-Cover-scaled.jpg
END:VEVENT
BEGIN:VEVENT
DTSTART;TZID=America/Montreal:20250925T190000
DTEND;TZID=America/Montreal:20250925T200000
DTSTAMP:20260420T083341
CREATED:20250904T035625Z
LAST-MODIFIED:20250904T042245Z
UID:10008628-1758826800-1758830400@www.lemontmartre.ca
SUMMARY:Le Bon Samaritain : altérité\, solidarité et société
DESCRIPTION:Formation EN ZOOM avec Jean-Bosco Kanyama\, augustin de l’Assomption
URL:https://www.lemontmartre.ca/event/le-bon-samaritain-alterite-solidarite-et-societe/2025-09-25/
LOCATION:Québec
CATEGORIES:Formations
ATTACH;FMTTYPE=image/jpeg:https://www.lemontmartre.ca/wp-content/uploads/2025/09/Bon-Samaritain-Formation-2025-Facebook-Cover-scaled.jpg
END:VEVENT
BEGIN:VEVENT
DTSTART;TZID=America/Montreal:20250927T133000
DTEND;TZID=America/Montreal:20250927T153000
DTSTAMP:20260420T083341
CREATED:20250904T041451Z
LAST-MODIFIED:20251021T171909Z
UID:10008633-1758979800-1758987000@www.lemontmartre.ca
SUMMARY:Petite philosophie de la consolation
DESCRIPTION:Formation en ZOOM avec Monique Lortie
URL:https://www.lemontmartre.ca/event/petite-philosophie-de-la-consolation/2025-09-27/
LOCATION:Québec
CATEGORIES:Formations
ATTACH;FMTTYPE=image/jpeg:https://www.lemontmartre.ca/wp-content/uploads/2025/09/Formation-Monique-Lortie-Automne-2025-Facebook-Cover-scaled.jpg
END:VEVENT
BEGIN:VEVENT
DTSTART;TZID=America/Montreal:20250929T193000
DTEND;TZID=America/Montreal:20250929T210000
DTSTAMP:20260420T083341
CREATED:20250904T031334Z
LAST-MODIFIED:20250909T123606Z
UID:10008600-1759174200-1759179600@www.lemontmartre.ca
SUMMARY:« RETROUVER LA CONFIANCE. AGIR DANS L’INTELLIGENCE DU COEUR » Comprendre « CREDO – JE CROIS » en image avec et grâce à René Kuder
DESCRIPTION:Formation en PRÉSENTIEL et en ZOOM avec Édouard Shatov \n*ZOOM sera accessible seulement aux personnes qui habitent à l’extérieur de la ville de Québec et pour qui il est impossible de se rendre à la rencontre en présentiel.
URL:https://www.lemontmartre.ca/event/retrouver-la-confiance-agir-dans-lintelligence-du-coeur-comprendre-credo-je-crois-en-image-avec-et-grace-a-rene-kuder/2025-09-29/
LOCATION:Sanctuaire Montmartre\, 1679\, chemin Saint-Louis\, Québec\, Québec\, G1S 1G5\, Canada
CATEGORIES:Formations
ATTACH;FMTTYPE=image/jpeg:https://www.lemontmartre.ca/wp-content/uploads/2025/09/Formation-Credo-Edouard-Shatov-Automne-2025-Facebook-Cover-scaled.jpg
END:VEVENT
END:VCALENDAR