BEGIN:VCALENDAR
VERSION:2.0
PRODID:-//Le Montmartre - ECPv6.15.13//NONSGML v1.0//EN
CALSCALE:GREGORIAN
METHOD:PUBLISH
X-ORIGINAL-URL:https://www.lemontmartre.ca
X-WR-CALDESC:Évènements pour Le Montmartre
REFRESH-INTERVAL;VALUE=DURATION:PT1H
X-Robots-Tag:noindex
X-PUBLISHED-TTL:PT1H
BEGIN:VTIMEZONE
TZID:America/Montreal
BEGIN:DAYLIGHT
TZOFFSETFROM:-0500
TZOFFSETTO:-0400
TZNAME:EDT
DTSTART:20230312T070000
END:DAYLIGHT
BEGIN:STANDARD
TZOFFSETFROM:-0400
TZOFFSETTO:-0500
TZNAME:EST
DTSTART:20231105T060000
END:STANDARD
BEGIN:DAYLIGHT
TZOFFSETFROM:-0500
TZOFFSETTO:-0400
TZNAME:EDT
DTSTART:20240310T070000
END:DAYLIGHT
BEGIN:STANDARD
TZOFFSETFROM:-0400
TZOFFSETTO:-0500
TZNAME:EST
DTSTART:20241103T060000
END:STANDARD
BEGIN:DAYLIGHT
TZOFFSETFROM:-0500
TZOFFSETTO:-0400
TZNAME:EDT
DTSTART:20250309T070000
END:DAYLIGHT
BEGIN:STANDARD
TZOFFSETFROM:-0400
TZOFFSETTO:-0500
TZNAME:EST
DTSTART:20251102T060000
END:STANDARD
END:VTIMEZONE
BEGIN:VEVENT
DTSTART;TZID=America/Montreal:20241202T193000
DTEND;TZID=America/Montreal:20241202T210000
DTSTAMP:20260422T192209
CREATED:20240914T025305Z
LAST-MODIFIED:20240914T025342Z
UID:10005357-1733167800-1733173200@www.lemontmartre.ca
SUMMARY:«  SE CONNAÎTRE ET SE TROUVER »  avec Marie de l’Incarnation
DESCRIPTION:« C’est en vous aimant que je vous connaîtrai »\nEn PRÉSENTIEL et en ZOOM*\n*ZOOM sera accessible seulement aux personnes qui habitent à l’extérieur de la ville de Québec et pour qui il est impossible se rendre à la rencontre en présentiel.
URL:https://www.lemontmartre.ca/event/se-connaitre-et-se-trouver-avec-marie-de-lincarnation-2/2024-12-02/
LOCATION:Centre Le Montmartre
CATEGORIES:Formations
ATTACH;FMTTYPE=image/jpeg:https://www.lemontmartre.ca/wp-content/uploads/2024/09/Formation-Marie-de-lIncarnation-Automne-2024-Facebook-Cover.jpg
END:VEVENT
BEGIN:VEVENT
DTSTART;TZID=America/Montreal:20241204T140000
DTEND;TZID=America/Montreal:20241204T153000
DTSTAMP:20260422T192209
CREATED:20240914T023243Z
LAST-MODIFIED:20240914T023243Z
UID:10005343-1733320800-1733326200@www.lemontmartre.ca
SUMMARY:LE VERBE PAROLE EST DEVENU CHAIR
DESCRIPTION:Revisiter L’Incarnation avec l’Évangile de Jean\nEn PRÉSENTIEL et en ZOOM*\n*ZOOM sera accessible seulement aux personnes qui habitent à l’extérieur de la ville de Québec et pour qui il est impossible se rendre à la rencontre en présentiel
URL:https://www.lemontmartre.ca/event/le-verbe-parole-est-devenu-chair-2/2024-12-04/
LOCATION:Centre Le Montmartre
CATEGORIES:Formations
ATTACH;FMTTYPE=image/jpeg:https://www.lemontmartre.ca/wp-content/uploads/2024/09/Formation-Evangile-de-Jean-Automne-2024-Facebook-Cover.jpg
END:VEVENT
BEGIN:VEVENT
DTSTART;TZID=America/Montreal:20241214T130000
DTEND;TZID=America/Montreal:20241214T150000
DTSTAMP:20260422T192209
CREATED:20240914T024238Z
LAST-MODIFIED:20240914T024238Z
UID:10005351-1734181200-1734188400@www.lemontmartre.ca
SUMMARY:CINQ MÉDITATIONS SUR LA BEAUTÉ
DESCRIPTION:(Avec François Cheng)\nRencontres zoom en mode discussions amicales. Chemin faisant\, nous cultivons l’art de penser. La bonne humeur et la bienveillance sont\, comme toujours\, au rendez-vous. Matériel requis : le livre de François Cheng\, « Cinq méditations sur la beauté »\, édition Le livre de poche\, Albin Michel.
URL:https://www.lemontmartre.ca/event/cinq-meditations-sur-la-beaute/2024-12-14/
LOCATION:Québec
CATEGORIES:Formations
ATTACH;FMTTYPE=image/jpeg:https://www.lemontmartre.ca/wp-content/uploads/2024/09/Monique-Lortie-Automne-2024-Facebook-Cover.jpg
END:VEVENT
BEGIN:VEVENT
DTSTART;TZID=America/Montreal:20241216T193000
DTEND;TZID=America/Montreal:20241216T210000
DTSTAMP:20260422T192209
CREATED:20240914T025305Z
LAST-MODIFIED:20240914T025342Z
UID:10005358-1734377400-1734382800@www.lemontmartre.ca
SUMMARY:«  SE CONNAÎTRE ET SE TROUVER »  avec Marie de l’Incarnation
DESCRIPTION:« C’est en vous aimant que je vous connaîtrai »\nEn PRÉSENTIEL et en ZOOM*\n*ZOOM sera accessible seulement aux personnes qui habitent à l’extérieur de la ville de Québec et pour qui il est impossible se rendre à la rencontre en présentiel.
URL:https://www.lemontmartre.ca/event/se-connaitre-et-se-trouver-avec-marie-de-lincarnation-2/2024-12-16/
LOCATION:Centre Le Montmartre
CATEGORIES:Formations
ATTACH;FMTTYPE=image/jpeg:https://www.lemontmartre.ca/wp-content/uploads/2024/09/Formation-Marie-de-lIncarnation-Automne-2024-Facebook-Cover.jpg
END:VEVENT
BEGIN:VEVENT
DTSTART;TZID=America/Montreal:20241217T093000
DTEND;TZID=America/Montreal:20241217T110000
DTSTAMP:20260422T192209
CREATED:20241207T215435Z
LAST-MODIFIED:20241207T215609Z
UID:10005364-1734427800-1734433200@www.lemontmartre.ca
SUMMARY:CAFÉ «BONNE NOUVELLE»
DESCRIPTION:Regard chrétien sur les événements du monde \n 
URL:https://www.lemontmartre.ca/event/cafe-bonne-nouvelle-2/
LOCATION:Centre Le Montmartre
CATEGORIES:Formations
ATTACH;FMTTYPE=image/jpeg:https://www.lemontmartre.ca/wp-content/uploads/2024/09/CAFE-BONNE-NOUVELLE-2024-Facebook-Cover.jpg
END:VEVENT
BEGIN:VEVENT
DTSTART;TZID=America/Montreal:20241217T190000
DTEND;TZID=America/Montreal:20241217T210000
DTSTAMP:20260422T192209
CREATED:20240914T030923Z
LAST-MODIFIED:20240914T030923Z
UID:10005368-1734462000-1734469200@www.lemontmartre.ca
SUMMARY:Augustin – l’homme – l’œuvre
DESCRIPTION:
URL:https://www.lemontmartre.ca/event/augustin-lhomme-loeuvre/2024-12-17/
LOCATION:Centre Le Montmartre
CATEGORIES:Formations
ATTACH;FMTTYPE=image/jpeg:https://www.lemontmartre.ca/wp-content/uploads/2024/09/Augustin-Marcel-Poirier-2024-Facebook-Cover1.jpg
END:VEVENT
BEGIN:VEVENT
DTSTART;TZID=America/Montreal:20241218T140000
DTEND;TZID=America/Montreal:20241218T153000
DTSTAMP:20260422T192209
CREATED:20240914T023243Z
LAST-MODIFIED:20240914T023243Z
UID:10005344-1734530400-1734535800@www.lemontmartre.ca
SUMMARY:LE VERBE PAROLE EST DEVENU CHAIR
DESCRIPTION:Revisiter L’Incarnation avec l’Évangile de Jean\nEn PRÉSENTIEL et en ZOOM*\n*ZOOM sera accessible seulement aux personnes qui habitent à l’extérieur de la ville de Québec et pour qui il est impossible se rendre à la rencontre en présentiel
URL:https://www.lemontmartre.ca/event/le-verbe-parole-est-devenu-chair-2/2024-12-18/
LOCATION:Centre Le Montmartre
CATEGORIES:Formations
ATTACH;FMTTYPE=image/jpeg:https://www.lemontmartre.ca/wp-content/uploads/2024/09/Formation-Evangile-de-Jean-Automne-2024-Facebook-Cover.jpg
END:VEVENT
END:VCALENDAR