BEGIN:VCALENDAR
VERSION:2.0
PRODID:-//Le Montmartre - ECPv6.15.13//NONSGML v1.0//EN
CALSCALE:GREGORIAN
METHOD:PUBLISH
X-ORIGINAL-URL:https://www.lemontmartre.ca
X-WR-CALDESC:Évènements pour Le Montmartre
REFRESH-INTERVAL;VALUE=DURATION:PT1H
X-Robots-Tag:noindex
X-PUBLISHED-TTL:PT1H
BEGIN:VTIMEZONE
TZID:America/Montreal
BEGIN:DAYLIGHT
TZOFFSETFROM:-0500
TZOFFSETTO:-0400
TZNAME:EDT
DTSTART:20240310T070000
END:DAYLIGHT
BEGIN:STANDARD
TZOFFSETFROM:-0400
TZOFFSETTO:-0500
TZNAME:EST
DTSTART:20241103T060000
END:STANDARD
BEGIN:DAYLIGHT
TZOFFSETFROM:-0500
TZOFFSETTO:-0400
TZNAME:EDT
DTSTART:20250309T070000
END:DAYLIGHT
BEGIN:STANDARD
TZOFFSETFROM:-0400
TZOFFSETTO:-0500
TZNAME:EST
DTSTART:20251102T060000
END:STANDARD
BEGIN:DAYLIGHT
TZOFFSETFROM:-0500
TZOFFSETTO:-0400
TZNAME:EDT
DTSTART:20260308T070000
END:DAYLIGHT
BEGIN:STANDARD
TZOFFSETFROM:-0400
TZOFFSETTO:-0500
TZNAME:EST
DTSTART:20261101T060000
END:STANDARD
BEGIN:DAYLIGHT
TZOFFSETFROM:-0500
TZOFFSETTO:-0400
TZNAME:EDT
DTSTART:20270314T070000
END:DAYLIGHT
BEGIN:STANDARD
TZOFFSETFROM:-0400
TZOFFSETTO:-0500
TZNAME:EST
DTSTART:20271107T060000
END:STANDARD
END:VTIMEZONE
BEGIN:VEVENT
DTSTART;TZID=America/Montreal:20251209T093000
DTEND;TZID=America/Montreal:20251209T110000
DTSTAMP:20260420T002034
CREATED:20250904T033527Z
LAST-MODIFIED:20250917T015536Z
UID:10008618-1765272600-1765278000@www.lemontmartre.ca
SUMMARY:CAFÉ «BONNE NOUVELLE»
DESCRIPTION:Regard chrétien sur les événements du monde \nAvec Marcel Poirier\, augustin de l’Assomption
URL:https://www.lemontmartre.ca/event/cafe-bonne-nouvelle-4/2025-12-09/
LOCATION:Centre Le Montmartre
CATEGORIES:Espace de rencontres
ATTACH;FMTTYPE=image/jpeg:https://www.lemontmartre.ca/wp-content/uploads/2025/09/CAFE-BONNE-NOUVELLE-2025-Facebook-Cover-Facebook-Cover-scaled.jpg
END:VEVENT
BEGIN:VEVENT
DTSTART;TZID=America/Montreal:20251212T170000
DTEND;TZID=America/Montreal:20251212T190000
DTSTAMP:20260420T002034
CREATED:20251206T022334Z
LAST-MODIFIED:20251206T022335Z
UID:10011500-1765558800-1765566000@www.lemontmartre.ca
SUMMARY:Transmettre comme chemin pour faire fleurir nos vies. Ce que nous nous apportons les uns aux autres
DESCRIPTION:5 à 7 DU MONTMARTRE — CAUSERIE\, COLLATION\, PARTAGE \nPersonne-ressource : Édouard Shatov\, augustin de l’Assomption
URL:https://www.lemontmartre.ca/event/transmettre-comme-chemin-pour-faire-fleurir-nos-vies-ce-que-nous-nous-apportons-les-uns-aux-autres/
LOCATION:Centre Le Montmartre
CATEGORIES:Espace de rencontres
ATTACH;FMTTYPE=image/jpeg:https://www.lemontmartre.ca/wp-content/uploads/2025/12/5-A-7-DU-MONTMARTRE-12-decembre-2025-Facebook-Cover.jpg
END:VEVENT
BEGIN:VEVENT
DTSTART;TZID=America/Montreal:20251227T090000
DTEND;TZID=America/Montreal:20251227T120000
DTSTAMP:20260420T002034
CREATED:20251219T005736Z
LAST-MODIFIED:20251219T020742Z
UID:10011559-1766826000-1766836800@www.lemontmartre.ca
SUMMARY:JOURNÉE DE LA SPIRITUALITÉ ASSOMPTIONNISTE
DESCRIPTION:Je me souviens de la fondation du Montmartre à Québec\nAvec Chi Ai Nguyen\, Supérieur provincial de la province de l’Amérique du Nord des Augustins de l’Assomption \n9h00 -11h00 – une rencontre-échange au Centre \n11h15 – Célébration Eucharistique au Sanctuaire
URL:https://www.lemontmartre.ca/event/journee-de-la-spiritualite-assomptionniste/
LOCATION:Centre Le Montmartre
CATEGORIES:Espace de rencontres
ATTACH;FMTTYPE=image/jpeg:https://www.lemontmartre.ca/wp-content/uploads/2025/12/Journee-Spiritualite-Assomption-2025_1.1.1.jpg
END:VEVENT
BEGIN:VEVENT
DTSTART;TZID=America/Montreal:20251231T203000
DTEND;TZID=America/Montreal:20260101T000000
DTSTAMP:20260420T002034
CREATED:20251227T001731Z
LAST-MODIFIED:20251227T001731Z
UID:10011562-1767213000-1767225600@www.lemontmartre.ca
SUMMARY:Le réveillon du Nouvel An
DESCRIPTION:Après l’eucharistie de fin d’année à 19h30 venez réveillonner à la cafétéria avec un repas et de l’animation jusqu’à l’arrivée du Nouvel An.
URL:https://www.lemontmartre.ca/event/le-reveillon-du-nouvel-an-2/
LOCATION:Centre Le Montmartre
CATEGORIES:Espace de rencontres
END:VEVENT
END:VCALENDAR