BEGIN:VCALENDAR
VERSION:2.0
PRODID:-//Le Montmartre - ECPv6.15.13//NONSGML v1.0//EN
CALSCALE:GREGORIAN
METHOD:PUBLISH
X-ORIGINAL-URL:https://www.lemontmartre.ca
X-WR-CALDESC:Évènements pour Le Montmartre
REFRESH-INTERVAL;VALUE=DURATION:PT1H
X-Robots-Tag:noindex
X-PUBLISHED-TTL:PT1H
BEGIN:VTIMEZONE
TZID:America/Montreal
BEGIN:DAYLIGHT
TZOFFSETFROM:-0500
TZOFFSETTO:-0400
TZNAME:EDT
DTSTART:20230312T070000
END:DAYLIGHT
BEGIN:STANDARD
TZOFFSETFROM:-0400
TZOFFSETTO:-0500
TZNAME:EST
DTSTART:20231105T060000
END:STANDARD
BEGIN:DAYLIGHT
TZOFFSETFROM:-0500
TZOFFSETTO:-0400
TZNAME:EDT
DTSTART:20240310T070000
END:DAYLIGHT
BEGIN:STANDARD
TZOFFSETFROM:-0400
TZOFFSETTO:-0500
TZNAME:EST
DTSTART:20241103T060000
END:STANDARD
BEGIN:DAYLIGHT
TZOFFSETFROM:-0500
TZOFFSETTO:-0400
TZNAME:EDT
DTSTART:20250309T070000
END:DAYLIGHT
BEGIN:STANDARD
TZOFFSETFROM:-0400
TZOFFSETTO:-0500
TZNAME:EST
DTSTART:20251102T060000
END:STANDARD
END:VTIMEZONE
BEGIN:VEVENT
DTSTART;TZID=America/Montreal:20240408T140000
DTEND;TZID=America/Montreal:20240408T153000
DTSTAMP:20260423T083837
CREATED:20240423T212406Z
LAST-MODIFIED:20240423T212635Z
UID:10002373-1712584800-1712590200@www.lemontmartre.ca
SUMMARY:Maisonnée 2 : Partage spirituel inspiré de la série L'Élu (The Chosen)
DESCRIPTION:S’inspirant de la méthode Lectio Divina avec les couleurs de la série The Chosen/L’Élu. À la salle des formations anciennement de la Guilde\, sous-sol de la chapelle du Sacré-Cœur.
URL:https://www.lemontmartre.ca/event/maisonnee-2-partage-spirituel-inspire-de-la-serie-lelu-the-chosen-2/2024-04-08/
LOCATION:Centre Le Montmartre
CATEGORIES:Espace de rencontres
END:VEVENT
BEGIN:VEVENT
DTSTART;TZID=America/Montreal:20240415T140000
DTEND;TZID=America/Montreal:20240415T153000
DTSTAMP:20260423T083837
CREATED:20240423T212406Z
LAST-MODIFIED:20240423T212635Z
UID:10002219-1713189600-1713195000@www.lemontmartre.ca
SUMMARY:Maisonnée 2 : Partage spirituel inspiré de la série L'Élu (The Chosen)
DESCRIPTION:S’inspirant de la méthode Lectio Divina avec les couleurs de la série The Chosen/L’Élu. À la salle des formations anciennement de la Guilde\, sous-sol de la chapelle du Sacré-Cœur.
URL:https://www.lemontmartre.ca/event/maisonnee-2-partage-spirituel-inspire-de-la-serie-lelu-the-chosen-2/2024-04-15/
LOCATION:Centre Le Montmartre
CATEGORIES:Espace de rencontres
END:VEVENT
BEGIN:VEVENT
DTSTART;TZID=America/Montreal:20240429T140000
DTEND;TZID=America/Montreal:20240429T153000
DTSTAMP:20260423T083837
CREATED:20240423T212406Z
LAST-MODIFIED:20240423T212635Z
UID:10002374-1714399200-1714404600@www.lemontmartre.ca
SUMMARY:Maisonnée 2 : Partage spirituel inspiré de la série L'Élu (The Chosen)
DESCRIPTION:S’inspirant de la méthode Lectio Divina avec les couleurs de la série The Chosen/L’Élu. À la salle des formations anciennement de la Guilde\, sous-sol de la chapelle du Sacré-Cœur.
URL:https://www.lemontmartre.ca/event/maisonnee-2-partage-spirituel-inspire-de-la-serie-lelu-the-chosen-2/2024-04-29/
LOCATION:Centre Le Montmartre
CATEGORIES:Espace de rencontres
END:VEVENT
END:VCALENDAR