BEGIN:VCALENDAR
VERSION:2.0
PRODID:-//Le Montmartre - ECPv6.15.13//NONSGML v1.0//EN
CALSCALE:GREGORIAN
METHOD:PUBLISH
X-ORIGINAL-URL:https://www.lemontmartre.ca
X-WR-CALDESC:Évènements pour Le Montmartre
REFRESH-INTERVAL;VALUE=DURATION:PT1H
X-Robots-Tag:noindex
X-PUBLISHED-TTL:PT1H
BEGIN:VTIMEZONE
TZID:America/Montreal
BEGIN:DAYLIGHT
TZOFFSETFROM:-0500
TZOFFSETTO:-0400
TZNAME:EDT
DTSTART:20240310T070000
END:DAYLIGHT
BEGIN:STANDARD
TZOFFSETFROM:-0400
TZOFFSETTO:-0500
TZNAME:EST
DTSTART:20241103T060000
END:STANDARD
BEGIN:DAYLIGHT
TZOFFSETFROM:-0500
TZOFFSETTO:-0400
TZNAME:EDT
DTSTART:20250309T070000
END:DAYLIGHT
BEGIN:STANDARD
TZOFFSETFROM:-0400
TZOFFSETTO:-0500
TZNAME:EST
DTSTART:20251102T060000
END:STANDARD
BEGIN:DAYLIGHT
TZOFFSETFROM:-0500
TZOFFSETTO:-0400
TZNAME:EDT
DTSTART:20260308T070000
END:DAYLIGHT
BEGIN:STANDARD
TZOFFSETFROM:-0400
TZOFFSETTO:-0500
TZNAME:EST
DTSTART:20261101T060000
END:STANDARD
END:VTIMEZONE
BEGIN:VEVENT
DTSTART;TZID=America/Montreal:20251014T193000
DTEND;TZID=America/Montreal:20251014T210000
DTSTAMP:20260419T173642
CREATED:20250914T010911Z
LAST-MODIFIED:20251007T175258Z
UID:10009047-1760470200-1760475600@www.lemontmartre.ca
SUMMARY:Faire circuler l’air frais de l’évangile et se faire passeurs d’espérance
DESCRIPTION:Conférence dans le cadre des Défis et débats actuels\, avec Eugène Aucoin
URL:https://www.lemontmartre.ca/event/faire-circuler-lair-frais-de-levangile-et-se-faire-passeurs-desperance/
LOCATION:Centre Le Montmartre
CATEGORIES:Conférences et débats
ATTACH;FMTTYPE=image/png:https://www.lemontmartre.ca/wp-content/uploads/2025/09/CONF-MMARTRE-2025_Aucoin_FB.png
END:VEVENT
END:VCALENDAR