BEGIN:VCALENDAR
VERSION:2.0
PRODID:-//Le Montmartre - ECPv6.15.13//NONSGML v1.0//EN
CALSCALE:GREGORIAN
METHOD:PUBLISH
X-ORIGINAL-URL:https://www.lemontmartre.ca
X-WR-CALDESC:Évènements pour Le Montmartre
REFRESH-INTERVAL;VALUE=DURATION:PT1H
X-Robots-Tag:noindex
X-PUBLISHED-TTL:PT1H
BEGIN:VTIMEZONE
TZID:America/Montreal
BEGIN:DAYLIGHT
TZOFFSETFROM:-0500
TZOFFSETTO:-0400
TZNAME:EDT
DTSTART:20230312T070000
END:DAYLIGHT
BEGIN:STANDARD
TZOFFSETFROM:-0400
TZOFFSETTO:-0500
TZNAME:EST
DTSTART:20231105T060000
END:STANDARD
BEGIN:DAYLIGHT
TZOFFSETFROM:-0500
TZOFFSETTO:-0400
TZNAME:EDT
DTSTART:20240310T070000
END:DAYLIGHT
BEGIN:STANDARD
TZOFFSETFROM:-0400
TZOFFSETTO:-0500
TZNAME:EST
DTSTART:20241103T060000
END:STANDARD
BEGIN:DAYLIGHT
TZOFFSETFROM:-0500
TZOFFSETTO:-0400
TZNAME:EDT
DTSTART:20250309T070000
END:DAYLIGHT
BEGIN:STANDARD
TZOFFSETFROM:-0400
TZOFFSETTO:-0500
TZNAME:EST
DTSTART:20251102T060000
END:STANDARD
END:VTIMEZONE
BEGIN:VEVENT
DTSTART;TZID=America/Montreal:20241212T193000
DTEND;TZID=America/Montreal:20241212T210000
DTSTAMP:20260420T152502
CREATED:20241017T043616Z
LAST-MODIFIED:20241107T010111Z
UID:10005426-1734031800-1734037200@www.lemontmartre.ca
SUMMARY:Ce lieu en nous que nous ne connaissons pas. La place de l’intériorité au cœur de notre existence
DESCRIPTION:Conférence dans le cadre des DÉFIS ET DÉBATS ACTUELS avec Catherine Aubin
URL:https://www.lemontmartre.ca/event/ce-lieu-en-nous-que-nous-ne-connaissons-pas-la-place-de-linteriorite-au-coeur-de-notre-existence/
LOCATION:Centre Le Montmartre
CATEGORIES:Conférences et débats
ATTACH;FMTTYPE=image/jpeg:https://www.lemontmartre.ca/wp-content/uploads/2024/10/CONF-MMARTRE_CathAubin_12-decembre_FB1.jpg
END:VEVENT
BEGIN:VEVENT
DTSTART;TZID=America/Montreal:20241213T170000
DTEND;TZID=America/Montreal:20241213T190000
DTSTAMP:20260420T152502
CREATED:20241017T043222Z
LAST-MODIFIED:20241017T043222Z
UID:10005425-1734109200-1734116400@www.lemontmartre.ca
SUMMARY:Nous protéger contre les tentatives de fraudes
DESCRIPTION:5 À 7 avec Éric Tarisan\, travailleur du milieu\, AQDR Québec
URL:https://www.lemontmartre.ca/event/nous-proteger-contre-les-tentatives-de-fraudes/
LOCATION:Centre Le Montmartre
CATEGORIES:Conférences et débats
END:VEVENT
BEGIN:VEVENT
DTSTART;TZID=America/Montreal:20241215T114500
DTEND;TZID=America/Montreal:20241215T140000
DTSTAMP:20260420T152502
CREATED:20241017T042737Z
LAST-MODIFIED:20241107T010011Z
UID:10005424-1734263100-1734271200@www.lemontmartre.ca
SUMMARY:La gratitude: plus qu’une attitude\, une véritable médecine (ou un pharmacoîe\, selon le terme grec)
DESCRIPTION:LES « CAUSERIES CROQUANTES » DU MONTMARTRE Avec Christine Angelard et Catherine Aubin
URL:https://www.lemontmartre.ca/event/la-gratitude-plus-quune-attitude-une-veritable-medecine-ou-un-pharmacoie-selon-le-terme-grec/
LOCATION:Centre Le Montmartre
CATEGORIES:Conférences et débats
ATTACH;FMTTYPE=image/jpeg:https://www.lemontmartre.ca/wp-content/uploads/2024/10/CONF-MMARTRE-15-dec-2024_Aubin-Angelard_FB.jpg
END:VEVENT
END:VCALENDAR