BEGIN:VCALENDAR
VERSION:2.0
PRODID:-//Le Montmartre - ECPv6.15.13//NONSGML v1.0//EN
CALSCALE:GREGORIAN
METHOD:PUBLISH
X-ORIGINAL-URL:https://www.lemontmartre.ca
X-WR-CALDESC:Évènements pour Le Montmartre
REFRESH-INTERVAL;VALUE=DURATION:PT1H
X-Robots-Tag:noindex
X-PUBLISHED-TTL:PT1H
BEGIN:VTIMEZONE
TZID:America/Montreal
BEGIN:DAYLIGHT
TZOFFSETFROM:-0500
TZOFFSETTO:-0400
TZNAME:EDT
DTSTART:20230312T070000
END:DAYLIGHT
BEGIN:STANDARD
TZOFFSETFROM:-0400
TZOFFSETTO:-0500
TZNAME:EST
DTSTART:20231105T060000
END:STANDARD
BEGIN:DAYLIGHT
TZOFFSETFROM:-0500
TZOFFSETTO:-0400
TZNAME:EDT
DTSTART:20240310T070000
END:DAYLIGHT
BEGIN:STANDARD
TZOFFSETFROM:-0400
TZOFFSETTO:-0500
TZNAME:EST
DTSTART:20241103T060000
END:STANDARD
BEGIN:DAYLIGHT
TZOFFSETFROM:-0500
TZOFFSETTO:-0400
TZNAME:EDT
DTSTART:20250309T070000
END:DAYLIGHT
BEGIN:STANDARD
TZOFFSETFROM:-0400
TZOFFSETTO:-0500
TZNAME:EST
DTSTART:20251102T060000
END:STANDARD
BEGIN:DAYLIGHT
TZOFFSETFROM:-0500
TZOFFSETTO:-0400
TZNAME:EDT
DTSTART:20260308T070000
END:DAYLIGHT
BEGIN:STANDARD
TZOFFSETFROM:-0400
TZOFFSETTO:-0500
TZNAME:EST
DTSTART:20261101T060000
END:STANDARD
END:VTIMEZONE
BEGIN:VEVENT
DTSTART;TZID=America/Montreal:20250308T133000
DTEND;TZID=America/Montreal:20250308T153000
DTSTAMP:20260420T034810
CREATED:20250121T044814Z
LAST-MODIFIED:20250121T044814Z
UID:10006851-1741440600-1741447800@www.lemontmartre.ca
SUMMARY:3 6 5… raisons d’être heureux… quand même
DESCRIPTION:Un livre de André Guigot\, philosophe
URL:https://www.lemontmartre.ca/event/3-6-5-raisons-detre-heureux-quand-meme/2025-03-08/
CATEGORIES:Formations
ATTACH;FMTTYPE=image/jpeg:https://www.lemontmartre.ca/wp-content/uploads/2025/01/Monique-Lortie-Hiver_Ete_2025-Facebook-Cover-1.jpg
END:VEVENT
BEGIN:VEVENT
DTSTART;TZID=America/Montreal:20250222T133000
DTEND;TZID=America/Montreal:20250222T153000
DTSTAMP:20260420T034810
CREATED:20250121T044814Z
LAST-MODIFIED:20250121T044814Z
UID:10006850-1740231000-1740238200@www.lemontmartre.ca
SUMMARY:3 6 5… raisons d’être heureux… quand même
DESCRIPTION:Un livre de André Guigot\, philosophe
URL:https://www.lemontmartre.ca/event/3-6-5-raisons-detre-heureux-quand-meme/2025-02-22/
CATEGORIES:Formations
ATTACH;FMTTYPE=image/jpeg:https://www.lemontmartre.ca/wp-content/uploads/2025/01/Monique-Lortie-Hiver_Ete_2025-Facebook-Cover-1.jpg
END:VEVENT
BEGIN:VEVENT
DTSTART;TZID=America/Montreal:20250208T133000
DTEND;TZID=America/Montreal:20250208T153000
DTSTAMP:20260420T034810
CREATED:20250121T044814Z
LAST-MODIFIED:20250121T044814Z
UID:10006849-1739021400-1739028600@www.lemontmartre.ca
SUMMARY:3 6 5… raisons d’être heureux… quand même
DESCRIPTION:Un livre de André Guigot\, philosophe
URL:https://www.lemontmartre.ca/event/3-6-5-raisons-detre-heureux-quand-meme/2025-02-08/
CATEGORIES:Formations
ATTACH;FMTTYPE=image/jpeg:https://www.lemontmartre.ca/wp-content/uploads/2025/01/Monique-Lortie-Hiver_Ete_2025-Facebook-Cover-1.jpg
END:VEVENT
BEGIN:VEVENT
DTSTART;TZID=America/Montreal:20241214T130000
DTEND;TZID=America/Montreal:20241214T150000
DTSTAMP:20260420T034810
CREATED:20240914T024238Z
LAST-MODIFIED:20240914T024238Z
UID:10005351-1734181200-1734188400@www.lemontmartre.ca
SUMMARY:CINQ MÉDITATIONS SUR LA BEAUTÉ
DESCRIPTION:(Avec François Cheng)\nRencontres zoom en mode discussions amicales. Chemin faisant\, nous cultivons l’art de penser. La bonne humeur et la bienveillance sont\, comme toujours\, au rendez-vous. Matériel requis : le livre de François Cheng\, « Cinq méditations sur la beauté »\, édition Le livre de poche\, Albin Michel.
URL:https://www.lemontmartre.ca/event/cinq-meditations-sur-la-beaute/2024-12-14/
CATEGORIES:Formations
ATTACH;FMTTYPE=image/jpeg:https://www.lemontmartre.ca/wp-content/uploads/2024/09/Monique-Lortie-Automne-2024-Facebook-Cover.jpg
END:VEVENT
BEGIN:VEVENT
DTSTART;TZID=America/Montreal:20241130T130000
DTEND;TZID=America/Montreal:20241130T150000
DTSTAMP:20260420T034810
CREATED:20240914T024238Z
LAST-MODIFIED:20240914T024238Z
UID:10005350-1732971600-1732978800@www.lemontmartre.ca
SUMMARY:CINQ MÉDITATIONS SUR LA BEAUTÉ
DESCRIPTION:(Avec François Cheng)\nRencontres zoom en mode discussions amicales. Chemin faisant\, nous cultivons l’art de penser. La bonne humeur et la bienveillance sont\, comme toujours\, au rendez-vous. Matériel requis : le livre de François Cheng\, « Cinq méditations sur la beauté »\, édition Le livre de poche\, Albin Michel.
URL:https://www.lemontmartre.ca/event/cinq-meditations-sur-la-beaute/2024-11-30/
CATEGORIES:Formations
ATTACH;FMTTYPE=image/jpeg:https://www.lemontmartre.ca/wp-content/uploads/2024/09/Monique-Lortie-Automne-2024-Facebook-Cover.jpg
END:VEVENT
BEGIN:VEVENT
DTSTART;TZID=America/Montreal:20241116T130000
DTEND;TZID=America/Montreal:20241116T150000
DTSTAMP:20260420T034810
CREATED:20240914T024238Z
LAST-MODIFIED:20240914T024238Z
UID:10005349-1731762000-1731769200@www.lemontmartre.ca
SUMMARY:CINQ MÉDITATIONS SUR LA BEAUTÉ
DESCRIPTION:(Avec François Cheng)\nRencontres zoom en mode discussions amicales. Chemin faisant\, nous cultivons l’art de penser. La bonne humeur et la bienveillance sont\, comme toujours\, au rendez-vous. Matériel requis : le livre de François Cheng\, « Cinq méditations sur la beauté »\, édition Le livre de poche\, Albin Michel.
URL:https://www.lemontmartre.ca/event/cinq-meditations-sur-la-beaute/2024-11-16/
CATEGORIES:Formations
ATTACH;FMTTYPE=image/jpeg:https://www.lemontmartre.ca/wp-content/uploads/2024/09/Monique-Lortie-Automne-2024-Facebook-Cover.jpg
END:VEVENT
BEGIN:VEVENT
DTSTART;TZID=America/Montreal:20241102T130000
DTEND;TZID=America/Montreal:20241102T150000
DTSTAMP:20260420T034810
CREATED:20240914T024238Z
LAST-MODIFIED:20240914T024238Z
UID:10005348-1730552400-1730559600@www.lemontmartre.ca
SUMMARY:CINQ MÉDITATIONS SUR LA BEAUTÉ
DESCRIPTION:(Avec François Cheng)\nRencontres zoom en mode discussions amicales. Chemin faisant\, nous cultivons l’art de penser. La bonne humeur et la bienveillance sont\, comme toujours\, au rendez-vous. Matériel requis : le livre de François Cheng\, « Cinq méditations sur la beauté »\, édition Le livre de poche\, Albin Michel.
URL:https://www.lemontmartre.ca/event/cinq-meditations-sur-la-beaute/2024-11-02/
CATEGORIES:Formations
ATTACH;FMTTYPE=image/jpeg:https://www.lemontmartre.ca/wp-content/uploads/2024/09/Monique-Lortie-Automne-2024-Facebook-Cover.jpg
END:VEVENT
BEGIN:VEVENT
DTSTART;TZID=America/Montreal:20241019T130000
DTEND;TZID=America/Montreal:20241019T150000
DTSTAMP:20260420T034810
CREATED:20240914T024238Z
LAST-MODIFIED:20240914T024238Z
UID:10005347-1729342800-1729350000@www.lemontmartre.ca
SUMMARY:CINQ MÉDITATIONS SUR LA BEAUTÉ
DESCRIPTION:(Avec François Cheng)\nRencontres zoom en mode discussions amicales. Chemin faisant\, nous cultivons l’art de penser. La bonne humeur et la bienveillance sont\, comme toujours\, au rendez-vous. Matériel requis : le livre de François Cheng\, « Cinq méditations sur la beauté »\, édition Le livre de poche\, Albin Michel.
URL:https://www.lemontmartre.ca/event/cinq-meditations-sur-la-beaute/2024-10-19/
CATEGORIES:Formations
ATTACH;FMTTYPE=image/jpeg:https://www.lemontmartre.ca/wp-content/uploads/2024/09/Monique-Lortie-Automne-2024-Facebook-Cover.jpg
END:VEVENT
BEGIN:VEVENT
DTSTART;TZID=America/Montreal:20241005T130000
DTEND;TZID=America/Montreal:20241005T150000
DTSTAMP:20260420T034810
CREATED:20240914T024238Z
LAST-MODIFIED:20240914T024238Z
UID:10005346-1728133200-1728140400@www.lemontmartre.ca
SUMMARY:CINQ MÉDITATIONS SUR LA BEAUTÉ
DESCRIPTION:(Avec François Cheng)\nRencontres zoom en mode discussions amicales. Chemin faisant\, nous cultivons l’art de penser. La bonne humeur et la bienveillance sont\, comme toujours\, au rendez-vous. Matériel requis : le livre de François Cheng\, « Cinq méditations sur la beauté »\, édition Le livre de poche\, Albin Michel.
URL:https://www.lemontmartre.ca/event/cinq-meditations-sur-la-beaute/2024-10-05/
CATEGORIES:Formations
ATTACH;FMTTYPE=image/jpeg:https://www.lemontmartre.ca/wp-content/uploads/2024/09/Monique-Lortie-Automne-2024-Facebook-Cover.jpg
END:VEVENT
BEGIN:VEVENT
DTSTART;TZID=America/Montreal:20240921T130000
DTEND;TZID=America/Montreal:20240921T150000
DTSTAMP:20260420T034810
CREATED:20240914T024238Z
LAST-MODIFIED:20240914T024238Z
UID:10005345-1726923600-1726930800@www.lemontmartre.ca
SUMMARY:CINQ MÉDITATIONS SUR LA BEAUTÉ
DESCRIPTION:(Avec François Cheng)\nRencontres zoom en mode discussions amicales. Chemin faisant\, nous cultivons l’art de penser. La bonne humeur et la bienveillance sont\, comme toujours\, au rendez-vous. Matériel requis : le livre de François Cheng\, « Cinq méditations sur la beauté »\, édition Le livre de poche\, Albin Michel.
URL:https://www.lemontmartre.ca/event/cinq-meditations-sur-la-beaute/2024-09-21/
CATEGORIES:Formations
ATTACH;FMTTYPE=image/jpeg:https://www.lemontmartre.ca/wp-content/uploads/2024/09/Monique-Lortie-Automne-2024-Facebook-Cover.jpg
END:VEVENT
END:VCALENDAR