BEGIN:VCALENDAR
VERSION:2.0
PRODID:-//Le Montmartre - ECPv6.15.13//NONSGML v1.0//EN
CALSCALE:GREGORIAN
METHOD:PUBLISH
X-WR-CALNAME:Le Montmartre
X-ORIGINAL-URL:https://www.lemontmartre.ca
X-WR-CALDESC:Évènements pour Le Montmartre
REFRESH-INTERVAL;VALUE=DURATION:PT1H
X-Robots-Tag:noindex
X-PUBLISHED-TTL:PT1H
BEGIN:VTIMEZONE
TZID:America/Montreal
BEGIN:DAYLIGHT
TZOFFSETFROM:-0500
TZOFFSETTO:-0400
TZNAME:EDT
DTSTART:20250309T070000
END:DAYLIGHT
BEGIN:STANDARD
TZOFFSETFROM:-0400
TZOFFSETTO:-0500
TZNAME:EST
DTSTART:20251102T060000
END:STANDARD
BEGIN:DAYLIGHT
TZOFFSETFROM:-0500
TZOFFSETTO:-0400
TZNAME:EDT
DTSTART:20260308T070000
END:DAYLIGHT
BEGIN:STANDARD
TZOFFSETFROM:-0400
TZOFFSETTO:-0500
TZNAME:EST
DTSTART:20261101T060000
END:STANDARD
BEGIN:DAYLIGHT
TZOFFSETFROM:-0500
TZOFFSETTO:-0400
TZNAME:EDT
DTSTART:20270314T070000
END:DAYLIGHT
BEGIN:STANDARD
TZOFFSETFROM:-0400
TZOFFSETTO:-0500
TZNAME:EST
DTSTART:20271107T060000
END:STANDARD
END:VTIMEZONE
BEGIN:VEVENT
DTSTART;TZID=America/Montreal:20260225T173000
DTEND;TZID=America/Montreal:20260225T175000
DTSTAMP:20260420T064943
CREATED:20260105T001422Z
LAST-MODIFIED:20260105T001422Z
UID:10012100-1772040600-1772041800@www.lemontmartre.ca
SUMMARY:Vêpres
DESCRIPTION:Les vêpres sont précédées de méditation dite oraison pendant 30 minutes.
URL:https://www.lemontmartre.ca/event/vepres-2/2026-02-25/
LOCATION:Sanctuaire Montmartre\, 1679\, chemin Saint-Louis\, Québec\, Québec\, G1S 1G5\, Canada
CATEGORIES:Offices religieux
END:VEVENT
BEGIN:VEVENT
DTSTART;TZID=America/Montreal:20260225T111500
DTEND;TZID=America/Montreal:20260225T115000
DTSTAMP:20260420T064943
CREATED:20260105T000306Z
LAST-MODIFIED:20260105T000306Z
UID:10011800-1772018100-1772020200@www.lemontmartre.ca
SUMMARY:Messe à 11h15
DESCRIPTION:
URL:https://www.lemontmartre.ca/event/messe-a-11h15/2026-02-25/
LOCATION:Sanctuaire Montmartre\, 1679\, chemin Saint-Louis\, Québec\, Québec\, G1S 1G5\, Canada
CATEGORIES:Offices religieux
END:VEVENT
BEGIN:VEVENT
DTSTART;TZID=America/Montreal:20260225T072500
DTEND;TZID=America/Montreal:20260225T075500
DTSTAMP:20260420T064943
CREATED:20260214T021845Z
LAST-MODIFIED:20260214T021845Z
UID:10011694-1772004300-1772006100@www.lemontmartre.ca
SUMMARY:Messe à 7h25
DESCRIPTION:
URL:https://www.lemontmartre.ca/event/messe-a-7h25-2/2026-02-25/
LOCATION:Sanctuaire Montmartre\, 1679\, chemin Saint-Louis\, Québec\, Québec\, G1S 1G5\, Canada
CATEGORIES:Offices religieux
END:VEVENT
BEGIN:VEVENT
DTSTART;TZID=America/Montreal:20260225T070000
DTEND;TZID=America/Montreal:20260225T072000
DTSTAMP:20260420T064943
CREATED:20260104T234059Z
LAST-MODIFIED:20260104T234059Z
UID:10011600-1772002800-1772004000@www.lemontmartre.ca
SUMMARY:Laudes
DESCRIPTION:
URL:https://www.lemontmartre.ca/event/laudes-2/2026-02-25/
LOCATION:Sanctuaire Montmartre\, 1679\, chemin Saint-Louis\, Québec\, Québec\, G1S 1G5\, Canada
CATEGORIES:Offices religieux
END:VEVENT
BEGIN:VEVENT
DTSTART;TZID=America/Montreal:20260224T173000
DTEND;TZID=America/Montreal:20260224T175000
DTSTAMP:20260420T064943
CREATED:20260105T001422Z
LAST-MODIFIED:20260105T001422Z
UID:10012099-1771954200-1771955400@www.lemontmartre.ca
SUMMARY:Vêpres
DESCRIPTION:Les vêpres sont précédées de méditation dite oraison pendant 30 minutes.
URL:https://www.lemontmartre.ca/event/vepres-2/2026-02-24/
LOCATION:Sanctuaire Montmartre\, 1679\, chemin Saint-Louis\, Québec\, Québec\, G1S 1G5\, Canada
CATEGORIES:Offices religieux
END:VEVENT
BEGIN:VEVENT
DTSTART;TZID=America/Montreal:20260224T111500
DTEND;TZID=America/Montreal:20260224T115000
DTSTAMP:20260420T064943
CREATED:20260105T000306Z
LAST-MODIFIED:20260105T000306Z
UID:10011799-1771931700-1771933800@www.lemontmartre.ca
SUMMARY:Messe à 11h15
DESCRIPTION:
URL:https://www.lemontmartre.ca/event/messe-a-11h15/2026-02-24/
LOCATION:Sanctuaire Montmartre\, 1679\, chemin Saint-Louis\, Québec\, Québec\, G1S 1G5\, Canada
CATEGORIES:Offices religieux
END:VEVENT
BEGIN:VEVENT
DTSTART;TZID=America/Montreal:20260224T072500
DTEND;TZID=America/Montreal:20260224T075500
DTSTAMP:20260420T064943
CREATED:20260214T021845Z
LAST-MODIFIED:20260214T021845Z
UID:10011693-1771917900-1771919700@www.lemontmartre.ca
SUMMARY:Messe à 7h25
DESCRIPTION:
URL:https://www.lemontmartre.ca/event/messe-a-7h25-2/2026-02-24/
LOCATION:Sanctuaire Montmartre\, 1679\, chemin Saint-Louis\, Québec\, Québec\, G1S 1G5\, Canada
CATEGORIES:Offices religieux
END:VEVENT
BEGIN:VEVENT
DTSTART;TZID=America/Montreal:20260224T070000
DTEND;TZID=America/Montreal:20260224T072000
DTSTAMP:20260420T064943
CREATED:20260104T234059Z
LAST-MODIFIED:20260104T234059Z
UID:10011599-1771916400-1771917600@www.lemontmartre.ca
SUMMARY:Laudes
DESCRIPTION:
URL:https://www.lemontmartre.ca/event/laudes-2/2026-02-24/
LOCATION:Sanctuaire Montmartre\, 1679\, chemin Saint-Louis\, Québec\, Québec\, G1S 1G5\, Canada
CATEGORIES:Offices religieux
END:VEVENT
BEGIN:VEVENT
DTSTART;TZID=America/Montreal:20260223T173000
DTEND;TZID=America/Montreal:20260223T175000
DTSTAMP:20260420T064943
CREATED:20260105T001422Z
LAST-MODIFIED:20260105T001422Z
UID:10012098-1771867800-1771869000@www.lemontmartre.ca
SUMMARY:Vêpres
DESCRIPTION:Les vêpres sont précédées de méditation dite oraison pendant 30 minutes.
URL:https://www.lemontmartre.ca/event/vepres-2/2026-02-23/
LOCATION:Sanctuaire Montmartre\, 1679\, chemin Saint-Louis\, Québec\, Québec\, G1S 1G5\, Canada
CATEGORIES:Offices religieux
END:VEVENT
BEGIN:VEVENT
DTSTART;TZID=America/Montreal:20260223T111500
DTEND;TZID=America/Montreal:20260223T115000
DTSTAMP:20260420T064943
CREATED:20260105T000306Z
LAST-MODIFIED:20260105T000306Z
UID:10011798-1771845300-1771847400@www.lemontmartre.ca
SUMMARY:Messe à 11h15
DESCRIPTION:
URL:https://www.lemontmartre.ca/event/messe-a-11h15/2026-02-23/
LOCATION:Sanctuaire Montmartre\, 1679\, chemin Saint-Louis\, Québec\, Québec\, G1S 1G5\, Canada
CATEGORIES:Offices religieux
END:VEVENT
BEGIN:VEVENT
DTSTART;TZID=America/Montreal:20260223T072500
DTEND;TZID=America/Montreal:20260223T075500
DTSTAMP:20260420T064943
CREATED:20260214T021845Z
LAST-MODIFIED:20260214T021845Z
UID:10011692-1771831500-1771833300@www.lemontmartre.ca
SUMMARY:Messe à 7h25
DESCRIPTION:
URL:https://www.lemontmartre.ca/event/messe-a-7h25-2/2026-02-23/
LOCATION:Sanctuaire Montmartre\, 1679\, chemin Saint-Louis\, Québec\, Québec\, G1S 1G5\, Canada
CATEGORIES:Offices religieux
END:VEVENT
BEGIN:VEVENT
DTSTART;TZID=America/Montreal:20260223T070000
DTEND;TZID=America/Montreal:20260223T072000
DTSTAMP:20260420T064943
CREATED:20260104T234059Z
LAST-MODIFIED:20260104T234059Z
UID:10011598-1771830000-1771831200@www.lemontmartre.ca
SUMMARY:Laudes
DESCRIPTION:
URL:https://www.lemontmartre.ca/event/laudes-2/2026-02-23/
LOCATION:Sanctuaire Montmartre\, 1679\, chemin Saint-Louis\, Québec\, Québec\, G1S 1G5\, Canada
CATEGORIES:Offices religieux
END:VEVENT
BEGIN:VEVENT
DTSTART;TZID=America/Montreal:20260222T103000
DTEND;TZID=America/Montreal:20260222T114500
DTSTAMP:20260420T064943
CREATED:20260105T003828Z
LAST-MODIFIED:20260105T003828Z
UID:10012232-1771756200-1771760700@www.lemontmartre.ca
SUMMARY:Messe
DESCRIPTION:
URL:https://www.lemontmartre.ca/event/messe/2026-02-22/
LOCATION:Centre Le Montmartre
CATEGORIES:Offices religieux
END:VEVENT
BEGIN:VEVENT
DTSTART;TZID=America/Montreal:20260222T080000
DTEND;TZID=America/Montreal:20260222T082000
DTSTAMP:20260420T064943
CREATED:20260105T003233Z
LAST-MODIFIED:20260105T003233Z
UID:10012210-1771747200-1771748400@www.lemontmartre.ca
SUMMARY:Laudes
DESCRIPTION:
URL:https://www.lemontmartre.ca/event/laudes-3/2026-02-22/
LOCATION:Sanctuaire Montmartre\, 1679\, chemin Saint-Louis\, Québec\, Québec\, G1S 1G5\, Canada
CATEGORIES:Offices religieux
END:VEVENT
BEGIN:VEVENT
DTSTART;TZID=America/Montreal:20260221T173000
DTEND;TZID=America/Montreal:20260221T175000
DTSTAMP:20260420T064943
CREATED:20260105T001422Z
LAST-MODIFIED:20260105T001422Z
UID:10012097-1771695000-1771696200@www.lemontmartre.ca
SUMMARY:Vêpres
DESCRIPTION:Les vêpres sont précédées de méditation dite oraison pendant 30 minutes.
URL:https://www.lemontmartre.ca/event/vepres-2/2026-02-21/
LOCATION:Sanctuaire Montmartre\, 1679\, chemin Saint-Louis\, Québec\, Québec\, G1S 1G5\, Canada
CATEGORIES:Offices religieux
END:VEVENT
BEGIN:VEVENT
DTSTART;TZID=America/Montreal:20260221T111500
DTEND;TZID=America/Montreal:20260221T115000
DTSTAMP:20260420T064943
CREATED:20260105T000306Z
LAST-MODIFIED:20260105T000306Z
UID:10011797-1771672500-1771674600@www.lemontmartre.ca
SUMMARY:Messe à 11h15
DESCRIPTION:
URL:https://www.lemontmartre.ca/event/messe-a-11h15/2026-02-21/
LOCATION:Sanctuaire Montmartre\, 1679\, chemin Saint-Louis\, Québec\, Québec\, G1S 1G5\, Canada
CATEGORIES:Offices religieux
END:VEVENT
BEGIN:VEVENT
DTSTART;TZID=America/Montreal:20260220T173000
DTEND;TZID=America/Montreal:20260220T175000
DTSTAMP:20260420T064943
CREATED:20260105T001422Z
LAST-MODIFIED:20260105T001422Z
UID:10012096-1771608600-1771609800@www.lemontmartre.ca
SUMMARY:Vêpres
DESCRIPTION:Les vêpres sont précédées de méditation dite oraison pendant 30 minutes.
URL:https://www.lemontmartre.ca/event/vepres-2/2026-02-20/
LOCATION:Sanctuaire Montmartre\, 1679\, chemin Saint-Louis\, Québec\, Québec\, G1S 1G5\, Canada
CATEGORIES:Offices religieux
END:VEVENT
BEGIN:VEVENT
DTSTART;TZID=America/Montreal:20260220T170000
DTEND;TZID=America/Montreal:20260220T173000
DTSTAMP:20260420T064943
CREATED:20260105T002130Z
LAST-MODIFIED:20260105T004525Z
UID:10012186-1771606800-1771608600@www.lemontmartre.ca
SUMMARY:Adoration
DESCRIPTION:
URL:https://www.lemontmartre.ca/event/adoration-2/2026-02-20/
LOCATION:Sanctuaire Montmartre\, 1679\, chemin Saint-Louis\, Québec\, Québec\, G1S 1G5\, Canada
CATEGORIES:Offices religieux
END:VEVENT
BEGIN:VEVENT
DTSTART;TZID=America/Montreal:20260220T111500
DTEND;TZID=America/Montreal:20260220T115000
DTSTAMP:20260420T064943
CREATED:20260105T000306Z
LAST-MODIFIED:20260105T000306Z
UID:10011796-1771586100-1771588200@www.lemontmartre.ca
SUMMARY:Messe à 11h15
DESCRIPTION:
URL:https://www.lemontmartre.ca/event/messe-a-11h15/2026-02-20/
LOCATION:Sanctuaire Montmartre\, 1679\, chemin Saint-Louis\, Québec\, Québec\, G1S 1G5\, Canada
CATEGORIES:Offices religieux
END:VEVENT
BEGIN:VEVENT
DTSTART;TZID=America/Montreal:20260220T072500
DTEND;TZID=America/Montreal:20260220T075500
DTSTAMP:20260420T064943
CREATED:20260214T021845Z
LAST-MODIFIED:20260214T021845Z
UID:10011691-1771572300-1771574100@www.lemontmartre.ca
SUMMARY:Messe à 7h25
DESCRIPTION:
URL:https://www.lemontmartre.ca/event/messe-a-7h25-2/2026-02-20/
LOCATION:Sanctuaire Montmartre\, 1679\, chemin Saint-Louis\, Québec\, Québec\, G1S 1G5\, Canada
CATEGORIES:Offices religieux
END:VEVENT
BEGIN:VEVENT
DTSTART;TZID=America/Montreal:20260220T070000
DTEND;TZID=America/Montreal:20260220T072000
DTSTAMP:20260420T064943
CREATED:20260104T234059Z
LAST-MODIFIED:20260104T234059Z
UID:10011597-1771570800-1771572000@www.lemontmartre.ca
SUMMARY:Laudes
DESCRIPTION:
URL:https://www.lemontmartre.ca/event/laudes-2/2026-02-20/
LOCATION:Sanctuaire Montmartre\, 1679\, chemin Saint-Louis\, Québec\, Québec\, G1S 1G5\, Canada
CATEGORIES:Offices religieux
END:VEVENT
BEGIN:VEVENT
DTSTART;TZID=America/Montreal:20260219T173000
DTEND;TZID=America/Montreal:20260219T175000
DTSTAMP:20260420T064943
CREATED:20260105T001422Z
LAST-MODIFIED:20260105T001422Z
UID:10012095-1771522200-1771523400@www.lemontmartre.ca
SUMMARY:Vêpres
DESCRIPTION:Les vêpres sont précédées de méditation dite oraison pendant 30 minutes.
URL:https://www.lemontmartre.ca/event/vepres-2/2026-02-19/
LOCATION:Sanctuaire Montmartre\, 1679\, chemin Saint-Louis\, Québec\, Québec\, G1S 1G5\, Canada
CATEGORIES:Offices religieux
END:VEVENT
BEGIN:VEVENT
DTSTART;TZID=America/Montreal:20260219T111500
DTEND;TZID=America/Montreal:20260219T115000
DTSTAMP:20260420T064943
CREATED:20260105T000306Z
LAST-MODIFIED:20260105T000306Z
UID:10011795-1771499700-1771501800@www.lemontmartre.ca
SUMMARY:Messe à 11h15
DESCRIPTION:
URL:https://www.lemontmartre.ca/event/messe-a-11h15/2026-02-19/
LOCATION:Sanctuaire Montmartre\, 1679\, chemin Saint-Louis\, Québec\, Québec\, G1S 1G5\, Canada
CATEGORIES:Offices religieux
END:VEVENT
BEGIN:VEVENT
DTSTART;TZID=America/Montreal:20260219T072500
DTEND;TZID=America/Montreal:20260219T075500
DTSTAMP:20260420T064943
CREATED:20260214T021845Z
LAST-MODIFIED:20260214T021845Z
UID:10011690-1771485900-1771487700@www.lemontmartre.ca
SUMMARY:Messe à 7h25
DESCRIPTION:
URL:https://www.lemontmartre.ca/event/messe-a-7h25-2/2026-02-19/
LOCATION:Sanctuaire Montmartre\, 1679\, chemin Saint-Louis\, Québec\, Québec\, G1S 1G5\, Canada
CATEGORIES:Offices religieux
END:VEVENT
BEGIN:VEVENT
DTSTART;TZID=America/Montreal:20260219T070000
DTEND;TZID=America/Montreal:20260219T072000
DTSTAMP:20260420T064943
CREATED:20260104T234059Z
LAST-MODIFIED:20260104T234059Z
UID:10011596-1771484400-1771485600@www.lemontmartre.ca
SUMMARY:Laudes
DESCRIPTION:
URL:https://www.lemontmartre.ca/event/laudes-2/2026-02-19/
LOCATION:Sanctuaire Montmartre\, 1679\, chemin Saint-Louis\, Québec\, Québec\, G1S 1G5\, Canada
CATEGORIES:Offices religieux
END:VEVENT
BEGIN:VEVENT
DTSTART;TZID=America/Montreal:20260218T173000
DTEND;TZID=America/Montreal:20260218T175000
DTSTAMP:20260420T064943
CREATED:20260105T001422Z
LAST-MODIFIED:20260105T001422Z
UID:10012094-1771435800-1771437000@www.lemontmartre.ca
SUMMARY:Vêpres
DESCRIPTION:Les vêpres sont précédées de méditation dite oraison pendant 30 minutes.
URL:https://www.lemontmartre.ca/event/vepres-2/2026-02-18/
LOCATION:Sanctuaire Montmartre\, 1679\, chemin Saint-Louis\, Québec\, Québec\, G1S 1G5\, Canada
CATEGORIES:Offices religieux
END:VEVENT
BEGIN:VEVENT
DTSTART;TZID=America/Montreal:20260218T111500
DTEND;TZID=America/Montreal:20260218T115000
DTSTAMP:20260420T064943
CREATED:20260105T000306Z
LAST-MODIFIED:20260105T000306Z
UID:10011794-1771413300-1771415400@www.lemontmartre.ca
SUMMARY:Messe à 11h15
DESCRIPTION:
URL:https://www.lemontmartre.ca/event/messe-a-11h15/2026-02-18/
LOCATION:Sanctuaire Montmartre\, 1679\, chemin Saint-Louis\, Québec\, Québec\, G1S 1G5\, Canada
CATEGORIES:Offices religieux
END:VEVENT
BEGIN:VEVENT
DTSTART;TZID=America/Montreal:20260218T070000
DTEND;TZID=America/Montreal:20260218T072000
DTSTAMP:20260420T064943
CREATED:20260104T234059Z
LAST-MODIFIED:20260104T234059Z
UID:10011595-1771398000-1771399200@www.lemontmartre.ca
SUMMARY:Laudes
DESCRIPTION:
URL:https://www.lemontmartre.ca/event/laudes-2/2026-02-18/
LOCATION:Sanctuaire Montmartre\, 1679\, chemin Saint-Louis\, Québec\, Québec\, G1S 1G5\, Canada
CATEGORIES:Offices religieux
END:VEVENT
BEGIN:VEVENT
DTSTART;TZID=America/Montreal:20260217T173000
DTEND;TZID=America/Montreal:20260217T175000
DTSTAMP:20260420T064943
CREATED:20260105T001422Z
LAST-MODIFIED:20260105T001422Z
UID:10012093-1771349400-1771350600@www.lemontmartre.ca
SUMMARY:Vêpres
DESCRIPTION:Les vêpres sont précédées de méditation dite oraison pendant 30 minutes.
URL:https://www.lemontmartre.ca/event/vepres-2/2026-02-17/
LOCATION:Sanctuaire Montmartre\, 1679\, chemin Saint-Louis\, Québec\, Québec\, G1S 1G5\, Canada
CATEGORIES:Offices religieux
END:VEVENT
BEGIN:VEVENT
DTSTART;TZID=America/Montreal:20260217T111500
DTEND;TZID=America/Montreal:20260217T115000
DTSTAMP:20260420T064943
CREATED:20260105T000306Z
LAST-MODIFIED:20260105T000306Z
UID:10011793-1771326900-1771329000@www.lemontmartre.ca
SUMMARY:Messe à 11h15
DESCRIPTION:
URL:https://www.lemontmartre.ca/event/messe-a-11h15/2026-02-17/
LOCATION:Sanctuaire Montmartre\, 1679\, chemin Saint-Louis\, Québec\, Québec\, G1S 1G5\, Canada
CATEGORIES:Offices religieux
END:VEVENT
END:VCALENDAR