BEGIN:VCALENDAR
VERSION:2.0
PRODID:-//Le Montmartre - ECPv6.15.13//NONSGML v1.0//EN
CALSCALE:GREGORIAN
METHOD:PUBLISH
X-ORIGINAL-URL:https://www.lemontmartre.ca
X-WR-CALDESC:Évènements pour Le Montmartre
REFRESH-INTERVAL;VALUE=DURATION:PT1H
X-Robots-Tag:noindex
X-PUBLISHED-TTL:PT1H
BEGIN:VTIMEZONE
TZID:America/Montreal
BEGIN:DAYLIGHT
TZOFFSETFROM:-0500
TZOFFSETTO:-0400
TZNAME:EDT
DTSTART:20250309T070000
END:DAYLIGHT
BEGIN:STANDARD
TZOFFSETFROM:-0400
TZOFFSETTO:-0500
TZNAME:EST
DTSTART:20251102T060000
END:STANDARD
BEGIN:DAYLIGHT
TZOFFSETFROM:-0500
TZOFFSETTO:-0400
TZNAME:EDT
DTSTART:20260308T070000
END:DAYLIGHT
BEGIN:STANDARD
TZOFFSETFROM:-0400
TZOFFSETTO:-0500
TZNAME:EST
DTSTART:20261101T060000
END:STANDARD
BEGIN:DAYLIGHT
TZOFFSETFROM:-0500
TZOFFSETTO:-0400
TZNAME:EDT
DTSTART:20270314T070000
END:DAYLIGHT
BEGIN:STANDARD
TZOFFSETFROM:-0400
TZOFFSETTO:-0500
TZNAME:EST
DTSTART:20271107T060000
END:STANDARD
END:VTIMEZONE
BEGIN:VEVENT
DTSTART;TZID=America/Montreal:20260410T170000
DTEND;TZID=America/Montreal:20260410T173000
DTSTAMP:20260420T175207
CREATED:20260105T002130Z
LAST-MODIFIED:20260105T004525Z
UID:10012191-1775840400-1775842200@www.lemontmartre.ca
SUMMARY:Adoration
DESCRIPTION:
URL:https://www.lemontmartre.ca/event/adoration-2/2026-04-10/
LOCATION:Sanctuaire Montmartre\, 1679\, chemin Saint-Louis\, Québec\, Québec\, G1S 1G5\, Canada
CATEGORIES:Offices religieux
END:VEVENT
BEGIN:VEVENT
DTSTART;TZID=America/Montreal:20260410T111500
DTEND;TZID=America/Montreal:20260410T115000
DTSTAMP:20260420T175207
CREATED:20260105T000306Z
LAST-MODIFIED:20260105T000306Z
UID:10011835-1775819700-1775821800@www.lemontmartre.ca
SUMMARY:Messe à 11h15
DESCRIPTION:
URL:https://www.lemontmartre.ca/event/messe-a-11h15/2026-04-10/
LOCATION:Sanctuaire Montmartre\, 1679\, chemin Saint-Louis\, Québec\, Québec\, G1S 1G5\, Canada
CATEGORIES:Offices religieux
END:VEVENT
BEGIN:VEVENT
DTSTART;TZID=America/Montreal:20260410T072500
DTEND;TZID=America/Montreal:20260410T075500
DTSTAMP:20260420T175207
CREATED:20260214T021845Z
LAST-MODIFIED:20260214T021845Z
UID:10011720-1775805900-1775807700@www.lemontmartre.ca
SUMMARY:Messe à 7h25
DESCRIPTION:
URL:https://www.lemontmartre.ca/event/messe-a-7h25-2/2026-04-10/
LOCATION:Sanctuaire Montmartre\, 1679\, chemin Saint-Louis\, Québec\, Québec\, G1S 1G5\, Canada
CATEGORIES:Offices religieux
END:VEVENT
BEGIN:VEVENT
DTSTART;TZID=America/Montreal:20260409T193000
DTEND;TZID=America/Montreal:20260409T210000
DTSTAMP:20260420T175207
CREATED:20260320T234240Z
LAST-MODIFIED:20260327T030736Z
UID:10012461-1775763000-1775768400@www.lemontmartre.ca
SUMMARY:Ce lieu en nous que nous ne connaissons pas. La place de l’intériorité au cœur de notre existence
DESCRIPTION:Conversation avec Nicole Bordeleau et Catherine Aubin dans le cadre des défis et débats actuels 
URL:https://www.lemontmartre.ca/event/ce-lieu-en-nous-que-nous-ne-connaissons-pas-la-place-de-linteriorite-au-coeur-de-notre-existence-2/
LOCATION:Centre Le Montmartre
CATEGORIES:Conférences et débats
ATTACH;FMTTYPE=image/png:https://www.lemontmartre.ca/wp-content/uploads/2026/03/CONF-MMARTRE_09-AVRIL-26_Bordeleau-Aubin_FB.png
END:VEVENT
BEGIN:VEVENT
DTSTART;TZID=America/Montreal:20260409T173000
DTEND;TZID=America/Montreal:20260409T175000
DTSTAMP:20260420T175207
CREATED:20260105T001422Z
LAST-MODIFIED:20260105T001422Z
UID:10012136-1775755800-1775757000@www.lemontmartre.ca
SUMMARY:Vêpres
DESCRIPTION:Les vêpres sont précédées de méditation dite oraison pendant 30 minutes.
URL:https://www.lemontmartre.ca/event/vepres-2/2026-04-09/
LOCATION:Sanctuaire Montmartre\, 1679\, chemin Saint-Louis\, Québec\, Québec\, G1S 1G5\, Canada
CATEGORIES:Offices religieux
END:VEVENT
BEGIN:VEVENT
DTSTART;TZID=America/Montreal:20260409T111500
DTEND;TZID=America/Montreal:20260409T115000
DTSTAMP:20260420T175207
CREATED:20260105T000306Z
LAST-MODIFIED:20260105T000306Z
UID:10011834-1775733300-1775735400@www.lemontmartre.ca
SUMMARY:Messe à 11h15
DESCRIPTION:
URL:https://www.lemontmartre.ca/event/messe-a-11h15/2026-04-09/
LOCATION:Sanctuaire Montmartre\, 1679\, chemin Saint-Louis\, Québec\, Québec\, G1S 1G5\, Canada
CATEGORIES:Offices religieux
END:VEVENT
BEGIN:VEVENT
DTSTART;TZID=America/Montreal:20260409T072500
DTEND;TZID=America/Montreal:20260409T075500
DTSTAMP:20260420T175207
CREATED:20260214T021845Z
LAST-MODIFIED:20260214T021845Z
UID:10011719-1775719500-1775721300@www.lemontmartre.ca
SUMMARY:Messe à 7h25
DESCRIPTION:
URL:https://www.lemontmartre.ca/event/messe-a-7h25-2/2026-04-09/
LOCATION:Sanctuaire Montmartre\, 1679\, chemin Saint-Louis\, Québec\, Québec\, G1S 1G5\, Canada
CATEGORIES:Offices religieux
END:VEVENT
BEGIN:VEVENT
DTSTART;TZID=America/Montreal:20260408T173000
DTEND;TZID=America/Montreal:20260408T175000
DTSTAMP:20260420T175207
CREATED:20260105T001422Z
LAST-MODIFIED:20260105T001422Z
UID:10012135-1775669400-1775670600@www.lemontmartre.ca
SUMMARY:Vêpres
DESCRIPTION:Les vêpres sont précédées de méditation dite oraison pendant 30 minutes.
URL:https://www.lemontmartre.ca/event/vepres-2/2026-04-08/
LOCATION:Sanctuaire Montmartre\, 1679\, chemin Saint-Louis\, Québec\, Québec\, G1S 1G5\, Canada
CATEGORIES:Offices religieux
END:VEVENT
BEGIN:VEVENT
DTSTART;TZID=America/Montreal:20260408T111500
DTEND;TZID=America/Montreal:20260408T115000
DTSTAMP:20260420T175207
CREATED:20260105T000306Z
LAST-MODIFIED:20260105T000306Z
UID:10011833-1775646900-1775649000@www.lemontmartre.ca
SUMMARY:Messe à 11h15
DESCRIPTION:
URL:https://www.lemontmartre.ca/event/messe-a-11h15/2026-04-08/
LOCATION:Sanctuaire Montmartre\, 1679\, chemin Saint-Louis\, Québec\, Québec\, G1S 1G5\, Canada
CATEGORIES:Offices religieux
END:VEVENT
BEGIN:VEVENT
DTSTART;TZID=America/Montreal:20260408T072500
DTEND;TZID=America/Montreal:20260408T075500
DTSTAMP:20260420T175207
CREATED:20260214T021845Z
LAST-MODIFIED:20260214T021845Z
UID:10011718-1775633100-1775634900@www.lemontmartre.ca
SUMMARY:Messe à 7h25
DESCRIPTION:
URL:https://www.lemontmartre.ca/event/messe-a-7h25-2/2026-04-08/
LOCATION:Sanctuaire Montmartre\, 1679\, chemin Saint-Louis\, Québec\, Québec\, G1S 1G5\, Canada
CATEGORIES:Offices religieux
END:VEVENT
BEGIN:VEVENT
DTSTART;TZID=America/Montreal:20260407T173000
DTEND;TZID=America/Montreal:20260407T175000
DTSTAMP:20260420T175207
CREATED:20260105T001422Z
LAST-MODIFIED:20260105T001422Z
UID:10012134-1775583000-1775584200@www.lemontmartre.ca
SUMMARY:Vêpres
DESCRIPTION:Les vêpres sont précédées de méditation dite oraison pendant 30 minutes.
URL:https://www.lemontmartre.ca/event/vepres-2/2026-04-07/
LOCATION:Sanctuaire Montmartre\, 1679\, chemin Saint-Louis\, Québec\, Québec\, G1S 1G5\, Canada
CATEGORIES:Offices religieux
END:VEVENT
BEGIN:VEVENT
DTSTART;TZID=America/Montreal:20260407T111500
DTEND;TZID=America/Montreal:20260407T115000
DTSTAMP:20260420T175207
CREATED:20260105T000306Z
LAST-MODIFIED:20260105T000306Z
UID:10011832-1775560500-1775562600@www.lemontmartre.ca
SUMMARY:Messe à 11h15
DESCRIPTION:
URL:https://www.lemontmartre.ca/event/messe-a-11h15/2026-04-07/
LOCATION:Sanctuaire Montmartre\, 1679\, chemin Saint-Louis\, Québec\, Québec\, G1S 1G5\, Canada
CATEGORIES:Offices religieux
END:VEVENT
BEGIN:VEVENT
DTSTART;TZID=America/Montreal:20260407T072500
DTEND;TZID=America/Montreal:20260407T075500
DTSTAMP:20260420T175207
CREATED:20260214T021845Z
LAST-MODIFIED:20260214T021845Z
UID:10011717-1775546700-1775548500@www.lemontmartre.ca
SUMMARY:Messe à 7h25
DESCRIPTION:
URL:https://www.lemontmartre.ca/event/messe-a-7h25-2/2026-04-07/
LOCATION:Sanctuaire Montmartre\, 1679\, chemin Saint-Louis\, Québec\, Québec\, G1S 1G5\, Canada
CATEGORIES:Offices religieux
END:VEVENT
BEGIN:VEVENT
DTSTART;TZID=America/Montreal:20260406T173000
DTEND;TZID=America/Montreal:20260406T175000
DTSTAMP:20260420T175207
CREATED:20260105T001422Z
LAST-MODIFIED:20260105T001422Z
UID:10012133-1775496600-1775497800@www.lemontmartre.ca
SUMMARY:Vêpres
DESCRIPTION:Les vêpres sont précédées de méditation dite oraison pendant 30 minutes.
URL:https://www.lemontmartre.ca/event/vepres-2/2026-04-06/
LOCATION:Sanctuaire Montmartre\, 1679\, chemin Saint-Louis\, Québec\, Québec\, G1S 1G5\, Canada
CATEGORIES:Offices religieux
END:VEVENT
BEGIN:VEVENT
DTSTART;TZID=America/Montreal:20260406T111500
DTEND;TZID=America/Montreal:20260406T115000
DTSTAMP:20260420T175207
CREATED:20260105T000306Z
LAST-MODIFIED:20260105T000306Z
UID:10011831-1775474100-1775476200@www.lemontmartre.ca
SUMMARY:Messe à 11h15
DESCRIPTION:
URL:https://www.lemontmartre.ca/event/messe-a-11h15/2026-04-06/
LOCATION:Sanctuaire Montmartre\, 1679\, chemin Saint-Louis\, Québec\, Québec\, G1S 1G5\, Canada
CATEGORIES:Offices religieux
END:VEVENT
BEGIN:VEVENT
DTSTART;TZID=America/Montreal:20260406T072500
DTEND;TZID=America/Montreal:20260406T075500
DTSTAMP:20260420T175207
CREATED:20260214T021845Z
LAST-MODIFIED:20260214T021845Z
UID:10012247-1775460300-1775462100@www.lemontmartre.ca
SUMMARY:Messe à 7h25
DESCRIPTION:
URL:https://www.lemontmartre.ca/event/messe-a-7h25-2/2026-04-06/
LOCATION:Sanctuaire Montmartre\, 1679\, chemin Saint-Louis\, Québec\, Québec\, G1S 1G5\, Canada
CATEGORIES:Offices religieux
END:VEVENT
BEGIN:VEVENT
DTSTART;TZID=America/Montreal:20260405T103000
DTEND;TZID=America/Montreal:20260405T114500
DTSTAMP:20260420T175207
CREATED:20260105T003828Z
LAST-MODIFIED:20260105T003828Z
UID:10012238-1775385000-1775389500@www.lemontmartre.ca
SUMMARY:Messe
DESCRIPTION:
URL:https://www.lemontmartre.ca/event/messe/2026-04-05/
LOCATION:Centre Le Montmartre
CATEGORIES:Offices religieux
END:VEVENT
BEGIN:VEVENT
DTSTART;TZID=America/Montreal:20260405T080000
DTEND;TZID=America/Montreal:20260405T082000
DTSTAMP:20260420T175207
CREATED:20260105T003233Z
LAST-MODIFIED:20260105T003233Z
UID:10012216-1775376000-1775377200@www.lemontmartre.ca
SUMMARY:Laudes
DESCRIPTION:
URL:https://www.lemontmartre.ca/event/laudes-3/2026-04-05/
LOCATION:Sanctuaire Montmartre\, 1679\, chemin Saint-Louis\, Québec\, Québec\, G1S 1G5\, Canada
CATEGORIES:Offices religieux
END:VEVENT
BEGIN:VEVENT
DTSTART;TZID=America/Montreal:20260404T200000
DTEND;TZID=America/Montreal:20260404T213000
DTSTAMP:20260420T175207
CREATED:20260321T003012Z
LAST-MODIFIED:20260321T003012Z
UID:10012468-1775332800-1775338200@www.lemontmartre.ca
SUMMARY:Vigile pascale
DESCRIPTION:Célébration de la veillée de Pâques
URL:https://www.lemontmartre.ca/event/vigile-pascale/
LOCATION:Centre Le Montmartre
CATEGORIES:Offices religieux
END:VEVENT
BEGIN:VEVENT
DTSTART;TZID=America/Montreal:20260404T173000
DTEND;TZID=America/Montreal:20260404T175000
DTSTAMP:20260420T175207
CREATED:20260105T001422Z
LAST-MODIFIED:20260105T001422Z
UID:10012132-1775323800-1775325000@www.lemontmartre.ca
SUMMARY:Vêpres
DESCRIPTION:Les vêpres sont précédées de méditation dite oraison pendant 30 minutes.
URL:https://www.lemontmartre.ca/event/vepres-2/2026-04-04/
LOCATION:Sanctuaire Montmartre\, 1679\, chemin Saint-Louis\, Québec\, Québec\, G1S 1G5\, Canada
CATEGORIES:Offices religieux
END:VEVENT
BEGIN:VEVENT
DTSTART;TZID=America/Montreal:20260404T100000
DTEND;TZID=America/Montreal:20260404T113000
DTSTAMP:20260420T175207
CREATED:20260321T001614Z
LAST-MODIFIED:20260321T001614Z
UID:10012465-1775296800-1775302200@www.lemontmartre.ca
SUMMARY:Montée pascale: «On n’enchaîne pas l’amour»
DESCRIPTION:
URL:https://www.lemontmartre.ca/event/montee-pascale-on-nenchaine-pas-lamour/2026-04-04/
LOCATION:Centre Le Montmartre
CATEGORIES:Prière et intériorité
ATTACH;FMTTYPE=image/jpeg:https://www.lemontmartre.ca/wp-content/uploads/2026/03/Montee-Pascale-Montmartre-2026-Facebook-Cover-.jpg
END:VEVENT
BEGIN:VEVENT
DTSTART;TZID=America/Montreal:20260403T150000
DTEND;TZID=America/Montreal:20260403T163000
DTSTAMP:20260420T175207
CREATED:20260321T002600Z
LAST-MODIFIED:20260321T002600Z
UID:10012467-1775228400-1775233800@www.lemontmartre.ca
SUMMARY:Office de la Passion
DESCRIPTION:La Passion du Seigneur\, le Vendredi Saint
URL:https://www.lemontmartre.ca/event/office-de-la-passion/
LOCATION:Centre Le Montmartre
CATEGORIES:Offices religieux
END:VEVENT
BEGIN:VEVENT
DTSTART;TZID=America/Montreal:20260403T100000
DTEND;TZID=America/Montreal:20260403T113000
DTSTAMP:20260420T175207
CREATED:20260321T001614Z
LAST-MODIFIED:20260321T001614Z
UID:10012464-1775210400-1775215800@www.lemontmartre.ca
SUMMARY:Montée pascale: «On n’enchaîne pas l’amour»
DESCRIPTION:
URL:https://www.lemontmartre.ca/event/montee-pascale-on-nenchaine-pas-lamour/2026-04-03/
LOCATION:Centre Le Montmartre
CATEGORIES:Prière et intériorité
ATTACH;FMTTYPE=image/jpeg:https://www.lemontmartre.ca/wp-content/uploads/2026/03/Montee-Pascale-Montmartre-2026-Facebook-Cover-.jpg
END:VEVENT
BEGIN:VEVENT
DTSTART;TZID=America/Montreal:20260402T190000
DTEND;TZID=America/Montreal:20260402T203000
DTSTAMP:20260420T175207
CREATED:20260321T002210Z
LAST-MODIFIED:20260321T003144Z
UID:10012466-1775156400-1775161800@www.lemontmartre.ca
SUMMARY:Célébration de la Cène
DESCRIPTION:Messe du Jeudi Saint
URL:https://www.lemontmartre.ca/event/celebration-de-la-cene/
LOCATION:Centre Le Montmartre
CATEGORIES:Offices religieux
END:VEVENT
BEGIN:VEVENT
DTSTART;TZID=America/Montreal:20260402T173000
DTEND;TZID=America/Montreal:20260402T175000
DTSTAMP:20260420T175207
CREATED:20260105T001422Z
LAST-MODIFIED:20260105T001422Z
UID:10012131-1775151000-1775152200@www.lemontmartre.ca
SUMMARY:Vêpres
DESCRIPTION:Les vêpres sont précédées de méditation dite oraison pendant 30 minutes.
URL:https://www.lemontmartre.ca/event/vepres-2/2026-04-02/
LOCATION:Sanctuaire Montmartre\, 1679\, chemin Saint-Louis\, Québec\, Québec\, G1S 1G5\, Canada
CATEGORIES:Offices religieux
END:VEVENT
BEGIN:VEVENT
DTSTART;TZID=America/Montreal:20260402T100000
DTEND;TZID=America/Montreal:20260402T113000
DTSTAMP:20260420T175207
CREATED:20260321T001614Z
LAST-MODIFIED:20260321T001614Z
UID:10012463-1775124000-1775129400@www.lemontmartre.ca
SUMMARY:Montée pascale: «On n’enchaîne pas l’amour»
DESCRIPTION:
URL:https://www.lemontmartre.ca/event/montee-pascale-on-nenchaine-pas-lamour/2026-04-02/
LOCATION:Centre Le Montmartre
CATEGORIES:Prière et intériorité
ATTACH;FMTTYPE=image/jpeg:https://www.lemontmartre.ca/wp-content/uploads/2026/03/Montee-Pascale-Montmartre-2026-Facebook-Cover-.jpg
END:VEVENT
BEGIN:VEVENT
DTSTART;TZID=America/Montreal:20260401T173000
DTEND;TZID=America/Montreal:20260401T175000
DTSTAMP:20260420T175207
CREATED:20260105T001422Z
LAST-MODIFIED:20260105T001422Z
UID:10012130-1775064600-1775065800@www.lemontmartre.ca
SUMMARY:Vêpres
DESCRIPTION:Les vêpres sont précédées de méditation dite oraison pendant 30 minutes.
URL:https://www.lemontmartre.ca/event/vepres-2/2026-04-01/
LOCATION:Sanctuaire Montmartre\, 1679\, chemin Saint-Louis\, Québec\, Québec\, G1S 1G5\, Canada
CATEGORIES:Offices religieux
END:VEVENT
BEGIN:VEVENT
DTSTART;TZID=America/Montreal:20260401T150000
DTEND;TZID=America/Montreal:20260401T163000
DTSTAMP:20260420T175207
CREATED:20260117T045810Z
LAST-MODIFIED:20260124T004824Z
UID:10012255-1775055600-1775061000@www.lemontmartre.ca
SUMMARY:«DIEU EST À L'OEUVRE EN CET ÂGE».  "Les Actes des Apôtres" comme compagnon de route pour la vie heureuse et unifiée au quotidien
DESCRIPTION:Formation en PRÉSENTIEL et en ZOOM* \n*ZOOM sera accessible seulement aux personnes qui habitent à l’extérieur de la ville de Québec et pour qui il est impossible de se rendre à la rencontre en présentiel.
URL:https://www.lemontmartre.ca/event/dieu-est-a-loeuvre-en-cet-age-les-actes-des-apotres-comme-compagnon-de-route-pour-la-vie-heureuse-et-unifiee-au-quotidien-2/2026-04-01/
LOCATION:Sanctuaire Montmartre\, 1679\, chemin Saint-Louis\, Québec\, Québec\, G1S 1G5\, Canada
CATEGORIES:Formations
ATTACH;FMTTYPE=image/jpeg:https://www.lemontmartre.ca/wp-content/uploads/2025/09/Formation-Actes-des-Apotres-Edouard-Shatov-Automne-2025-Facebook-Cover-scaled.jpg
END:VEVENT
BEGIN:VEVENT
DTSTART;TZID=America/Montreal:20260401T111500
DTEND;TZID=America/Montreal:20260401T115000
DTSTAMP:20260420T175207
CREATED:20260105T000306Z
LAST-MODIFIED:20260105T000306Z
UID:10011830-1775042100-1775044200@www.lemontmartre.ca
SUMMARY:Messe à 11h15
DESCRIPTION:
URL:https://www.lemontmartre.ca/event/messe-a-11h15/2026-04-01/
LOCATION:Sanctuaire Montmartre\, 1679\, chemin Saint-Louis\, Québec\, Québec\, G1S 1G5\, Canada
CATEGORIES:Offices religieux
END:VEVENT
BEGIN:VEVENT
DTSTART;TZID=America/Montreal:20260331T173000
DTEND;TZID=America/Montreal:20260331T175000
DTSTAMP:20260420T175207
CREATED:20260105T001422Z
LAST-MODIFIED:20260105T001422Z
UID:10012129-1774978200-1774979400@www.lemontmartre.ca
SUMMARY:Vêpres
DESCRIPTION:Les vêpres sont précédées de méditation dite oraison pendant 30 minutes.
URL:https://www.lemontmartre.ca/event/vepres-2/2026-03-31/
LOCATION:Sanctuaire Montmartre\, 1679\, chemin Saint-Louis\, Québec\, Québec\, G1S 1G5\, Canada
CATEGORIES:Offices religieux
END:VEVENT
END:VCALENDAR