BEGIN:VCALENDAR
VERSION:2.0
PRODID:-//Le Montmartre - ECPv6.15.13//NONSGML v1.0//EN
CALSCALE:GREGORIAN
METHOD:PUBLISH
X-ORIGINAL-URL:https://www.lemontmartre.ca
X-WR-CALDESC:Évènements pour Le Montmartre
REFRESH-INTERVAL;VALUE=DURATION:PT1H
X-Robots-Tag:noindex
X-PUBLISHED-TTL:PT1H
BEGIN:VTIMEZONE
TZID:America/Montreal
BEGIN:DAYLIGHT
TZOFFSETFROM:-0500
TZOFFSETTO:-0400
TZNAME:EDT
DTSTART:20250309T070000
END:DAYLIGHT
BEGIN:STANDARD
TZOFFSETFROM:-0400
TZOFFSETTO:-0500
TZNAME:EST
DTSTART:20251102T060000
END:STANDARD
BEGIN:DAYLIGHT
TZOFFSETFROM:-0500
TZOFFSETTO:-0400
TZNAME:EDT
DTSTART:20260308T070000
END:DAYLIGHT
BEGIN:STANDARD
TZOFFSETFROM:-0400
TZOFFSETTO:-0500
TZNAME:EST
DTSTART:20261101T060000
END:STANDARD
BEGIN:DAYLIGHT
TZOFFSETFROM:-0500
TZOFFSETTO:-0400
TZNAME:EDT
DTSTART:20270314T070000
END:DAYLIGHT
BEGIN:STANDARD
TZOFFSETFROM:-0400
TZOFFSETTO:-0500
TZNAME:EST
DTSTART:20271107T060000
END:STANDARD
END:VTIMEZONE
BEGIN:VEVENT
DTSTART;TZID=America/Montreal:20260420T072500
DTEND;TZID=America/Montreal:20260420T075500
DTSTAMP:20260420T111207
CREATED:20260214T021845Z
LAST-MODIFIED:20260214T021845Z
UID:10011726-1776669900-1776671700@www.lemontmartre.ca
SUMMARY:Messe à 7h25
DESCRIPTION:
URL:https://www.lemontmartre.ca/event/messe-a-7h25-2/2026-04-20/
LOCATION:Sanctuaire Montmartre\, 1679\, chemin Saint-Louis\, Québec\, Québec\, G1S 1G5\, Canada
CATEGORIES:Offices religieux
END:VEVENT
BEGIN:VEVENT
DTSTART;TZID=America/Montreal:20260420T070000
DTEND;TZID=America/Montreal:20260420T072000
DTSTAMP:20260420T111207
CREATED:20260104T234059Z
LAST-MODIFIED:20260104T234059Z
UID:10011628-1776668400-1776669600@www.lemontmartre.ca
SUMMARY:Laudes
DESCRIPTION:
URL:https://www.lemontmartre.ca/event/laudes-2/2026-04-20/
LOCATION:Sanctuaire Montmartre\, 1679\, chemin Saint-Louis\, Québec\, Québec\, G1S 1G5\, Canada
CATEGORIES:Offices religieux
END:VEVENT
BEGIN:VEVENT
DTSTART;TZID=America/Montreal:20260419T103000
DTEND;TZID=America/Montreal:20260419T114500
DTSTAMP:20260420T111207
CREATED:20260105T003828Z
LAST-MODIFIED:20260105T003828Z
UID:10012240-1776594600-1776599100@www.lemontmartre.ca
SUMMARY:Messe
DESCRIPTION:
URL:https://www.lemontmartre.ca/event/messe/2026-04-19/
LOCATION:Centre Le Montmartre
CATEGORIES:Offices religieux
END:VEVENT
BEGIN:VEVENT
DTSTART;TZID=America/Montreal:20260419T080000
DTEND;TZID=America/Montreal:20260419T082000
DTSTAMP:20260420T111207
CREATED:20260105T003233Z
LAST-MODIFIED:20260105T003233Z
UID:10012218-1776585600-1776586800@www.lemontmartre.ca
SUMMARY:Laudes
DESCRIPTION:
URL:https://www.lemontmartre.ca/event/laudes-3/2026-04-19/
LOCATION:Sanctuaire Montmartre\, 1679\, chemin Saint-Louis\, Québec\, Québec\, G1S 1G5\, Canada
CATEGORIES:Offices religieux
END:VEVENT
BEGIN:VEVENT
DTSTART;TZID=America/Montreal:20260418T173000
DTEND;TZID=America/Montreal:20260418T175000
DTSTAMP:20260420T111207
CREATED:20260105T001422Z
LAST-MODIFIED:20260105T001422Z
UID:10012144-1776533400-1776534600@www.lemontmartre.ca
SUMMARY:Vêpres
DESCRIPTION:Les vêpres sont précédées de méditation dite oraison pendant 30 minutes.
URL:https://www.lemontmartre.ca/event/vepres-2/2026-04-18/
LOCATION:Sanctuaire Montmartre\, 1679\, chemin Saint-Louis\, Québec\, Québec\, G1S 1G5\, Canada
CATEGORIES:Offices religieux
END:VEVENT
BEGIN:VEVENT
DTSTART;TZID=America/Montreal:20260418T111500
DTEND;TZID=America/Montreal:20260418T115000
DTSTAMP:20260420T111207
CREATED:20260105T000306Z
LAST-MODIFIED:20260105T000306Z
UID:10011842-1776510900-1776513000@www.lemontmartre.ca
SUMMARY:Messe à 11h15
DESCRIPTION:
URL:https://www.lemontmartre.ca/event/messe-a-11h15/2026-04-18/
LOCATION:Sanctuaire Montmartre\, 1679\, chemin Saint-Louis\, Québec\, Québec\, G1S 1G5\, Canada
CATEGORIES:Offices religieux
END:VEVENT
BEGIN:VEVENT
DTSTART;TZID=America/Montreal:20260417T173000
DTEND;TZID=America/Montreal:20260417T175000
DTSTAMP:20260420T111207
CREATED:20260105T001422Z
LAST-MODIFIED:20260105T001422Z
UID:10012143-1776447000-1776448200@www.lemontmartre.ca
SUMMARY:Vêpres
DESCRIPTION:Les vêpres sont précédées de méditation dite oraison pendant 30 minutes.
URL:https://www.lemontmartre.ca/event/vepres-2/2026-04-17/
LOCATION:Sanctuaire Montmartre\, 1679\, chemin Saint-Louis\, Québec\, Québec\, G1S 1G5\, Canada
CATEGORIES:Offices religieux
END:VEVENT
BEGIN:VEVENT
DTSTART;TZID=America/Montreal:20260417T170000
DTEND;TZID=America/Montreal:20260417T173000
DTSTAMP:20260420T111207
CREATED:20260105T002130Z
LAST-MODIFIED:20260105T004525Z
UID:10012192-1776445200-1776447000@www.lemontmartre.ca
SUMMARY:Adoration
DESCRIPTION:
URL:https://www.lemontmartre.ca/event/adoration-2/2026-04-17/
LOCATION:Sanctuaire Montmartre\, 1679\, chemin Saint-Louis\, Québec\, Québec\, G1S 1G5\, Canada
CATEGORIES:Offices religieux
END:VEVENT
BEGIN:VEVENT
DTSTART;TZID=America/Montreal:20260417T111500
DTEND;TZID=America/Montreal:20260417T115000
DTSTAMP:20260420T111207
CREATED:20260105T000306Z
LAST-MODIFIED:20260105T000306Z
UID:10011841-1776424500-1776426600@www.lemontmartre.ca
SUMMARY:Messe à 11h15
DESCRIPTION:
URL:https://www.lemontmartre.ca/event/messe-a-11h15/2026-04-17/
LOCATION:Sanctuaire Montmartre\, 1679\, chemin Saint-Louis\, Québec\, Québec\, G1S 1G5\, Canada
CATEGORIES:Offices religieux
END:VEVENT
BEGIN:VEVENT
DTSTART;TZID=America/Montreal:20260417T072500
DTEND;TZID=America/Montreal:20260417T075500
DTSTAMP:20260420T111207
CREATED:20260214T021845Z
LAST-MODIFIED:20260214T021845Z
UID:10011725-1776410700-1776412500@www.lemontmartre.ca
SUMMARY:Messe à 7h25
DESCRIPTION:
URL:https://www.lemontmartre.ca/event/messe-a-7h25-2/2026-04-17/
LOCATION:Sanctuaire Montmartre\, 1679\, chemin Saint-Louis\, Québec\, Québec\, G1S 1G5\, Canada
CATEGORIES:Offices religieux
END:VEVENT
BEGIN:VEVENT
DTSTART;TZID=America/Montreal:20260417T070000
DTEND;TZID=America/Montreal:20260417T072000
DTSTAMP:20260420T111207
CREATED:20260104T234059Z
LAST-MODIFIED:20260104T234059Z
UID:10011627-1776409200-1776410400@www.lemontmartre.ca
SUMMARY:Laudes
DESCRIPTION:
URL:https://www.lemontmartre.ca/event/laudes-2/2026-04-17/
LOCATION:Sanctuaire Montmartre\, 1679\, chemin Saint-Louis\, Québec\, Québec\, G1S 1G5\, Canada
CATEGORIES:Offices religieux
END:VEVENT
BEGIN:VEVENT
DTSTART;TZID=America/Montreal:20260416T173000
DTEND;TZID=America/Montreal:20260416T175000
DTSTAMP:20260420T111207
CREATED:20260105T001422Z
LAST-MODIFIED:20260105T001422Z
UID:10012142-1776360600-1776361800@www.lemontmartre.ca
SUMMARY:Vêpres
DESCRIPTION:Les vêpres sont précédées de méditation dite oraison pendant 30 minutes.
URL:https://www.lemontmartre.ca/event/vepres-2/2026-04-16/
LOCATION:Sanctuaire Montmartre\, 1679\, chemin Saint-Louis\, Québec\, Québec\, G1S 1G5\, Canada
CATEGORIES:Offices religieux
END:VEVENT
BEGIN:VEVENT
DTSTART;TZID=America/Montreal:20260416T111500
DTEND;TZID=America/Montreal:20260416T115000
DTSTAMP:20260420T111207
CREATED:20260105T000306Z
LAST-MODIFIED:20260105T000306Z
UID:10011840-1776338100-1776340200@www.lemontmartre.ca
SUMMARY:Messe à 11h15
DESCRIPTION:
URL:https://www.lemontmartre.ca/event/messe-a-11h15/2026-04-16/
LOCATION:Sanctuaire Montmartre\, 1679\, chemin Saint-Louis\, Québec\, Québec\, G1S 1G5\, Canada
CATEGORIES:Offices religieux
END:VEVENT
BEGIN:VEVENT
DTSTART;TZID=America/Montreal:20260416T072500
DTEND;TZID=America/Montreal:20260416T075500
DTSTAMP:20260420T111207
CREATED:20260214T021845Z
LAST-MODIFIED:20260214T021845Z
UID:10011724-1776324300-1776326100@www.lemontmartre.ca
SUMMARY:Messe à 7h25
DESCRIPTION:
URL:https://www.lemontmartre.ca/event/messe-a-7h25-2/2026-04-16/
LOCATION:Sanctuaire Montmartre\, 1679\, chemin Saint-Louis\, Québec\, Québec\, G1S 1G5\, Canada
CATEGORIES:Offices religieux
END:VEVENT
BEGIN:VEVENT
DTSTART;TZID=America/Montreal:20260416T070000
DTEND;TZID=America/Montreal:20260416T072000
DTSTAMP:20260420T111207
CREATED:20260104T234059Z
LAST-MODIFIED:20260104T234059Z
UID:10011626-1776322800-1776324000@www.lemontmartre.ca
SUMMARY:Laudes
DESCRIPTION:
URL:https://www.lemontmartre.ca/event/laudes-2/2026-04-16/
LOCATION:Sanctuaire Montmartre\, 1679\, chemin Saint-Louis\, Québec\, Québec\, G1S 1G5\, Canada
CATEGORIES:Offices religieux
END:VEVENT
BEGIN:VEVENT
DTSTART;TZID=America/Montreal:20260415T173000
DTEND;TZID=America/Montreal:20260415T175000
DTSTAMP:20260420T111207
CREATED:20260105T001422Z
LAST-MODIFIED:20260105T001422Z
UID:10012141-1776274200-1776275400@www.lemontmartre.ca
SUMMARY:Vêpres
DESCRIPTION:Les vêpres sont précédées de méditation dite oraison pendant 30 minutes.
URL:https://www.lemontmartre.ca/event/vepres-2/2026-04-15/
LOCATION:Sanctuaire Montmartre\, 1679\, chemin Saint-Louis\, Québec\, Québec\, G1S 1G5\, Canada
CATEGORIES:Offices religieux
END:VEVENT
BEGIN:VEVENT
DTSTART;TZID=America/Montreal:20260415T150000
DTEND;TZID=America/Montreal:20260415T163000
DTSTAMP:20260420T111207
CREATED:20260117T045810Z
LAST-MODIFIED:20260124T004824Z
UID:10012256-1776265200-1776270600@www.lemontmartre.ca
SUMMARY:«DIEU EST À L'OEUVRE EN CET ÂGE».  "Les Actes des Apôtres" comme compagnon de route pour la vie heureuse et unifiée au quotidien
DESCRIPTION:Formation en PRÉSENTIEL et en ZOOM* \n*ZOOM sera accessible seulement aux personnes qui habitent à l’extérieur de la ville de Québec et pour qui il est impossible de se rendre à la rencontre en présentiel.
URL:https://www.lemontmartre.ca/event/dieu-est-a-loeuvre-en-cet-age-les-actes-des-apotres-comme-compagnon-de-route-pour-la-vie-heureuse-et-unifiee-au-quotidien-2/2026-04-15/
LOCATION:Sanctuaire Montmartre\, 1679\, chemin Saint-Louis\, Québec\, Québec\, G1S 1G5\, Canada
CATEGORIES:Formations
ATTACH;FMTTYPE=image/jpeg:https://www.lemontmartre.ca/wp-content/uploads/2025/09/Formation-Actes-des-Apotres-Edouard-Shatov-Automne-2025-Facebook-Cover-scaled.jpg
END:VEVENT
BEGIN:VEVENT
DTSTART;TZID=America/Montreal:20260415T111500
DTEND;TZID=America/Montreal:20260415T115000
DTSTAMP:20260420T111207
CREATED:20260105T000306Z
LAST-MODIFIED:20260105T000306Z
UID:10011839-1776251700-1776253800@www.lemontmartre.ca
SUMMARY:Messe à 11h15
DESCRIPTION:
URL:https://www.lemontmartre.ca/event/messe-a-11h15/2026-04-15/
LOCATION:Sanctuaire Montmartre\, 1679\, chemin Saint-Louis\, Québec\, Québec\, G1S 1G5\, Canada
CATEGORIES:Offices religieux
END:VEVENT
BEGIN:VEVENT
DTSTART;TZID=America/Montreal:20260415T072500
DTEND;TZID=America/Montreal:20260415T075500
DTSTAMP:20260420T111207
CREATED:20260214T021845Z
LAST-MODIFIED:20260214T021845Z
UID:10011723-1776237900-1776239700@www.lemontmartre.ca
SUMMARY:Messe à 7h25
DESCRIPTION:
URL:https://www.lemontmartre.ca/event/messe-a-7h25-2/2026-04-15/
LOCATION:Sanctuaire Montmartre\, 1679\, chemin Saint-Louis\, Québec\, Québec\, G1S 1G5\, Canada
CATEGORIES:Offices religieux
END:VEVENT
BEGIN:VEVENT
DTSTART;TZID=America/Montreal:20260415T070000
DTEND;TZID=America/Montreal:20260415T072000
DTSTAMP:20260420T111207
CREATED:20260104T234059Z
LAST-MODIFIED:20260104T234059Z
UID:10011625-1776236400-1776237600@www.lemontmartre.ca
SUMMARY:Laudes
DESCRIPTION:
URL:https://www.lemontmartre.ca/event/laudes-2/2026-04-15/
LOCATION:Sanctuaire Montmartre\, 1679\, chemin Saint-Louis\, Québec\, Québec\, G1S 1G5\, Canada
CATEGORIES:Offices religieux
END:VEVENT
BEGIN:VEVENT
DTSTART;TZID=America/Montreal:20260414T173000
DTEND;TZID=America/Montreal:20260414T175000
DTSTAMP:20260420T111207
CREATED:20260105T001422Z
LAST-MODIFIED:20260105T001422Z
UID:10012140-1776187800-1776189000@www.lemontmartre.ca
SUMMARY:Vêpres
DESCRIPTION:Les vêpres sont précédées de méditation dite oraison pendant 30 minutes.
URL:https://www.lemontmartre.ca/event/vepres-2/2026-04-14/
LOCATION:Sanctuaire Montmartre\, 1679\, chemin Saint-Louis\, Québec\, Québec\, G1S 1G5\, Canada
CATEGORIES:Offices religieux
END:VEVENT
BEGIN:VEVENT
DTSTART;TZID=America/Montreal:20260414T111500
DTEND;TZID=America/Montreal:20260414T115000
DTSTAMP:20260420T111207
CREATED:20260105T000306Z
LAST-MODIFIED:20260105T000306Z
UID:10011838-1776165300-1776167400@www.lemontmartre.ca
SUMMARY:Messe à 11h15
DESCRIPTION:
URL:https://www.lemontmartre.ca/event/messe-a-11h15/2026-04-14/
LOCATION:Sanctuaire Montmartre\, 1679\, chemin Saint-Louis\, Québec\, Québec\, G1S 1G5\, Canada
CATEGORIES:Offices religieux
END:VEVENT
BEGIN:VEVENT
DTSTART;TZID=America/Montreal:20260414T072500
DTEND;TZID=America/Montreal:20260414T075500
DTSTAMP:20260420T111207
CREATED:20260214T021845Z
LAST-MODIFIED:20260214T021845Z
UID:10011722-1776151500-1776153300@www.lemontmartre.ca
SUMMARY:Messe à 7h25
DESCRIPTION:
URL:https://www.lemontmartre.ca/event/messe-a-7h25-2/2026-04-14/
LOCATION:Sanctuaire Montmartre\, 1679\, chemin Saint-Louis\, Québec\, Québec\, G1S 1G5\, Canada
CATEGORIES:Offices religieux
END:VEVENT
BEGIN:VEVENT
DTSTART;TZID=America/Montreal:20260414T070000
DTEND;TZID=America/Montreal:20260414T072000
DTSTAMP:20260420T111207
CREATED:20260104T234059Z
LAST-MODIFIED:20260104T234059Z
UID:10011624-1776150000-1776151200@www.lemontmartre.ca
SUMMARY:Laudes
DESCRIPTION:
URL:https://www.lemontmartre.ca/event/laudes-2/2026-04-14/
LOCATION:Sanctuaire Montmartre\, 1679\, chemin Saint-Louis\, Québec\, Québec\, G1S 1G5\, Canada
CATEGORIES:Offices religieux
END:VEVENT
BEGIN:VEVENT
DTSTART;TZID=America/Montreal:20260413T193000
DTEND;TZID=America/Montreal:20260413T210000
DTSTAMP:20260420T111207
CREATED:20260117T050509Z
LAST-MODIFIED:20260124T005459Z
UID:10012265-1776108600-1776114000@www.lemontmartre.ca
SUMMARY:«PRENDRE SOIN DE NOTRE ÊTRE AU FIL DES SAISONS DE NOTRE VIE» En compagnie et à l’écoute des "Écrits Spirituels" de François de Laval
DESCRIPTION:Formation en PRÉSENTIEL et en ZOOM*. \n*ZOOM sera accessible seulement aux personnes qui habitent à l’extérieur de la ville de Québec et pour qui il est impossible de se rendre à la rencontre en présentiel.
URL:https://www.lemontmartre.ca/event/prendre-soin-de-notre-etre-au-fil-des-saisons-de-notre-vie-en-compagnie-et-a-lecoute-des-ecrits-spirituels-de-francois-de-laval/2026-04-13/
LOCATION:Sanctuaire Montmartre\, 1679\, chemin Saint-Louis\, Québec\, Québec\, G1S 1G5\, Canada
CATEGORIES:Formations
ATTACH;FMTTYPE=image/jpeg:https://www.lemontmartre.ca/wp-content/uploads/2026/01/Formation-Francois-de-Laval-Edouard-Shatov-Hiver-Ete-2026-Facebook-Cover.jpg
END:VEVENT
BEGIN:VEVENT
DTSTART;TZID=America/Montreal:20260413T173000
DTEND;TZID=America/Montreal:20260413T175000
DTSTAMP:20260420T111207
CREATED:20260105T001422Z
LAST-MODIFIED:20260105T001422Z
UID:10012139-1776101400-1776102600@www.lemontmartre.ca
SUMMARY:Vêpres
DESCRIPTION:Les vêpres sont précédées de méditation dite oraison pendant 30 minutes.
URL:https://www.lemontmartre.ca/event/vepres-2/2026-04-13/
LOCATION:Sanctuaire Montmartre\, 1679\, chemin Saint-Louis\, Québec\, Québec\, G1S 1G5\, Canada
CATEGORIES:Offices religieux
END:VEVENT
BEGIN:VEVENT
DTSTART;TZID=America/Montreal:20260413T111500
DTEND;TZID=America/Montreal:20260413T115000
DTSTAMP:20260420T111207
CREATED:20260105T000306Z
LAST-MODIFIED:20260105T000306Z
UID:10011837-1776078900-1776081000@www.lemontmartre.ca
SUMMARY:Messe à 11h15
DESCRIPTION:
URL:https://www.lemontmartre.ca/event/messe-a-11h15/2026-04-13/
LOCATION:Sanctuaire Montmartre\, 1679\, chemin Saint-Louis\, Québec\, Québec\, G1S 1G5\, Canada
CATEGORIES:Offices religieux
END:VEVENT
BEGIN:VEVENT
DTSTART;TZID=America/Montreal:20260413T072500
DTEND;TZID=America/Montreal:20260413T075500
DTSTAMP:20260420T111207
CREATED:20260214T021845Z
LAST-MODIFIED:20260214T021845Z
UID:10011721-1776065100-1776066900@www.lemontmartre.ca
SUMMARY:Messe à 7h25
DESCRIPTION:
URL:https://www.lemontmartre.ca/event/messe-a-7h25-2/2026-04-13/
LOCATION:Sanctuaire Montmartre\, 1679\, chemin Saint-Louis\, Québec\, Québec\, G1S 1G5\, Canada
CATEGORIES:Offices religieux
END:VEVENT
BEGIN:VEVENT
DTSTART;TZID=America/Montreal:20260413T070000
DTEND;TZID=America/Montreal:20260413T072000
DTSTAMP:20260420T111207
CREATED:20260104T234059Z
LAST-MODIFIED:20260104T234059Z
UID:10011623-1776063600-1776064800@www.lemontmartre.ca
SUMMARY:Laudes
DESCRIPTION:
URL:https://www.lemontmartre.ca/event/laudes-2/2026-04-13/
LOCATION:Sanctuaire Montmartre\, 1679\, chemin Saint-Louis\, Québec\, Québec\, G1S 1G5\, Canada
CATEGORIES:Offices religieux
END:VEVENT
BEGIN:VEVENT
DTSTART;TZID=America/Montreal:20260412T103000
DTEND;TZID=America/Montreal:20260412T114500
DTSTAMP:20260420T111207
CREATED:20260105T003828Z
LAST-MODIFIED:20260105T003828Z
UID:10012239-1775989800-1775994300@www.lemontmartre.ca
SUMMARY:Messe
DESCRIPTION:
URL:https://www.lemontmartre.ca/event/messe/2026-04-12/
LOCATION:Centre Le Montmartre
CATEGORIES:Offices religieux
END:VEVENT
END:VCALENDAR