BEGIN:VCALENDAR
VERSION:2.0
PRODID:-//Le Montmartre - ECPv6.15.13//NONSGML v1.0//EN
CALSCALE:GREGORIAN
METHOD:PUBLISH
X-ORIGINAL-URL:https://www.lemontmartre.ca
X-WR-CALDESC:Évènements pour Le Montmartre
REFRESH-INTERVAL;VALUE=DURATION:PT1H
X-Robots-Tag:noindex
X-PUBLISHED-TTL:PT1H
BEGIN:VTIMEZONE
TZID:America/Montreal
BEGIN:DAYLIGHT
TZOFFSETFROM:-0500
TZOFFSETTO:-0400
TZNAME:EDT
DTSTART:20240310T070000
END:DAYLIGHT
BEGIN:STANDARD
TZOFFSETFROM:-0400
TZOFFSETTO:-0500
TZNAME:EST
DTSTART:20241103T060000
END:STANDARD
BEGIN:DAYLIGHT
TZOFFSETFROM:-0500
TZOFFSETTO:-0400
TZNAME:EDT
DTSTART:20250309T070000
END:DAYLIGHT
BEGIN:STANDARD
TZOFFSETFROM:-0400
TZOFFSETTO:-0500
TZNAME:EST
DTSTART:20251102T060000
END:STANDARD
BEGIN:DAYLIGHT
TZOFFSETFROM:-0500
TZOFFSETTO:-0400
TZNAME:EDT
DTSTART:20260308T070000
END:DAYLIGHT
BEGIN:STANDARD
TZOFFSETFROM:-0400
TZOFFSETTO:-0500
TZNAME:EST
DTSTART:20261101T060000
END:STANDARD
END:VTIMEZONE
BEGIN:VEVENT
DTSTART;TZID=America/Montreal:20251015T111500
DTEND;TZID=America/Montreal:20251015T115500
DTSTAMP:20260425T134958
CREATED:20250918T022646Z
LAST-MODIFIED:20250918T022647Z
UID:10009734-1760526900-1760529300@www.lemontmartre.ca
SUMMARY:Messe de 11h15
DESCRIPTION:
URL:https://www.lemontmartre.ca/event/messe-de-11h15/2025-10-15/
LOCATION:Sanctuaire Montmartre\, 1679\, chemin Saint-Louis\, Québec\, Québec\, G1S 1G5\, Canada
CATEGORIES:Offices religieux
END:VEVENT
BEGIN:VEVENT
DTSTART;TZID=America/Montreal:20251015T072500
DTEND;TZID=America/Montreal:20251015T075500
DTSTAMP:20260425T134958
CREATED:20251012T135346Z
LAST-MODIFIED:20251012T135347Z
UID:10009613-1760513100-1760514900@www.lemontmartre.ca
SUMMARY:Messe de 7h25
DESCRIPTION:Religieux du Montmartre et d’autres personnes qui le désirent.
URL:https://www.lemontmartre.ca/event/messe-de-7h25-2-2-2-2/2025-10-15/
LOCATION:Sanctuaire Montmartre\, 1679\, chemin Saint-Louis\, Québec\, Québec\, G1S 1G5\, Canada
CATEGORIES:Offices religieux
END:VEVENT
BEGIN:VEVENT
DTSTART;TZID=America/Montreal:20251015T070000
DTEND;TZID=America/Montreal:20251015T072000
DTSTAMP:20260425T134958
CREATED:20251012T134426Z
LAST-MODIFIED:20251012T134538Z
UID:10009080-1760511600-1760512800@www.lemontmartre.ca
SUMMARY:Laudes
DESCRIPTION:
URL:https://www.lemontmartre.ca/event/laudes-3-2/2025-10-15/
LOCATION:Sanctuaire Montmartre\, 1679\, chemin Saint-Louis\, Québec\, Québec\, G1S 1G5\, Canada
CATEGORIES:Offices religieux
END:VEVENT
BEGIN:VEVENT
DTSTART;TZID=America/Montreal:20251014T173000
DTEND;TZID=America/Montreal:20251014T175000
DTSTAMP:20260425T134958
CREATED:20250918T031829Z
LAST-MODIFIED:20250918T031829Z
UID:10009864-1760463000-1760464200@www.lemontmartre.ca
SUMMARY:Vêpres
DESCRIPTION:
URL:https://www.lemontmartre.ca/event/vepres/2025-10-14/
LOCATION:Sanctuaire Montmartre\, 1679\, chemin Saint-Louis\, Québec\, Québec\, G1S 1G5\, Canada
CATEGORIES:Offices religieux
END:VEVENT
BEGIN:VEVENT
DTSTART;TZID=America/Montreal:20251014T111500
DTEND;TZID=America/Montreal:20251014T115500
DTSTAMP:20260425T134958
CREATED:20250918T022646Z
LAST-MODIFIED:20250918T022647Z
UID:10009733-1760440500-1760442900@www.lemontmartre.ca
SUMMARY:Messe de 11h15
DESCRIPTION:
URL:https://www.lemontmartre.ca/event/messe-de-11h15/2025-10-14/
LOCATION:Sanctuaire Montmartre\, 1679\, chemin Saint-Louis\, Québec\, Québec\, G1S 1G5\, Canada
CATEGORIES:Offices religieux
END:VEVENT
BEGIN:VEVENT
DTSTART;TZID=America/Montreal:20251014T072500
DTEND;TZID=America/Montreal:20251014T075500
DTSTAMP:20260425T134958
CREATED:20251012T135346Z
LAST-MODIFIED:20251012T135347Z
UID:10009667-1760426700-1760428500@www.lemontmartre.ca
SUMMARY:Messe de 7h25
DESCRIPTION:Religieux du Montmartre et d’autres personnes qui le désirent.
URL:https://www.lemontmartre.ca/event/messe-de-7h25-2-2-2-2/2025-10-14/
LOCATION:Sanctuaire Montmartre\, 1679\, chemin Saint-Louis\, Québec\, Québec\, G1S 1G5\, Canada
CATEGORIES:Offices religieux
END:VEVENT
BEGIN:VEVENT
DTSTART;TZID=America/Montreal:20251014T070000
DTEND;TZID=America/Montreal:20251014T072000
DTSTAMP:20260425T134958
CREATED:20251012T134426Z
LAST-MODIFIED:20251012T134538Z
UID:10009079-1760425200-1760426400@www.lemontmartre.ca
SUMMARY:Laudes
DESCRIPTION:
URL:https://www.lemontmartre.ca/event/laudes-3-2/2025-10-14/
LOCATION:Sanctuaire Montmartre\, 1679\, chemin Saint-Louis\, Québec\, Québec\, G1S 1G5\, Canada
CATEGORIES:Offices religieux
END:VEVENT
BEGIN:VEVENT
DTSTART;TZID=America/Montreal:20251013T173000
DTEND;TZID=America/Montreal:20251013T175000
DTSTAMP:20260425T134958
CREATED:20250918T031829Z
LAST-MODIFIED:20250918T031829Z
UID:10009863-1760376600-1760377800@www.lemontmartre.ca
SUMMARY:Vêpres
DESCRIPTION:
URL:https://www.lemontmartre.ca/event/vepres/2025-10-13/
LOCATION:Sanctuaire Montmartre\, 1679\, chemin Saint-Louis\, Québec\, Québec\, G1S 1G5\, Canada
CATEGORIES:Offices religieux
END:VEVENT
BEGIN:VEVENT
DTSTART;TZID=America/Montreal:20251013T111500
DTEND;TZID=America/Montreal:20251013T115500
DTSTAMP:20260425T134959
CREATED:20250918T022646Z
LAST-MODIFIED:20250918T022647Z
UID:10009732-1760354100-1760356500@www.lemontmartre.ca
SUMMARY:Messe de 11h15
DESCRIPTION:
URL:https://www.lemontmartre.ca/event/messe-de-11h15/2025-10-13/
LOCATION:Sanctuaire Montmartre\, 1679\, chemin Saint-Louis\, Québec\, Québec\, G1S 1G5\, Canada
CATEGORIES:Offices religieux
END:VEVENT
BEGIN:VEVENT
DTSTART;TZID=America/Montreal:20251013T080000
DTEND;TZID=America/Montreal:20251013T082000
DTSTAMP:20260425T134959
CREATED:20251012T135748Z
LAST-MODIFIED:20251012T135831Z
UID:10010135-1760342400-1760343600@www.lemontmartre.ca
SUMMARY:Laudes
DESCRIPTION:
URL:https://www.lemontmartre.ca/event/laudes/
LOCATION:Sanctuaire Montmartre\, 1679\, chemin Saint-Louis\, Québec\, Québec\, G1S 1G5\, Canada
CATEGORIES:Offices religieux
END:VEVENT
BEGIN:VEVENT
DTSTART;TZID=America/Montreal:20251012T080000
DTEND;TZID=America/Montreal:20251012T082000
DTSTAMP:20260425T134959
CREATED:20250918T015045Z
LAST-MODIFIED:20250918T015045Z
UID:10009506-1760256000-1760257200@www.lemontmartre.ca
SUMMARY:Laudes
DESCRIPTION:
URL:https://www.lemontmartre.ca/event/laudes-2-2/2025-10-12/
LOCATION:Sanctuaire Montmartre\, 1679\, chemin Saint-Louis\, Québec\, Québec\, G1S 1G5\, Canada
CATEGORIES:Offices religieux
END:VEVENT
BEGIN:VEVENT
DTSTART;TZID=America/Montreal:20251011T173000
DTEND;TZID=America/Montreal:20251011T175000
DTSTAMP:20260425T134959
CREATED:20250918T031829Z
LAST-MODIFIED:20250918T031829Z
UID:10009862-1760203800-1760205000@www.lemontmartre.ca
SUMMARY:Vêpres
DESCRIPTION:
URL:https://www.lemontmartre.ca/event/vepres/2025-10-11/
LOCATION:Sanctuaire Montmartre\, 1679\, chemin Saint-Louis\, Québec\, Québec\, G1S 1G5\, Canada
CATEGORIES:Offices religieux
END:VEVENT
BEGIN:VEVENT
DTSTART;TZID=America/Montreal:20251011T111500
DTEND;TZID=America/Montreal:20251011T115500
DTSTAMP:20260425T134959
CREATED:20250918T022646Z
LAST-MODIFIED:20250918T022647Z
UID:10009731-1760181300-1760183700@www.lemontmartre.ca
SUMMARY:Messe de 11h15
DESCRIPTION:
URL:https://www.lemontmartre.ca/event/messe-de-11h15/2025-10-11/
LOCATION:Sanctuaire Montmartre\, 1679\, chemin Saint-Louis\, Québec\, Québec\, G1S 1G5\, Canada
CATEGORIES:Offices religieux
END:VEVENT
BEGIN:VEVENT
DTSTART;TZID=America/Montreal:20251010T173000
DTEND;TZID=America/Montreal:20251010T175000
DTSTAMP:20260425T134959
CREATED:20250918T031829Z
LAST-MODIFIED:20250918T031829Z
UID:10009861-1760117400-1760118600@www.lemontmartre.ca
SUMMARY:Vêpres
DESCRIPTION:
URL:https://www.lemontmartre.ca/event/vepres/2025-10-10/
LOCATION:Sanctuaire Montmartre\, 1679\, chemin Saint-Louis\, Québec\, Québec\, G1S 1G5\, Canada
CATEGORIES:Offices religieux
END:VEVENT
BEGIN:VEVENT
DTSTART;TZID=America/Montreal:20251010T170000
DTEND;TZID=America/Montreal:20251010T173000
DTSTAMP:20260425T134959
CREATED:20250918T023504Z
LAST-MODIFIED:20250918T023842Z
UID:10009803-1760115600-1760117400@www.lemontmartre.ca
SUMMARY:Adoration
DESCRIPTION:Saint Sacrement
URL:https://www.lemontmartre.ca/event/adoration/2025-10-10/
LOCATION:Sanctuaire Montmartre\, 1679\, chemin Saint-Louis\, Québec\, Québec\, G1S 1G5\, Canada
CATEGORIES:Offices religieux
END:VEVENT
BEGIN:VEVENT
DTSTART;TZID=America/Montreal:20251010T111500
DTEND;TZID=America/Montreal:20251010T115500
DTSTAMP:20260425T134959
CREATED:20250918T022646Z
LAST-MODIFIED:20250918T022647Z
UID:10009730-1760094900-1760097300@www.lemontmartre.ca
SUMMARY:Messe de 11h15
DESCRIPTION:
URL:https://www.lemontmartre.ca/event/messe-de-11h15/2025-10-10/
LOCATION:Sanctuaire Montmartre\, 1679\, chemin Saint-Louis\, Québec\, Québec\, G1S 1G5\, Canada
CATEGORIES:Offices religieux
END:VEVENT
BEGIN:VEVENT
DTSTART;TZID=America/Montreal:20251010T072500
DTEND;TZID=America/Montreal:20251010T075500
DTSTAMP:20260425T134959
CREATED:20251012T135346Z
LAST-MODIFIED:20251012T135347Z
UID:10010112-1760081100-1760082900@www.lemontmartre.ca
SUMMARY:Messe de 7h25
DESCRIPTION:Religieux du Montmartre et d’autres personnes qui le désirent.
URL:https://www.lemontmartre.ca/event/messe-de-7h25-2-2-2-2/2025-10-10/
LOCATION:Sanctuaire Montmartre\, 1679\, chemin Saint-Louis\, Québec\, Québec\, G1S 1G5\, Canada
CATEGORIES:Offices religieux
END:VEVENT
BEGIN:VEVENT
DTSTART;TZID=America/Montreal:20251010T070000
DTEND;TZID=America/Montreal:20251010T072000
DTSTAMP:20260425T134959
CREATED:20251012T134426Z
LAST-MODIFIED:20251012T134538Z
UID:10010069-1760079600-1760080800@www.lemontmartre.ca
SUMMARY:Laudes
DESCRIPTION:
URL:https://www.lemontmartre.ca/event/laudes-3-2/2025-10-10/
LOCATION:Sanctuaire Montmartre\, 1679\, chemin Saint-Louis\, Québec\, Québec\, G1S 1G5\, Canada
CATEGORIES:Offices religieux
END:VEVENT
BEGIN:VEVENT
DTSTART;TZID=America/Montreal:20251009T173000
DTEND;TZID=America/Montreal:20251009T175000
DTSTAMP:20260425T134959
CREATED:20250918T031829Z
LAST-MODIFIED:20250918T031829Z
UID:10009860-1760031000-1760032200@www.lemontmartre.ca
SUMMARY:Vêpres
DESCRIPTION:
URL:https://www.lemontmartre.ca/event/vepres/2025-10-09/
LOCATION:Sanctuaire Montmartre\, 1679\, chemin Saint-Louis\, Québec\, Québec\, G1S 1G5\, Canada
CATEGORIES:Offices religieux
END:VEVENT
BEGIN:VEVENT
DTSTART;TZID=America/Montreal:20251009T111500
DTEND;TZID=America/Montreal:20251009T115500
DTSTAMP:20260425T134959
CREATED:20250918T022646Z
LAST-MODIFIED:20250918T022647Z
UID:10009729-1760008500-1760010900@www.lemontmartre.ca
SUMMARY:Messe de 11h15
DESCRIPTION:
URL:https://www.lemontmartre.ca/event/messe-de-11h15/2025-10-09/
LOCATION:Sanctuaire Montmartre\, 1679\, chemin Saint-Louis\, Québec\, Québec\, G1S 1G5\, Canada
CATEGORIES:Offices religieux
END:VEVENT
BEGIN:VEVENT
DTSTART;TZID=America/Montreal:20251009T072500
DTEND;TZID=America/Montreal:20251009T075500
DTSTAMP:20260425T134959
CREATED:20251012T135346Z
LAST-MODIFIED:20251012T135347Z
UID:10010111-1759994700-1759996500@www.lemontmartre.ca
SUMMARY:Messe de 7h25
DESCRIPTION:Religieux du Montmartre et d’autres personnes qui le désirent.
URL:https://www.lemontmartre.ca/event/messe-de-7h25-2-2-2-2/2025-10-09/
LOCATION:Sanctuaire Montmartre\, 1679\, chemin Saint-Louis\, Québec\, Québec\, G1S 1G5\, Canada
CATEGORIES:Offices religieux
END:VEVENT
BEGIN:VEVENT
DTSTART;TZID=America/Montreal:20251009T070000
DTEND;TZID=America/Montreal:20251009T072000
DTSTAMP:20260425T134959
CREATED:20251012T134426Z
LAST-MODIFIED:20251012T134538Z
UID:10010068-1759993200-1759994400@www.lemontmartre.ca
SUMMARY:Laudes
DESCRIPTION:
URL:https://www.lemontmartre.ca/event/laudes-3-2/2025-10-09/
LOCATION:Sanctuaire Montmartre\, 1679\, chemin Saint-Louis\, Québec\, Québec\, G1S 1G5\, Canada
CATEGORIES:Offices religieux
END:VEVENT
BEGIN:VEVENT
DTSTART;TZID=America/Montreal:20251008T173000
DTEND;TZID=America/Montreal:20251008T175000
DTSTAMP:20260425T134959
CREATED:20250918T031829Z
LAST-MODIFIED:20250918T031829Z
UID:10009859-1759944600-1759945800@www.lemontmartre.ca
SUMMARY:Vêpres
DESCRIPTION:
URL:https://www.lemontmartre.ca/event/vepres/2025-10-08/
LOCATION:Sanctuaire Montmartre\, 1679\, chemin Saint-Louis\, Québec\, Québec\, G1S 1G5\, Canada
CATEGORIES:Offices religieux
END:VEVENT
BEGIN:VEVENT
DTSTART;TZID=America/Montreal:20251008T111500
DTEND;TZID=America/Montreal:20251008T115500
DTSTAMP:20260425T134959
CREATED:20250918T022646Z
LAST-MODIFIED:20250918T022647Z
UID:10009728-1759922100-1759924500@www.lemontmartre.ca
SUMMARY:Messe de 11h15
DESCRIPTION:
URL:https://www.lemontmartre.ca/event/messe-de-11h15/2025-10-08/
LOCATION:Sanctuaire Montmartre\, 1679\, chemin Saint-Louis\, Québec\, Québec\, G1S 1G5\, Canada
CATEGORIES:Offices religieux
END:VEVENT
BEGIN:VEVENT
DTSTART;TZID=America/Montreal:20251008T072500
DTEND;TZID=America/Montreal:20251008T075500
DTSTAMP:20260425T134959
CREATED:20251012T135346Z
LAST-MODIFIED:20251012T135347Z
UID:10010110-1759908300-1759910100@www.lemontmartre.ca
SUMMARY:Messe de 7h25
DESCRIPTION:Religieux du Montmartre et d’autres personnes qui le désirent.
URL:https://www.lemontmartre.ca/event/messe-de-7h25-2-2-2-2/2025-10-08/
LOCATION:Sanctuaire Montmartre\, 1679\, chemin Saint-Louis\, Québec\, Québec\, G1S 1G5\, Canada
CATEGORIES:Offices religieux
END:VEVENT
BEGIN:VEVENT
DTSTART;TZID=America/Montreal:20251008T070000
DTEND;TZID=America/Montreal:20251008T072000
DTSTAMP:20260425T134959
CREATED:20251012T134426Z
LAST-MODIFIED:20251012T134538Z
UID:10010067-1759906800-1759908000@www.lemontmartre.ca
SUMMARY:Laudes
DESCRIPTION:
URL:https://www.lemontmartre.ca/event/laudes-3-2/2025-10-08/
LOCATION:Sanctuaire Montmartre\, 1679\, chemin Saint-Louis\, Québec\, Québec\, G1S 1G5\, Canada
CATEGORIES:Offices religieux
END:VEVENT
BEGIN:VEVENT
DTSTART;TZID=America/Montreal:20251007T173000
DTEND;TZID=America/Montreal:20251007T175000
DTSTAMP:20260425T134959
CREATED:20250918T031829Z
LAST-MODIFIED:20250918T031829Z
UID:10009858-1759858200-1759859400@www.lemontmartre.ca
SUMMARY:Vêpres
DESCRIPTION:
URL:https://www.lemontmartre.ca/event/vepres/2025-10-07/
LOCATION:Sanctuaire Montmartre\, 1679\, chemin Saint-Louis\, Québec\, Québec\, G1S 1G5\, Canada
CATEGORIES:Offices religieux
END:VEVENT
BEGIN:VEVENT
DTSTART;TZID=America/Montreal:20251007T111500
DTEND;TZID=America/Montreal:20251007T115500
DTSTAMP:20260425T134959
CREATED:20250918T022646Z
LAST-MODIFIED:20250918T022647Z
UID:10009727-1759835700-1759838100@www.lemontmartre.ca
SUMMARY:Messe de 11h15
DESCRIPTION:
URL:https://www.lemontmartre.ca/event/messe-de-11h15/2025-10-07/
LOCATION:Sanctuaire Montmartre\, 1679\, chemin Saint-Louis\, Québec\, Québec\, G1S 1G5\, Canada
CATEGORIES:Offices religieux
END:VEVENT
BEGIN:VEVENT
DTSTART;TZID=America/Montreal:20251007T072500
DTEND;TZID=America/Montreal:20251007T075500
DTSTAMP:20260425T134959
CREATED:20251012T135346Z
LAST-MODIFIED:20251012T135347Z
UID:10010109-1759821900-1759823700@www.lemontmartre.ca
SUMMARY:Messe de 7h25
DESCRIPTION:Religieux du Montmartre et d’autres personnes qui le désirent.
URL:https://www.lemontmartre.ca/event/messe-de-7h25-2-2-2-2/2025-10-07/
LOCATION:Sanctuaire Montmartre\, 1679\, chemin Saint-Louis\, Québec\, Québec\, G1S 1G5\, Canada
CATEGORIES:Offices religieux
END:VEVENT
BEGIN:VEVENT
DTSTART;TZID=America/Montreal:20251007T070000
DTEND;TZID=America/Montreal:20251007T072000
DTSTAMP:20260425T134959
CREATED:20251012T134426Z
LAST-MODIFIED:20251012T134538Z
UID:10010066-1759820400-1759821600@www.lemontmartre.ca
SUMMARY:Laudes
DESCRIPTION:
URL:https://www.lemontmartre.ca/event/laudes-3-2/2025-10-07/
LOCATION:Sanctuaire Montmartre\, 1679\, chemin Saint-Louis\, Québec\, Québec\, G1S 1G5\, Canada
CATEGORIES:Offices religieux
END:VEVENT
END:VCALENDAR