BEGIN:VCALENDAR
VERSION:2.0
PRODID:-//Le Montmartre - ECPv6.15.13//NONSGML v1.0//EN
CALSCALE:GREGORIAN
METHOD:PUBLISH
X-WR-CALNAME:Le Montmartre
X-ORIGINAL-URL:https://www.lemontmartre.ca
X-WR-CALDESC:Évènements pour Le Montmartre
REFRESH-INTERVAL;VALUE=DURATION:PT1H
X-Robots-Tag:noindex
X-PUBLISHED-TTL:PT1H
BEGIN:VTIMEZONE
TZID:America/Montreal
BEGIN:DAYLIGHT
TZOFFSETFROM:-0500
TZOFFSETTO:-0400
TZNAME:EDT
DTSTART:20240310T070000
END:DAYLIGHT
BEGIN:STANDARD
TZOFFSETFROM:-0400
TZOFFSETTO:-0500
TZNAME:EST
DTSTART:20241103T060000
END:STANDARD
BEGIN:DAYLIGHT
TZOFFSETFROM:-0500
TZOFFSETTO:-0400
TZNAME:EDT
DTSTART:20250309T070000
END:DAYLIGHT
BEGIN:STANDARD
TZOFFSETFROM:-0400
TZOFFSETTO:-0500
TZNAME:EST
DTSTART:20251102T060000
END:STANDARD
BEGIN:DAYLIGHT
TZOFFSETFROM:-0500
TZOFFSETTO:-0400
TZNAME:EDT
DTSTART:20260308T070000
END:DAYLIGHT
BEGIN:STANDARD
TZOFFSETFROM:-0400
TZOFFSETTO:-0500
TZNAME:EST
DTSTART:20261101T060000
END:STANDARD
END:VTIMEZONE
BEGIN:VEVENT
DTSTART;TZID=America/Montreal:20251114T072500
DTEND;TZID=America/Montreal:20251114T075500
DTSTAMP:20260424T220917
CREATED:20251012T135346Z
LAST-MODIFIED:20251012T135347Z
UID:10009631-1763105100-1763106900@www.lemontmartre.ca
SUMMARY:Messe de 7h25
DESCRIPTION:Religieux du Montmartre et d’autres personnes qui le désirent.
URL:https://www.lemontmartre.ca/event/messe-de-7h25-2-2-2-2/2025-11-14/
LOCATION:Sanctuaire Montmartre\, 1679\, chemin Saint-Louis\, Québec\, Québec\, G1S 1G5\, Canada
CATEGORIES:Offices religieux
END:VEVENT
BEGIN:VEVENT
DTSTART;TZID=America/Montreal:20251114T070000
DTEND;TZID=America/Montreal:20251114T072000
DTSTAMP:20260424T220917
CREATED:20251012T134426Z
LAST-MODIFIED:20251012T134538Z
UID:10009102-1763103600-1763104800@www.lemontmartre.ca
SUMMARY:Laudes
DESCRIPTION:
URL:https://www.lemontmartre.ca/event/laudes-3-2/2025-11-14/
LOCATION:Sanctuaire Montmartre\, 1679\, chemin Saint-Louis\, Québec\, Québec\, G1S 1G5\, Canada
CATEGORIES:Offices religieux
END:VEVENT
BEGIN:VEVENT
DTSTART;TZID=America/Montreal:20251113T173000
DTEND;TZID=America/Montreal:20251113T175000
DTSTAMP:20260424T220917
CREATED:20250918T031829Z
LAST-MODIFIED:20250918T031829Z
UID:10009890-1763055000-1763056200@www.lemontmartre.ca
SUMMARY:Vêpres
DESCRIPTION:
URL:https://www.lemontmartre.ca/event/vepres/2025-11-13/
LOCATION:Sanctuaire Montmartre\, 1679\, chemin Saint-Louis\, Québec\, Québec\, G1S 1G5\, Canada
CATEGORIES:Offices religieux
END:VEVENT
BEGIN:VEVENT
DTSTART;TZID=America/Montreal:20251113T111500
DTEND;TZID=America/Montreal:20251113T115500
DTSTAMP:20260424T220917
CREATED:20250918T022646Z
LAST-MODIFIED:20250918T022647Z
UID:10009759-1763032500-1763034900@www.lemontmartre.ca
SUMMARY:Messe de 11h15
DESCRIPTION:
URL:https://www.lemontmartre.ca/event/messe-de-11h15/2025-11-13/
LOCATION:Sanctuaire Montmartre\, 1679\, chemin Saint-Louis\, Québec\, Québec\, G1S 1G5\, Canada
CATEGORIES:Offices religieux
END:VEVENT
BEGIN:VEVENT
DTSTART;TZID=America/Montreal:20251113T072500
DTEND;TZID=America/Montreal:20251113T075500
DTSTAMP:20260424T220917
CREATED:20251012T135346Z
LAST-MODIFIED:20251012T135347Z
UID:10009630-1763018700-1763020500@www.lemontmartre.ca
SUMMARY:Messe de 7h25
DESCRIPTION:Religieux du Montmartre et d’autres personnes qui le désirent.
URL:https://www.lemontmartre.ca/event/messe-de-7h25-2-2-2-2/2025-11-13/
LOCATION:Sanctuaire Montmartre\, 1679\, chemin Saint-Louis\, Québec\, Québec\, G1S 1G5\, Canada
CATEGORIES:Offices religieux
END:VEVENT
BEGIN:VEVENT
DTSTART;TZID=America/Montreal:20251113T070000
DTEND;TZID=America/Montreal:20251113T072000
DTSTAMP:20260424T220917
CREATED:20251012T134426Z
LAST-MODIFIED:20251012T134538Z
UID:10009101-1763017200-1763018400@www.lemontmartre.ca
SUMMARY:Laudes
DESCRIPTION:
URL:https://www.lemontmartre.ca/event/laudes-3-2/2025-11-13/
LOCATION:Sanctuaire Montmartre\, 1679\, chemin Saint-Louis\, Québec\, Québec\, G1S 1G5\, Canada
CATEGORIES:Offices religieux
END:VEVENT
BEGIN:VEVENT
DTSTART;TZID=America/Montreal:20251112T173000
DTEND;TZID=America/Montreal:20251112T175000
DTSTAMP:20260424T220917
CREATED:20250918T031829Z
LAST-MODIFIED:20250918T031829Z
UID:10009889-1762968600-1762969800@www.lemontmartre.ca
SUMMARY:Vêpres
DESCRIPTION:
URL:https://www.lemontmartre.ca/event/vepres/2025-11-12/
LOCATION:Sanctuaire Montmartre\, 1679\, chemin Saint-Louis\, Québec\, Québec\, G1S 1G5\, Canada
CATEGORIES:Offices religieux
END:VEVENT
BEGIN:VEVENT
DTSTART;TZID=America/Montreal:20251112T150000
DTEND;TZID=America/Montreal:20251112T163000
DTSTAMP:20260424T220917
CREATED:20250904T034728Z
LAST-MODIFIED:20250907T181935Z
UID:10008645-1762959600-1762965000@www.lemontmartre.ca
SUMMARY:« DIEU EST À L’OEUVRE EN CET ÂGE ». « Les Actes des Apôtres » comme compagnon de route pour la vie heureuse et unifiée au quotidien
DESCRIPTION:Formation avec Édouard Shatov\, augustin de l’Assomption
URL:https://www.lemontmartre.ca/event/dieu-est-a-loeuvre-en-cet-age-les-actes-des-apotres-comme-compagnon-de-route-pour-la-vie-heureuse-et-unifiee-au-quotidien/2025-11-12/
LOCATION:Sanctuaire Montmartre\, 1679\, chemin Saint-Louis\, Québec\, Québec\, G1S 1G5\, Canada
CATEGORIES:Formations
ATTACH;FMTTYPE=image/jpeg:https://www.lemontmartre.ca/wp-content/uploads/2025/09/Formation-Actes-des-Apotres-Edouard-Shatov-Automne-2025-Facebook-Cover-scaled.jpg
END:VEVENT
BEGIN:VEVENT
DTSTART;TZID=America/Montreal:20251112T111500
DTEND;TZID=America/Montreal:20251112T115500
DTSTAMP:20260424T220917
CREATED:20250918T022646Z
LAST-MODIFIED:20250918T022647Z
UID:10009758-1762946100-1762948500@www.lemontmartre.ca
SUMMARY:Messe de 11h15
DESCRIPTION:
URL:https://www.lemontmartre.ca/event/messe-de-11h15/2025-11-12/
LOCATION:Sanctuaire Montmartre\, 1679\, chemin Saint-Louis\, Québec\, Québec\, G1S 1G5\, Canada
CATEGORIES:Offices religieux
END:VEVENT
BEGIN:VEVENT
DTSTART;TZID=America/Montreal:20251112T072500
DTEND;TZID=America/Montreal:20251112T075500
DTSTAMP:20260424T220917
CREATED:20251012T135346Z
LAST-MODIFIED:20251012T135347Z
UID:10009629-1762932300-1762934100@www.lemontmartre.ca
SUMMARY:Messe de 7h25
DESCRIPTION:Religieux du Montmartre et d’autres personnes qui le désirent.
URL:https://www.lemontmartre.ca/event/messe-de-7h25-2-2-2-2/2025-11-12/
LOCATION:Sanctuaire Montmartre\, 1679\, chemin Saint-Louis\, Québec\, Québec\, G1S 1G5\, Canada
CATEGORIES:Offices religieux
END:VEVENT
BEGIN:VEVENT
DTSTART;TZID=America/Montreal:20251112T070000
DTEND;TZID=America/Montreal:20251112T072000
DTSTAMP:20260424T220917
CREATED:20251012T134426Z
LAST-MODIFIED:20251012T134538Z
UID:10009100-1762930800-1762932000@www.lemontmartre.ca
SUMMARY:Laudes
DESCRIPTION:
URL:https://www.lemontmartre.ca/event/laudes-3-2/2025-11-12/
LOCATION:Sanctuaire Montmartre\, 1679\, chemin Saint-Louis\, Québec\, Québec\, G1S 1G5\, Canada
CATEGORIES:Offices religieux
END:VEVENT
BEGIN:VEVENT
DTSTART;TZID=America/Montreal:20251111T173000
DTEND;TZID=America/Montreal:20251111T175000
DTSTAMP:20260424T220917
CREATED:20250918T031829Z
LAST-MODIFIED:20250918T031829Z
UID:10009888-1762882200-1762883400@www.lemontmartre.ca
SUMMARY:Vêpres
DESCRIPTION:
URL:https://www.lemontmartre.ca/event/vepres/2025-11-11/
LOCATION:Sanctuaire Montmartre\, 1679\, chemin Saint-Louis\, Québec\, Québec\, G1S 1G5\, Canada
CATEGORIES:Offices religieux
END:VEVENT
BEGIN:VEVENT
DTSTART;TZID=America/Montreal:20251111T111500
DTEND;TZID=America/Montreal:20251111T115500
DTSTAMP:20260424T220917
CREATED:20250918T022646Z
LAST-MODIFIED:20250918T022647Z
UID:10009757-1762859700-1762862100@www.lemontmartre.ca
SUMMARY:Messe de 11h15
DESCRIPTION:
URL:https://www.lemontmartre.ca/event/messe-de-11h15/2025-11-11/
LOCATION:Sanctuaire Montmartre\, 1679\, chemin Saint-Louis\, Québec\, Québec\, G1S 1G5\, Canada
CATEGORIES:Offices religieux
END:VEVENT
BEGIN:VEVENT
DTSTART;TZID=America/Montreal:20251111T072500
DTEND;TZID=America/Montreal:20251111T075500
DTSTAMP:20260424T220917
CREATED:20251012T135346Z
LAST-MODIFIED:20251012T135347Z
UID:10009679-1762845900-1762847700@www.lemontmartre.ca
SUMMARY:Messe de 7h25
DESCRIPTION:Religieux du Montmartre et d’autres personnes qui le désirent.
URL:https://www.lemontmartre.ca/event/messe-de-7h25-2-2-2-2/2025-11-11/
LOCATION:Sanctuaire Montmartre\, 1679\, chemin Saint-Louis\, Québec\, Québec\, G1S 1G5\, Canada
CATEGORIES:Offices religieux
END:VEVENT
BEGIN:VEVENT
DTSTART;TZID=America/Montreal:20251111T070000
DTEND;TZID=America/Montreal:20251111T072000
DTSTAMP:20260424T220917
CREATED:20251012T134426Z
LAST-MODIFIED:20251012T134538Z
UID:10009099-1762844400-1762845600@www.lemontmartre.ca
SUMMARY:Laudes
DESCRIPTION:
URL:https://www.lemontmartre.ca/event/laudes-3-2/2025-11-11/
LOCATION:Sanctuaire Montmartre\, 1679\, chemin Saint-Louis\, Québec\, Québec\, G1S 1G5\, Canada
CATEGORIES:Offices religieux
END:VEVENT
BEGIN:VEVENT
DTSTART;TZID=America/Montreal:20251110T173000
DTEND;TZID=America/Montreal:20251110T175000
DTSTAMP:20260424T220917
CREATED:20250918T031829Z
LAST-MODIFIED:20250918T031829Z
UID:10009887-1762795800-1762797000@www.lemontmartre.ca
SUMMARY:Vêpres
DESCRIPTION:
URL:https://www.lemontmartre.ca/event/vepres/2025-11-10/
LOCATION:Sanctuaire Montmartre\, 1679\, chemin Saint-Louis\, Québec\, Québec\, G1S 1G5\, Canada
CATEGORIES:Offices religieux
END:VEVENT
BEGIN:VEVENT
DTSTART;TZID=America/Montreal:20251110T111500
DTEND;TZID=America/Montreal:20251110T115500
DTSTAMP:20260424T220917
CREATED:20250918T022646Z
LAST-MODIFIED:20250918T022647Z
UID:10009756-1762773300-1762775700@www.lemontmartre.ca
SUMMARY:Messe de 11h15
DESCRIPTION:
URL:https://www.lemontmartre.ca/event/messe-de-11h15/2025-11-10/
LOCATION:Sanctuaire Montmartre\, 1679\, chemin Saint-Louis\, Québec\, Québec\, G1S 1G5\, Canada
CATEGORIES:Offices religieux
END:VEVENT
BEGIN:VEVENT
DTSTART;TZID=America/Montreal:20251110T072500
DTEND;TZID=America/Montreal:20251110T075500
DTSTAMP:20260424T220917
CREATED:20251012T135346Z
LAST-MODIFIED:20251012T135347Z
UID:10009628-1762759500-1762761300@www.lemontmartre.ca
SUMMARY:Messe de 7h25
DESCRIPTION:Religieux du Montmartre et d’autres personnes qui le désirent.
URL:https://www.lemontmartre.ca/event/messe-de-7h25-2-2-2-2/2025-11-10/
LOCATION:Sanctuaire Montmartre\, 1679\, chemin Saint-Louis\, Québec\, Québec\, G1S 1G5\, Canada
CATEGORIES:Offices religieux
END:VEVENT
BEGIN:VEVENT
DTSTART;TZID=America/Montreal:20251110T070000
DTEND;TZID=America/Montreal:20251110T072000
DTSTAMP:20260424T220917
CREATED:20251012T134426Z
LAST-MODIFIED:20251012T134538Z
UID:10010078-1762758000-1762759200@www.lemontmartre.ca
SUMMARY:Laudes
DESCRIPTION:
URL:https://www.lemontmartre.ca/event/laudes-3-2/2025-11-10/
LOCATION:Sanctuaire Montmartre\, 1679\, chemin Saint-Louis\, Québec\, Québec\, G1S 1G5\, Canada
CATEGORIES:Offices religieux
END:VEVENT
BEGIN:VEVENT
DTSTART;TZID=America/Montreal:20251109T080000
DTEND;TZID=America/Montreal:20251109T082000
DTSTAMP:20260424T220917
CREATED:20250918T015045Z
LAST-MODIFIED:20250918T015045Z
UID:10009510-1762675200-1762676400@www.lemontmartre.ca
SUMMARY:Laudes
DESCRIPTION:
URL:https://www.lemontmartre.ca/event/laudes-2-2/2025-11-09/
LOCATION:Sanctuaire Montmartre\, 1679\, chemin Saint-Louis\, Québec\, Québec\, G1S 1G5\, Canada
CATEGORIES:Offices religieux
END:VEVENT
BEGIN:VEVENT
DTSTART;TZID=America/Montreal:20251109T072500
DTEND;TZID=America/Montreal:20251109T075500
DTSTAMP:20260424T220917
CREATED:20251012T135346Z
LAST-MODIFIED:20251012T135347Z
UID:10010121-1762673100-1762674900@www.lemontmartre.ca
SUMMARY:Messe de 7h25
DESCRIPTION:Religieux du Montmartre et d’autres personnes qui le désirent.
URL:https://www.lemontmartre.ca/event/messe-de-7h25-2-2-2-2/2025-11-09/
LOCATION:Sanctuaire Montmartre\, 1679\, chemin Saint-Louis\, Québec\, Québec\, G1S 1G5\, Canada
CATEGORIES:Offices religieux
END:VEVENT
BEGIN:VEVENT
DTSTART;TZID=America/Montreal:20251108T173000
DTEND;TZID=America/Montreal:20251108T175000
DTSTAMP:20260424T220918
CREATED:20250918T031829Z
LAST-MODIFIED:20250918T031829Z
UID:10009886-1762623000-1762624200@www.lemontmartre.ca
SUMMARY:Vêpres
DESCRIPTION:
URL:https://www.lemontmartre.ca/event/vepres/2025-11-08/
LOCATION:Sanctuaire Montmartre\, 1679\, chemin Saint-Louis\, Québec\, Québec\, G1S 1G5\, Canada
CATEGORIES:Offices religieux
END:VEVENT
BEGIN:VEVENT
DTSTART;TZID=America/Montreal:20251108T111500
DTEND;TZID=America/Montreal:20251108T115500
DTSTAMP:20260424T220918
CREATED:20250918T022646Z
LAST-MODIFIED:20250918T022647Z
UID:10009755-1762600500-1762602900@www.lemontmartre.ca
SUMMARY:Messe de 11h15
DESCRIPTION:
URL:https://www.lemontmartre.ca/event/messe-de-11h15/2025-11-08/
LOCATION:Sanctuaire Montmartre\, 1679\, chemin Saint-Louis\, Québec\, Québec\, G1S 1G5\, Canada
CATEGORIES:Offices religieux
END:VEVENT
BEGIN:VEVENT
DTSTART;TZID=America/Montreal:20251108T072500
DTEND;TZID=America/Montreal:20251108T075500
DTSTAMP:20260424T220918
CREATED:20251012T135346Z
LAST-MODIFIED:20251012T135347Z
UID:10010120-1762586700-1762588500@www.lemontmartre.ca
SUMMARY:Messe de 7h25
DESCRIPTION:Religieux du Montmartre et d’autres personnes qui le désirent.
URL:https://www.lemontmartre.ca/event/messe-de-7h25-2-2-2-2/2025-11-08/
LOCATION:Sanctuaire Montmartre\, 1679\, chemin Saint-Louis\, Québec\, Québec\, G1S 1G5\, Canada
CATEGORIES:Offices religieux
END:VEVENT
BEGIN:VEVENT
DTSTART;TZID=America/Montreal:20251107T193000
DTEND;TZID=America/Montreal:20251107T210000
DTSTAMP:20260424T220918
CREATED:20250918T025359Z
LAST-MODIFIED:20250918T030835Z
UID:10009827-1762543800-1762549200@www.lemontmartre.ca
SUMMARY:Messe suivie de l'adoration avec chants de Taizé
DESCRIPTION:
URL:https://www.lemontmartre.ca/event/messe-et-adoration/2025-11-07/
LOCATION:Sanctuaire Montmartre\, 1679\, chemin Saint-Louis\, Québec\, Québec\, G1S 1G5\, Canada
CATEGORIES:Offices religieux
END:VEVENT
BEGIN:VEVENT
DTSTART;TZID=America/Montreal:20251107T173000
DTEND;TZID=America/Montreal:20251107T175000
DTSTAMP:20260424T220918
CREATED:20250918T031829Z
LAST-MODIFIED:20250918T031829Z
UID:10009885-1762536600-1762537800@www.lemontmartre.ca
SUMMARY:Vêpres
DESCRIPTION:
URL:https://www.lemontmartre.ca/event/vepres/2025-11-07/
LOCATION:Sanctuaire Montmartre\, 1679\, chemin Saint-Louis\, Québec\, Québec\, G1S 1G5\, Canada
CATEGORIES:Offices religieux
END:VEVENT
BEGIN:VEVENT
DTSTART;TZID=America/Montreal:20251107T111500
DTEND;TZID=America/Montreal:20251107T115500
DTSTAMP:20260424T220918
CREATED:20250918T022646Z
LAST-MODIFIED:20250918T022647Z
UID:10009754-1762514100-1762516500@www.lemontmartre.ca
SUMMARY:Messe de 11h15
DESCRIPTION:
URL:https://www.lemontmartre.ca/event/messe-de-11h15/2025-11-07/
LOCATION:Sanctuaire Montmartre\, 1679\, chemin Saint-Louis\, Québec\, Québec\, G1S 1G5\, Canada
CATEGORIES:Offices religieux
END:VEVENT
BEGIN:VEVENT
DTSTART;TZID=America/Montreal:20251107T072500
DTEND;TZID=America/Montreal:20251107T075500
DTSTAMP:20260424T220918
CREATED:20251012T135346Z
LAST-MODIFIED:20251012T135347Z
UID:10010119-1762500300-1762502100@www.lemontmartre.ca
SUMMARY:Messe de 7h25
DESCRIPTION:Religieux du Montmartre et d’autres personnes qui le désirent.
URL:https://www.lemontmartre.ca/event/messe-de-7h25-2-2-2-2/2025-11-07/
LOCATION:Sanctuaire Montmartre\, 1679\, chemin Saint-Louis\, Québec\, Québec\, G1S 1G5\, Canada
CATEGORIES:Offices religieux
END:VEVENT
BEGIN:VEVENT
DTSTART;TZID=America/Montreal:20251107T070000
DTEND;TZID=America/Montreal:20251107T072000
DTSTAMP:20260424T220918
CREATED:20251012T134426Z
LAST-MODIFIED:20251012T134538Z
UID:10009097-1762498800-1762500000@www.lemontmartre.ca
SUMMARY:Laudes
DESCRIPTION:
URL:https://www.lemontmartre.ca/event/laudes-3-2/2025-11-07/
LOCATION:Sanctuaire Montmartre\, 1679\, chemin Saint-Louis\, Québec\, Québec\, G1S 1G5\, Canada
CATEGORIES:Offices religieux
END:VEVENT
BEGIN:VEVENT
DTSTART;TZID=America/Montreal:20251106T173000
DTEND;TZID=America/Montreal:20251106T175000
DTSTAMP:20260424T220918
CREATED:20250918T031829Z
LAST-MODIFIED:20250918T031829Z
UID:10009884-1762450200-1762451400@www.lemontmartre.ca
SUMMARY:Vêpres
DESCRIPTION:
URL:https://www.lemontmartre.ca/event/vepres/2025-11-06/
LOCATION:Sanctuaire Montmartre\, 1679\, chemin Saint-Louis\, Québec\, Québec\, G1S 1G5\, Canada
CATEGORIES:Offices religieux
END:VEVENT
END:VCALENDAR