BEGIN:VCALENDAR
VERSION:2.0
PRODID:-//Le Montmartre - ECPv6.15.13//NONSGML v1.0//EN
CALSCALE:GREGORIAN
METHOD:PUBLISH
X-WR-CALNAME:Le Montmartre
X-ORIGINAL-URL:https://www.lemontmartre.ca
X-WR-CALDESC:Évènements pour Le Montmartre
REFRESH-INTERVAL;VALUE=DURATION:PT1H
X-Robots-Tag:noindex
X-PUBLISHED-TTL:PT1H
BEGIN:VTIMEZONE
TZID:America/Montreal
BEGIN:DAYLIGHT
TZOFFSETFROM:-0500
TZOFFSETTO:-0400
TZNAME:EDT
DTSTART:20240310T070000
END:DAYLIGHT
BEGIN:STANDARD
TZOFFSETFROM:-0400
TZOFFSETTO:-0500
TZNAME:EST
DTSTART:20241103T060000
END:STANDARD
BEGIN:DAYLIGHT
TZOFFSETFROM:-0500
TZOFFSETTO:-0400
TZNAME:EDT
DTSTART:20250309T070000
END:DAYLIGHT
BEGIN:STANDARD
TZOFFSETFROM:-0400
TZOFFSETTO:-0500
TZNAME:EST
DTSTART:20251102T060000
END:STANDARD
BEGIN:DAYLIGHT
TZOFFSETFROM:-0500
TZOFFSETTO:-0400
TZNAME:EDT
DTSTART:20260308T070000
END:DAYLIGHT
BEGIN:STANDARD
TZOFFSETFROM:-0400
TZOFFSETTO:-0500
TZNAME:EST
DTSTART:20261101T060000
END:STANDARD
END:VTIMEZONE
BEGIN:VEVENT
DTSTART;TZID=America/Montreal:20251201T173000
DTEND;TZID=America/Montreal:20251201T175000
DTSTAMP:20260424T013531
CREATED:20250918T031829Z
LAST-MODIFIED:20250918T031829Z
UID:10009905-1764610200-1764611400@www.lemontmartre.ca
SUMMARY:Vêpres
DESCRIPTION:
URL:https://www.lemontmartre.ca/event/vepres/2025-12-01/
LOCATION:Sanctuaire Montmartre\, 1679\, chemin Saint-Louis\, Québec\, Québec\, G1S 1G5\, Canada
CATEGORIES:Offices religieux
END:VEVENT
BEGIN:VEVENT
DTSTART;TZID=America/Montreal:20251201T111500
DTEND;TZID=America/Montreal:20251201T115500
DTSTAMP:20260424T013531
CREATED:20250918T022646Z
LAST-MODIFIED:20250918T022647Z
UID:10009774-1764587700-1764590100@www.lemontmartre.ca
SUMMARY:Messe de 11h15
DESCRIPTION:
URL:https://www.lemontmartre.ca/event/messe-de-11h15/2025-12-01/
LOCATION:Sanctuaire Montmartre\, 1679\, chemin Saint-Louis\, Québec\, Québec\, G1S 1G5\, Canada
CATEGORIES:Offices religieux
END:VEVENT
BEGIN:VEVENT
DTSTART;TZID=America/Montreal:20251201T072500
DTEND;TZID=America/Montreal:20251201T075500
DTSTAMP:20260424T013531
CREATED:20251012T135346Z
LAST-MODIFIED:20251012T135347Z
UID:10009640-1764573900-1764575700@www.lemontmartre.ca
SUMMARY:Messe de 7h25
DESCRIPTION:Religieux du Montmartre et d’autres personnes qui le désirent.
URL:https://www.lemontmartre.ca/event/messe-de-7h25-2-2-2-2/2025-12-01/
LOCATION:Sanctuaire Montmartre\, 1679\, chemin Saint-Louis\, Québec\, Québec\, G1S 1G5\, Canada
CATEGORIES:Offices religieux
END:VEVENT
BEGIN:VEVENT
DTSTART;TZID=America/Montreal:20251201T070000
DTEND;TZID=America/Montreal:20251201T072000
DTSTAMP:20260424T013531
CREATED:20251012T134426Z
LAST-MODIFIED:20251012T134538Z
UID:10010081-1764572400-1764573600@www.lemontmartre.ca
SUMMARY:Laudes
DESCRIPTION:
URL:https://www.lemontmartre.ca/event/laudes-3-2/2025-12-01/
LOCATION:Sanctuaire Montmartre\, 1679\, chemin Saint-Louis\, Québec\, Québec\, G1S 1G5\, Canada
CATEGORIES:Offices religieux
END:VEVENT
BEGIN:VEVENT
DTSTART;TZID=America/Montreal:20251130T080000
DTEND;TZID=America/Montreal:20251130T082000
DTSTAMP:20260424T013531
CREATED:20250918T015045Z
LAST-MODIFIED:20250918T015045Z
UID:10009513-1764489600-1764490800@www.lemontmartre.ca
SUMMARY:Laudes
DESCRIPTION:
URL:https://www.lemontmartre.ca/event/laudes-2-2/2025-11-30/
LOCATION:Sanctuaire Montmartre\, 1679\, chemin Saint-Louis\, Québec\, Québec\, G1S 1G5\, Canada
CATEGORIES:Offices religieux
END:VEVENT
BEGIN:VEVENT
DTSTART;TZID=America/Montreal:20251130T072500
DTEND;TZID=America/Montreal:20251130T075500
DTSTAMP:20260424T013531
CREATED:20251012T135346Z
LAST-MODIFIED:20251012T135347Z
UID:10010127-1764487500-1764489300@www.lemontmartre.ca
SUMMARY:Messe de 7h25
DESCRIPTION:Religieux du Montmartre et d’autres personnes qui le désirent.
URL:https://www.lemontmartre.ca/event/messe-de-7h25-2-2-2-2/2025-11-30/
LOCATION:Sanctuaire Montmartre\, 1679\, chemin Saint-Louis\, Québec\, Québec\, G1S 1G5\, Canada
CATEGORIES:Offices religieux
END:VEVENT
BEGIN:VEVENT
DTSTART;TZID=America/Montreal:20251129T173000
DTEND;TZID=America/Montreal:20251129T175000
DTSTAMP:20260424T013531
CREATED:20250918T031829Z
LAST-MODIFIED:20250918T031829Z
UID:10009904-1764437400-1764438600@www.lemontmartre.ca
SUMMARY:Vêpres
DESCRIPTION:
URL:https://www.lemontmartre.ca/event/vepres/2025-11-29/
LOCATION:Sanctuaire Montmartre\, 1679\, chemin Saint-Louis\, Québec\, Québec\, G1S 1G5\, Canada
CATEGORIES:Offices religieux
END:VEVENT
BEGIN:VEVENT
DTSTART;TZID=America/Montreal:20251129T111500
DTEND;TZID=America/Montreal:20251129T115500
DTSTAMP:20260424T013531
CREATED:20250918T022646Z
LAST-MODIFIED:20250918T022647Z
UID:10009773-1764414900-1764417300@www.lemontmartre.ca
SUMMARY:Messe de 11h15
DESCRIPTION:
URL:https://www.lemontmartre.ca/event/messe-de-11h15/2025-11-29/
LOCATION:Sanctuaire Montmartre\, 1679\, chemin Saint-Louis\, Québec\, Québec\, G1S 1G5\, Canada
CATEGORIES:Offices religieux
END:VEVENT
BEGIN:VEVENT
DTSTART;TZID=America/Montreal:20251129T072500
DTEND;TZID=America/Montreal:20251129T075500
DTSTAMP:20260424T013531
CREATED:20251012T135346Z
LAST-MODIFIED:20251012T135347Z
UID:10010126-1764401100-1764402900@www.lemontmartre.ca
SUMMARY:Messe de 7h25
DESCRIPTION:Religieux du Montmartre et d’autres personnes qui le désirent.
URL:https://www.lemontmartre.ca/event/messe-de-7h25-2-2-2-2/2025-11-29/
LOCATION:Sanctuaire Montmartre\, 1679\, chemin Saint-Louis\, Québec\, Québec\, G1S 1G5\, Canada
CATEGORIES:Offices religieux
END:VEVENT
BEGIN:VEVENT
DTSTART;TZID=America/Montreal:20251128T173000
DTEND;TZID=America/Montreal:20251128T175000
DTSTAMP:20260424T013531
CREATED:20250918T031829Z
LAST-MODIFIED:20250918T031829Z
UID:10009903-1764351000-1764352200@www.lemontmartre.ca
SUMMARY:Vêpres
DESCRIPTION:
URL:https://www.lemontmartre.ca/event/vepres/2025-11-28/
LOCATION:Sanctuaire Montmartre\, 1679\, chemin Saint-Louis\, Québec\, Québec\, G1S 1G5\, Canada
CATEGORIES:Offices religieux
END:VEVENT
BEGIN:VEVENT
DTSTART;TZID=America/Montreal:20251128T170000
DTEND;TZID=America/Montreal:20251128T173000
DTSTAMP:20260424T013531
CREATED:20250918T023504Z
LAST-MODIFIED:20250918T023842Z
UID:10009810-1764349200-1764351000@www.lemontmartre.ca
SUMMARY:Adoration
DESCRIPTION:Saint Sacrement
URL:https://www.lemontmartre.ca/event/adoration/2025-11-28/
LOCATION:Sanctuaire Montmartre\, 1679\, chemin Saint-Louis\, Québec\, Québec\, G1S 1G5\, Canada
CATEGORIES:Offices religieux
END:VEVENT
BEGIN:VEVENT
DTSTART;TZID=America/Montreal:20251128T111500
DTEND;TZID=America/Montreal:20251128T115500
DTSTAMP:20260424T013531
CREATED:20250918T022646Z
LAST-MODIFIED:20250918T022647Z
UID:10009772-1764328500-1764330900@www.lemontmartre.ca
SUMMARY:Messe de 11h15
DESCRIPTION:
URL:https://www.lemontmartre.ca/event/messe-de-11h15/2025-11-28/
LOCATION:Sanctuaire Montmartre\, 1679\, chemin Saint-Louis\, Québec\, Québec\, G1S 1G5\, Canada
CATEGORIES:Offices religieux
END:VEVENT
BEGIN:VEVENT
DTSTART;TZID=America/Montreal:20251128T072500
DTEND;TZID=America/Montreal:20251128T075500
DTSTAMP:20260424T013531
CREATED:20251012T135346Z
LAST-MODIFIED:20251012T135347Z
UID:10009639-1764314700-1764316500@www.lemontmartre.ca
SUMMARY:Messe de 7h25
DESCRIPTION:Religieux du Montmartre et d’autres personnes qui le désirent.
URL:https://www.lemontmartre.ca/event/messe-de-7h25-2-2-2-2/2025-11-28/
LOCATION:Sanctuaire Montmartre\, 1679\, chemin Saint-Louis\, Québec\, Québec\, G1S 1G5\, Canada
CATEGORIES:Offices religieux
END:VEVENT
BEGIN:VEVENT
DTSTART;TZID=America/Montreal:20251128T070000
DTEND;TZID=America/Montreal:20251128T072000
DTSTAMP:20260424T013531
CREATED:20251012T134426Z
LAST-MODIFIED:20251012T134538Z
UID:10009112-1764313200-1764314400@www.lemontmartre.ca
SUMMARY:Laudes
DESCRIPTION:
URL:https://www.lemontmartre.ca/event/laudes-3-2/2025-11-28/
LOCATION:Sanctuaire Montmartre\, 1679\, chemin Saint-Louis\, Québec\, Québec\, G1S 1G5\, Canada
CATEGORIES:Offices religieux
END:VEVENT
BEGIN:VEVENT
DTSTART;TZID=America/Montreal:20251127T173000
DTEND;TZID=America/Montreal:20251127T175000
DTSTAMP:20260424T013531
CREATED:20250918T031829Z
LAST-MODIFIED:20250918T031829Z
UID:10009902-1764264600-1764265800@www.lemontmartre.ca
SUMMARY:Vêpres
DESCRIPTION:
URL:https://www.lemontmartre.ca/event/vepres/2025-11-27/
LOCATION:Sanctuaire Montmartre\, 1679\, chemin Saint-Louis\, Québec\, Québec\, G1S 1G5\, Canada
CATEGORIES:Offices religieux
END:VEVENT
BEGIN:VEVENT
DTSTART;TZID=America/Montreal:20251127T111500
DTEND;TZID=America/Montreal:20251127T115500
DTSTAMP:20260424T013531
CREATED:20250918T022646Z
LAST-MODIFIED:20250918T022647Z
UID:10009771-1764242100-1764244500@www.lemontmartre.ca
SUMMARY:Messe de 11h15
DESCRIPTION:
URL:https://www.lemontmartre.ca/event/messe-de-11h15/2025-11-27/
LOCATION:Sanctuaire Montmartre\, 1679\, chemin Saint-Louis\, Québec\, Québec\, G1S 1G5\, Canada
CATEGORIES:Offices religieux
END:VEVENT
BEGIN:VEVENT
DTSTART;TZID=America/Montreal:20251127T072500
DTEND;TZID=America/Montreal:20251127T075500
DTSTAMP:20260424T013531
CREATED:20251012T135346Z
LAST-MODIFIED:20251012T135347Z
UID:10009638-1764228300-1764230100@www.lemontmartre.ca
SUMMARY:Messe de 7h25
DESCRIPTION:Religieux du Montmartre et d’autres personnes qui le désirent.
URL:https://www.lemontmartre.ca/event/messe-de-7h25-2-2-2-2/2025-11-27/
LOCATION:Sanctuaire Montmartre\, 1679\, chemin Saint-Louis\, Québec\, Québec\, G1S 1G5\, Canada
CATEGORIES:Offices religieux
END:VEVENT
BEGIN:VEVENT
DTSTART;TZID=America/Montreal:20251127T070000
DTEND;TZID=America/Montreal:20251127T072000
DTSTAMP:20260424T013531
CREATED:20251012T134426Z
LAST-MODIFIED:20251012T134538Z
UID:10009111-1764226800-1764228000@www.lemontmartre.ca
SUMMARY:Laudes
DESCRIPTION:
URL:https://www.lemontmartre.ca/event/laudes-3-2/2025-11-27/
LOCATION:Sanctuaire Montmartre\, 1679\, chemin Saint-Louis\, Québec\, Québec\, G1S 1G5\, Canada
CATEGORIES:Offices religieux
END:VEVENT
BEGIN:VEVENT
DTSTART;TZID=America/Montreal:20251126T173000
DTEND;TZID=America/Montreal:20251126T175000
DTSTAMP:20260424T013531
CREATED:20250918T031829Z
LAST-MODIFIED:20250918T031829Z
UID:10009901-1764178200-1764179400@www.lemontmartre.ca
SUMMARY:Vêpres
DESCRIPTION:
URL:https://www.lemontmartre.ca/event/vepres/2025-11-26/
LOCATION:Sanctuaire Montmartre\, 1679\, chemin Saint-Louis\, Québec\, Québec\, G1S 1G5\, Canada
CATEGORIES:Offices religieux
END:VEVENT
BEGIN:VEVENT
DTSTART;TZID=America/Montreal:20251126T150000
DTEND;TZID=America/Montreal:20251126T163000
DTSTAMP:20260424T013531
CREATED:20250904T034728Z
LAST-MODIFIED:20250907T181935Z
UID:10008649-1764169200-1764174600@www.lemontmartre.ca
SUMMARY:« DIEU EST À L’OEUVRE EN CET ÂGE ». « Les Actes des Apôtres » comme compagnon de route pour la vie heureuse et unifiée au quotidien
DESCRIPTION:Formation avec Édouard Shatov\, augustin de l’Assomption
URL:https://www.lemontmartre.ca/event/dieu-est-a-loeuvre-en-cet-age-les-actes-des-apotres-comme-compagnon-de-route-pour-la-vie-heureuse-et-unifiee-au-quotidien/2025-11-26/
LOCATION:Sanctuaire Montmartre\, 1679\, chemin Saint-Louis\, Québec\, Québec\, G1S 1G5\, Canada
CATEGORIES:Formations
ATTACH;FMTTYPE=image/jpeg:https://www.lemontmartre.ca/wp-content/uploads/2025/09/Formation-Actes-des-Apotres-Edouard-Shatov-Automne-2025-Facebook-Cover-scaled.jpg
END:VEVENT
BEGIN:VEVENT
DTSTART;TZID=America/Montreal:20251126T111500
DTEND;TZID=America/Montreal:20251126T115500
DTSTAMP:20260424T013531
CREATED:20250918T022646Z
LAST-MODIFIED:20250918T022647Z
UID:10009770-1764155700-1764158100@www.lemontmartre.ca
SUMMARY:Messe de 11h15
DESCRIPTION:
URL:https://www.lemontmartre.ca/event/messe-de-11h15/2025-11-26/
LOCATION:Sanctuaire Montmartre\, 1679\, chemin Saint-Louis\, Québec\, Québec\, G1S 1G5\, Canada
CATEGORIES:Offices religieux
END:VEVENT
BEGIN:VEVENT
DTSTART;TZID=America/Montreal:20251126T072500
DTEND;TZID=America/Montreal:20251126T075500
DTSTAMP:20260424T013531
CREATED:20251012T135346Z
LAST-MODIFIED:20251012T135347Z
UID:10009637-1764141900-1764143700@www.lemontmartre.ca
SUMMARY:Messe de 7h25
DESCRIPTION:Religieux du Montmartre et d’autres personnes qui le désirent.
URL:https://www.lemontmartre.ca/event/messe-de-7h25-2-2-2-2/2025-11-26/
LOCATION:Sanctuaire Montmartre\, 1679\, chemin Saint-Louis\, Québec\, Québec\, G1S 1G5\, Canada
CATEGORIES:Offices religieux
END:VEVENT
BEGIN:VEVENT
DTSTART;TZID=America/Montreal:20251126T070000
DTEND;TZID=America/Montreal:20251126T072000
DTSTAMP:20260424T013531
CREATED:20251012T134426Z
LAST-MODIFIED:20251012T134538Z
UID:10009110-1764140400-1764141600@www.lemontmartre.ca
SUMMARY:Laudes
DESCRIPTION:
URL:https://www.lemontmartre.ca/event/laudes-3-2/2025-11-26/
LOCATION:Sanctuaire Montmartre\, 1679\, chemin Saint-Louis\, Québec\, Québec\, G1S 1G5\, Canada
CATEGORIES:Offices religieux
END:VEVENT
BEGIN:VEVENT
DTSTART;TZID=America/Montreal:20251125T173000
DTEND;TZID=America/Montreal:20251125T175000
DTSTAMP:20260424T013531
CREATED:20250918T031829Z
LAST-MODIFIED:20250918T031829Z
UID:10009900-1764091800-1764093000@www.lemontmartre.ca
SUMMARY:Vêpres
DESCRIPTION:
URL:https://www.lemontmartre.ca/event/vepres/2025-11-25/
LOCATION:Sanctuaire Montmartre\, 1679\, chemin Saint-Louis\, Québec\, Québec\, G1S 1G5\, Canada
CATEGORIES:Offices religieux
END:VEVENT
BEGIN:VEVENT
DTSTART;TZID=America/Montreal:20251125T111500
DTEND;TZID=America/Montreal:20251125T115500
DTSTAMP:20260424T013531
CREATED:20250918T022646Z
LAST-MODIFIED:20250918T022647Z
UID:10009769-1764069300-1764071700@www.lemontmartre.ca
SUMMARY:Messe de 11h15
DESCRIPTION:
URL:https://www.lemontmartre.ca/event/messe-de-11h15/2025-11-25/
LOCATION:Sanctuaire Montmartre\, 1679\, chemin Saint-Louis\, Québec\, Québec\, G1S 1G5\, Canada
CATEGORIES:Offices religieux
END:VEVENT
BEGIN:VEVENT
DTSTART;TZID=America/Montreal:20251125T072500
DTEND;TZID=America/Montreal:20251125T075500
DTSTAMP:20260424T013531
CREATED:20251012T135346Z
LAST-MODIFIED:20251012T135347Z
UID:10009685-1764055500-1764057300@www.lemontmartre.ca
SUMMARY:Messe de 7h25
DESCRIPTION:Religieux du Montmartre et d’autres personnes qui le désirent.
URL:https://www.lemontmartre.ca/event/messe-de-7h25-2-2-2-2/2025-11-25/
LOCATION:Sanctuaire Montmartre\, 1679\, chemin Saint-Louis\, Québec\, Québec\, G1S 1G5\, Canada
CATEGORIES:Offices religieux
END:VEVENT
BEGIN:VEVENT
DTSTART;TZID=America/Montreal:20251125T070000
DTEND;TZID=America/Montreal:20251125T072000
DTSTAMP:20260424T013531
CREATED:20251012T134426Z
LAST-MODIFIED:20251012T134538Z
UID:10009109-1764054000-1764055200@www.lemontmartre.ca
SUMMARY:Laudes
DESCRIPTION:
URL:https://www.lemontmartre.ca/event/laudes-3-2/2025-11-25/
LOCATION:Sanctuaire Montmartre\, 1679\, chemin Saint-Louis\, Québec\, Québec\, G1S 1G5\, Canada
CATEGORIES:Offices religieux
END:VEVENT
BEGIN:VEVENT
DTSTART;TZID=America/Montreal:20251124T173000
DTEND;TZID=America/Montreal:20251124T175000
DTSTAMP:20260424T013531
CREATED:20250918T031829Z
LAST-MODIFIED:20250918T031829Z
UID:10009899-1764005400-1764006600@www.lemontmartre.ca
SUMMARY:Vêpres
DESCRIPTION:
URL:https://www.lemontmartre.ca/event/vepres/2025-11-24/
LOCATION:Sanctuaire Montmartre\, 1679\, chemin Saint-Louis\, Québec\, Québec\, G1S 1G5\, Canada
CATEGORIES:Offices religieux
END:VEVENT
BEGIN:VEVENT
DTSTART;TZID=America/Montreal:20251124T111500
DTEND;TZID=America/Montreal:20251124T115500
DTSTAMP:20260424T013531
CREATED:20250918T022646Z
LAST-MODIFIED:20250918T022647Z
UID:10009768-1763982900-1763985300@www.lemontmartre.ca
SUMMARY:Messe de 11h15
DESCRIPTION:
URL:https://www.lemontmartre.ca/event/messe-de-11h15/2025-11-24/
LOCATION:Sanctuaire Montmartre\, 1679\, chemin Saint-Louis\, Québec\, Québec\, G1S 1G5\, Canada
CATEGORIES:Offices religieux
END:VEVENT
BEGIN:VEVENT
DTSTART;TZID=America/Montreal:20251124T072500
DTEND;TZID=America/Montreal:20251124T075500
DTSTAMP:20260424T013531
CREATED:20251012T135346Z
LAST-MODIFIED:20251012T135347Z
UID:10009636-1763969100-1763970900@www.lemontmartre.ca
SUMMARY:Messe de 7h25
DESCRIPTION:Religieux du Montmartre et d’autres personnes qui le désirent.
URL:https://www.lemontmartre.ca/event/messe-de-7h25-2-2-2-2/2025-11-24/
LOCATION:Sanctuaire Montmartre\, 1679\, chemin Saint-Louis\, Québec\, Québec\, G1S 1G5\, Canada
CATEGORIES:Offices religieux
END:VEVENT
END:VCALENDAR