BEGIN:VCALENDAR
VERSION:2.0
PRODID:-//Le Montmartre - ECPv6.15.13//NONSGML v1.0//EN
CALSCALE:GREGORIAN
METHOD:PUBLISH
X-ORIGINAL-URL:https://www.lemontmartre.ca
X-WR-CALDESC:Évènements pour Le Montmartre
REFRESH-INTERVAL;VALUE=DURATION:PT1H
X-Robots-Tag:noindex
X-PUBLISHED-TTL:PT1H
BEGIN:VTIMEZONE
TZID:America/Montreal
BEGIN:DAYLIGHT
TZOFFSETFROM:-0500
TZOFFSETTO:-0400
TZNAME:EDT
DTSTART:20240310T070000
END:DAYLIGHT
BEGIN:STANDARD
TZOFFSETFROM:-0400
TZOFFSETTO:-0500
TZNAME:EST
DTSTART:20241103T060000
END:STANDARD
BEGIN:DAYLIGHT
TZOFFSETFROM:-0500
TZOFFSETTO:-0400
TZNAME:EDT
DTSTART:20250309T070000
END:DAYLIGHT
BEGIN:STANDARD
TZOFFSETFROM:-0400
TZOFFSETTO:-0500
TZNAME:EST
DTSTART:20251102T060000
END:STANDARD
BEGIN:DAYLIGHT
TZOFFSETFROM:-0500
TZOFFSETTO:-0400
TZNAME:EDT
DTSTART:20260308T070000
END:DAYLIGHT
BEGIN:STANDARD
TZOFFSETFROM:-0400
TZOFFSETTO:-0500
TZNAME:EST
DTSTART:20261101T060000
END:STANDARD
END:VTIMEZONE
BEGIN:VEVENT
DTSTART;TZID=America/Montreal:20251213T072500
DTEND;TZID=America/Montreal:20251213T075500
DTSTAMP:20260423T160529
CREATED:20251012T135346Z
LAST-MODIFIED:20251012T135347Z
UID:10010131-1765610700-1765612500@www.lemontmartre.ca
SUMMARY:Messe de 7h25
DESCRIPTION:Religieux du Montmartre et d’autres personnes qui le désirent.
URL:https://www.lemontmartre.ca/event/messe-de-7h25-2-2-2-2/2025-12-13/
LOCATION:Sanctuaire Montmartre\, 1679\, chemin Saint-Louis\, Québec\, Québec\, G1S 1G5\, Canada
CATEGORIES:Offices religieux
END:VEVENT
BEGIN:VEVENT
DTSTART;TZID=America/Montreal:20251212T173000
DTEND;TZID=America/Montreal:20251212T175000
DTSTAMP:20260423T160529
CREATED:20250918T031829Z
LAST-MODIFIED:20250918T031829Z
UID:10009915-1765560600-1765561800@www.lemontmartre.ca
SUMMARY:Vêpres
DESCRIPTION:
URL:https://www.lemontmartre.ca/event/vepres/2025-12-12/
LOCATION:Sanctuaire Montmartre\, 1679\, chemin Saint-Louis\, Québec\, Québec\, G1S 1G5\, Canada
CATEGORIES:Offices religieux
END:VEVENT
BEGIN:VEVENT
DTSTART;TZID=America/Montreal:20251212T170000
DTEND;TZID=America/Montreal:20251212T173000
DTSTAMP:20260423T160529
CREATED:20250918T023504Z
LAST-MODIFIED:20250918T023842Z
UID:10009812-1765558800-1765560600@www.lemontmartre.ca
SUMMARY:Adoration
DESCRIPTION:Saint Sacrement
URL:https://www.lemontmartre.ca/event/adoration/2025-12-12/
LOCATION:Sanctuaire Montmartre\, 1679\, chemin Saint-Louis\, Québec\, Québec\, G1S 1G5\, Canada
CATEGORIES:Offices religieux
END:VEVENT
BEGIN:VEVENT
DTSTART;TZID=America/Montreal:20251212T111500
DTEND;TZID=America/Montreal:20251212T115500
DTSTAMP:20260423T160529
CREATED:20250918T022646Z
LAST-MODIFIED:20250918T022647Z
UID:10009784-1765538100-1765540500@www.lemontmartre.ca
SUMMARY:Messe de 11h15
DESCRIPTION:
URL:https://www.lemontmartre.ca/event/messe-de-11h15/2025-12-12/
LOCATION:Sanctuaire Montmartre\, 1679\, chemin Saint-Louis\, Québec\, Québec\, G1S 1G5\, Canada
CATEGORIES:Offices religieux
END:VEVENT
BEGIN:VEVENT
DTSTART;TZID=America/Montreal:20251212T072500
DTEND;TZID=America/Montreal:20251212T075500
DTSTAMP:20260423T160529
CREATED:20251012T135346Z
LAST-MODIFIED:20251012T135347Z
UID:10009647-1765524300-1765526100@www.lemontmartre.ca
SUMMARY:Messe de 7h25
DESCRIPTION:Religieux du Montmartre et d’autres personnes qui le désirent.
URL:https://www.lemontmartre.ca/event/messe-de-7h25-2-2-2-2/2025-12-12/
LOCATION:Sanctuaire Montmartre\, 1679\, chemin Saint-Louis\, Québec\, Québec\, G1S 1G5\, Canada
CATEGORIES:Offices religieux
END:VEVENT
BEGIN:VEVENT
DTSTART;TZID=America/Montreal:20251212T070000
DTEND;TZID=America/Montreal:20251212T072000
DTSTAMP:20260423T160529
CREATED:20251012T134426Z
LAST-MODIFIED:20251012T134538Z
UID:10009122-1765522800-1765524000@www.lemontmartre.ca
SUMMARY:Laudes
DESCRIPTION:
URL:https://www.lemontmartre.ca/event/laudes-3-2/2025-12-12/
LOCATION:Sanctuaire Montmartre\, 1679\, chemin Saint-Louis\, Québec\, Québec\, G1S 1G5\, Canada
CATEGORIES:Offices religieux
END:VEVENT
BEGIN:VEVENT
DTSTART;TZID=America/Montreal:20251211T173000
DTEND;TZID=America/Montreal:20251211T175000
DTSTAMP:20260423T160529
CREATED:20250918T031829Z
LAST-MODIFIED:20250918T031829Z
UID:10009914-1765474200-1765475400@www.lemontmartre.ca
SUMMARY:Vêpres
DESCRIPTION:
URL:https://www.lemontmartre.ca/event/vepres/2025-12-11/
LOCATION:Sanctuaire Montmartre\, 1679\, chemin Saint-Louis\, Québec\, Québec\, G1S 1G5\, Canada
CATEGORIES:Offices religieux
END:VEVENT
BEGIN:VEVENT
DTSTART;TZID=America/Montreal:20251211T111500
DTEND;TZID=America/Montreal:20251211T115500
DTSTAMP:20260423T160529
CREATED:20250918T022646Z
LAST-MODIFIED:20250918T022647Z
UID:10009783-1765451700-1765454100@www.lemontmartre.ca
SUMMARY:Messe de 11h15
DESCRIPTION:
URL:https://www.lemontmartre.ca/event/messe-de-11h15/2025-12-11/
LOCATION:Sanctuaire Montmartre\, 1679\, chemin Saint-Louis\, Québec\, Québec\, G1S 1G5\, Canada
CATEGORIES:Offices religieux
END:VEVENT
BEGIN:VEVENT
DTSTART;TZID=America/Montreal:20251211T072500
DTEND;TZID=America/Montreal:20251211T075500
DTSTAMP:20260423T160529
CREATED:20251012T135346Z
LAST-MODIFIED:20251012T135347Z
UID:10009646-1765437900-1765439700@www.lemontmartre.ca
SUMMARY:Messe de 7h25
DESCRIPTION:Religieux du Montmartre et d’autres personnes qui le désirent.
URL:https://www.lemontmartre.ca/event/messe-de-7h25-2-2-2-2/2025-12-11/
LOCATION:Sanctuaire Montmartre\, 1679\, chemin Saint-Louis\, Québec\, Québec\, G1S 1G5\, Canada
CATEGORIES:Offices religieux
END:VEVENT
BEGIN:VEVENT
DTSTART;TZID=America/Montreal:20251211T070000
DTEND;TZID=America/Montreal:20251211T072000
DTSTAMP:20260423T160529
CREATED:20251012T134426Z
LAST-MODIFIED:20251012T134538Z
UID:10009121-1765436400-1765437600@www.lemontmartre.ca
SUMMARY:Laudes
DESCRIPTION:
URL:https://www.lemontmartre.ca/event/laudes-3-2/2025-12-11/
LOCATION:Sanctuaire Montmartre\, 1679\, chemin Saint-Louis\, Québec\, Québec\, G1S 1G5\, Canada
CATEGORIES:Offices religieux
END:VEVENT
BEGIN:VEVENT
DTSTART;TZID=America/Montreal:20251210T173000
DTEND;TZID=America/Montreal:20251210T175000
DTSTAMP:20260423T160529
CREATED:20250918T031829Z
LAST-MODIFIED:20250918T031829Z
UID:10009913-1765387800-1765389000@www.lemontmartre.ca
SUMMARY:Vêpres
DESCRIPTION:
URL:https://www.lemontmartre.ca/event/vepres/2025-12-10/
LOCATION:Sanctuaire Montmartre\, 1679\, chemin Saint-Louis\, Québec\, Québec\, G1S 1G5\, Canada
CATEGORIES:Offices religieux
END:VEVENT
BEGIN:VEVENT
DTSTART;TZID=America/Montreal:20251210T111500
DTEND;TZID=America/Montreal:20251210T115500
DTSTAMP:20260423T160529
CREATED:20250918T022646Z
LAST-MODIFIED:20250918T022647Z
UID:10009782-1765365300-1765367700@www.lemontmartre.ca
SUMMARY:Messe de 11h15
DESCRIPTION:
URL:https://www.lemontmartre.ca/event/messe-de-11h15/2025-12-10/
LOCATION:Sanctuaire Montmartre\, 1679\, chemin Saint-Louis\, Québec\, Québec\, G1S 1G5\, Canada
CATEGORIES:Offices religieux
END:VEVENT
BEGIN:VEVENT
DTSTART;TZID=America/Montreal:20251210T072500
DTEND;TZID=America/Montreal:20251210T075500
DTSTAMP:20260423T160529
CREATED:20251012T135346Z
LAST-MODIFIED:20251012T135347Z
UID:10009645-1765351500-1765353300@www.lemontmartre.ca
SUMMARY:Messe de 7h25
DESCRIPTION:Religieux du Montmartre et d’autres personnes qui le désirent.
URL:https://www.lemontmartre.ca/event/messe-de-7h25-2-2-2-2/2025-12-10/
LOCATION:Sanctuaire Montmartre\, 1679\, chemin Saint-Louis\, Québec\, Québec\, G1S 1G5\, Canada
CATEGORIES:Offices religieux
END:VEVENT
BEGIN:VEVENT
DTSTART;TZID=America/Montreal:20251210T070000
DTEND;TZID=America/Montreal:20251210T072000
DTSTAMP:20260423T160529
CREATED:20251012T134426Z
LAST-MODIFIED:20251012T134538Z
UID:10009120-1765350000-1765351200@www.lemontmartre.ca
SUMMARY:Laudes
DESCRIPTION:
URL:https://www.lemontmartre.ca/event/laudes-3-2/2025-12-10/
LOCATION:Sanctuaire Montmartre\, 1679\, chemin Saint-Louis\, Québec\, Québec\, G1S 1G5\, Canada
CATEGORIES:Offices religieux
END:VEVENT
BEGIN:VEVENT
DTSTART;TZID=America/Montreal:20251209T173000
DTEND;TZID=America/Montreal:20251209T175000
DTSTAMP:20260423T160529
CREATED:20250918T031829Z
LAST-MODIFIED:20250918T031829Z
UID:10009912-1765301400-1765302600@www.lemontmartre.ca
SUMMARY:Vêpres
DESCRIPTION:
URL:https://www.lemontmartre.ca/event/vepres/2025-12-09/
LOCATION:Sanctuaire Montmartre\, 1679\, chemin Saint-Louis\, Québec\, Québec\, G1S 1G5\, Canada
CATEGORIES:Offices religieux
END:VEVENT
BEGIN:VEVENT
DTSTART;TZID=America/Montreal:20251209T111500
DTEND;TZID=America/Montreal:20251209T115500
DTSTAMP:20260423T160529
CREATED:20250918T022646Z
LAST-MODIFIED:20250918T022647Z
UID:10009781-1765278900-1765281300@www.lemontmartre.ca
SUMMARY:Messe de 11h15
DESCRIPTION:
URL:https://www.lemontmartre.ca/event/messe-de-11h15/2025-12-09/
LOCATION:Sanctuaire Montmartre\, 1679\, chemin Saint-Louis\, Québec\, Québec\, G1S 1G5\, Canada
CATEGORIES:Offices religieux
END:VEVENT
BEGIN:VEVENT
DTSTART;TZID=America/Montreal:20251209T072500
DTEND;TZID=America/Montreal:20251209T075500
DTSTAMP:20260423T160529
CREATED:20251012T135346Z
LAST-MODIFIED:20251012T135347Z
UID:10009691-1765265100-1765266900@www.lemontmartre.ca
SUMMARY:Messe de 7h25
DESCRIPTION:Religieux du Montmartre et d’autres personnes qui le désirent.
URL:https://www.lemontmartre.ca/event/messe-de-7h25-2-2-2-2/2025-12-09/
LOCATION:Sanctuaire Montmartre\, 1679\, chemin Saint-Louis\, Québec\, Québec\, G1S 1G5\, Canada
CATEGORIES:Offices religieux
END:VEVENT
BEGIN:VEVENT
DTSTART;TZID=America/Montreal:20251209T070000
DTEND;TZID=America/Montreal:20251209T072000
DTSTAMP:20260423T160529
CREATED:20251012T134426Z
LAST-MODIFIED:20251012T134538Z
UID:10009119-1765263600-1765264800@www.lemontmartre.ca
SUMMARY:Laudes
DESCRIPTION:
URL:https://www.lemontmartre.ca/event/laudes-3-2/2025-12-09/
LOCATION:Sanctuaire Montmartre\, 1679\, chemin Saint-Louis\, Québec\, Québec\, G1S 1G5\, Canada
CATEGORIES:Offices religieux
END:VEVENT
BEGIN:VEVENT
DTSTART;TZID=America/Montreal:20251208T173000
DTEND;TZID=America/Montreal:20251208T175000
DTSTAMP:20260423T160529
CREATED:20250918T031829Z
LAST-MODIFIED:20250918T031829Z
UID:10009911-1765215000-1765216200@www.lemontmartre.ca
SUMMARY:Vêpres
DESCRIPTION:
URL:https://www.lemontmartre.ca/event/vepres/2025-12-08/
LOCATION:Sanctuaire Montmartre\, 1679\, chemin Saint-Louis\, Québec\, Québec\, G1S 1G5\, Canada
CATEGORIES:Offices religieux
END:VEVENT
BEGIN:VEVENT
DTSTART;TZID=America/Montreal:20251208T111500
DTEND;TZID=America/Montreal:20251208T115500
DTSTAMP:20260423T160529
CREATED:20250918T022646Z
LAST-MODIFIED:20250918T022647Z
UID:10009780-1765192500-1765194900@www.lemontmartre.ca
SUMMARY:Messe de 11h15
DESCRIPTION:
URL:https://www.lemontmartre.ca/event/messe-de-11h15/2025-12-08/
LOCATION:Sanctuaire Montmartre\, 1679\, chemin Saint-Louis\, Québec\, Québec\, G1S 1G5\, Canada
CATEGORIES:Offices religieux
END:VEVENT
BEGIN:VEVENT
DTSTART;TZID=America/Montreal:20251208T072500
DTEND;TZID=America/Montreal:20251208T075500
DTSTAMP:20260423T160529
CREATED:20251012T135346Z
LAST-MODIFIED:20251012T135347Z
UID:10009644-1765178700-1765180500@www.lemontmartre.ca
SUMMARY:Messe de 7h25
DESCRIPTION:Religieux du Montmartre et d’autres personnes qui le désirent.
URL:https://www.lemontmartre.ca/event/messe-de-7h25-2-2-2-2/2025-12-08/
LOCATION:Sanctuaire Montmartre\, 1679\, chemin Saint-Louis\, Québec\, Québec\, G1S 1G5\, Canada
CATEGORIES:Offices religieux
END:VEVENT
BEGIN:VEVENT
DTSTART;TZID=America/Montreal:20251208T070000
DTEND;TZID=America/Montreal:20251208T072000
DTSTAMP:20260423T160529
CREATED:20251012T134426Z
LAST-MODIFIED:20251012T134538Z
UID:10010082-1765177200-1765178400@www.lemontmartre.ca
SUMMARY:Laudes
DESCRIPTION:
URL:https://www.lemontmartre.ca/event/laudes-3-2/2025-12-08/
LOCATION:Sanctuaire Montmartre\, 1679\, chemin Saint-Louis\, Québec\, Québec\, G1S 1G5\, Canada
CATEGORIES:Offices religieux
END:VEVENT
BEGIN:VEVENT
DTSTART;TZID=America/Montreal:20251207T080000
DTEND;TZID=America/Montreal:20251207T082000
DTSTAMP:20260423T160529
CREATED:20250918T015045Z
LAST-MODIFIED:20250918T015045Z
UID:10009514-1765094400-1765095600@www.lemontmartre.ca
SUMMARY:Laudes
DESCRIPTION:
URL:https://www.lemontmartre.ca/event/laudes-2-2/2025-12-07/
LOCATION:Sanctuaire Montmartre\, 1679\, chemin Saint-Louis\, Québec\, Québec\, G1S 1G5\, Canada
CATEGORIES:Offices religieux
END:VEVENT
BEGIN:VEVENT
DTSTART;TZID=America/Montreal:20251207T072500
DTEND;TZID=America/Montreal:20251207T075500
DTSTAMP:20260423T160529
CREATED:20251012T135346Z
LAST-MODIFIED:20251012T135347Z
UID:10010130-1765092300-1765094100@www.lemontmartre.ca
SUMMARY:Messe de 7h25
DESCRIPTION:Religieux du Montmartre et d’autres personnes qui le désirent.
URL:https://www.lemontmartre.ca/event/messe-de-7h25-2-2-2-2/2025-12-07/
LOCATION:Sanctuaire Montmartre\, 1679\, chemin Saint-Louis\, Québec\, Québec\, G1S 1G5\, Canada
CATEGORIES:Offices religieux
END:VEVENT
BEGIN:VEVENT
DTSTART;TZID=America/Montreal:20251206T173000
DTEND;TZID=America/Montreal:20251206T175000
DTSTAMP:20260423T160529
CREATED:20250918T031829Z
LAST-MODIFIED:20250918T031829Z
UID:10009910-1765042200-1765043400@www.lemontmartre.ca
SUMMARY:Vêpres
DESCRIPTION:
URL:https://www.lemontmartre.ca/event/vepres/2025-12-06/
LOCATION:Sanctuaire Montmartre\, 1679\, chemin Saint-Louis\, Québec\, Québec\, G1S 1G5\, Canada
CATEGORIES:Offices religieux
END:VEVENT
BEGIN:VEVENT
DTSTART;TZID=America/Montreal:20251206T111500
DTEND;TZID=America/Montreal:20251206T115500
DTSTAMP:20260423T160529
CREATED:20250918T022646Z
LAST-MODIFIED:20250918T022647Z
UID:10009779-1765019700-1765022100@www.lemontmartre.ca
SUMMARY:Messe de 11h15
DESCRIPTION:
URL:https://www.lemontmartre.ca/event/messe-de-11h15/2025-12-06/
LOCATION:Sanctuaire Montmartre\, 1679\, chemin Saint-Louis\, Québec\, Québec\, G1S 1G5\, Canada
CATEGORIES:Offices religieux
END:VEVENT
BEGIN:VEVENT
DTSTART;TZID=America/Montreal:20251206T072500
DTEND;TZID=America/Montreal:20251206T075500
DTSTAMP:20260423T160529
CREATED:20251012T135346Z
LAST-MODIFIED:20251012T135347Z
UID:10010129-1765005900-1765007700@www.lemontmartre.ca
SUMMARY:Messe de 7h25
DESCRIPTION:Religieux du Montmartre et d’autres personnes qui le désirent.
URL:https://www.lemontmartre.ca/event/messe-de-7h25-2-2-2-2/2025-12-06/
LOCATION:Sanctuaire Montmartre\, 1679\, chemin Saint-Louis\, Québec\, Québec\, G1S 1G5\, Canada
CATEGORIES:Offices religieux
END:VEVENT
BEGIN:VEVENT
DTSTART;TZID=America/Montreal:20251205T193000
DTEND;TZID=America/Montreal:20251205T210000
DTSTAMP:20260423T160529
CREATED:20250918T025359Z
LAST-MODIFIED:20250918T030835Z
UID:10009828-1764963000-1764968400@www.lemontmartre.ca
SUMMARY:Messe suivie de l'adoration avec chants de Taizé
DESCRIPTION:
URL:https://www.lemontmartre.ca/event/messe-et-adoration/2025-12-05/
LOCATION:Sanctuaire Montmartre\, 1679\, chemin Saint-Louis\, Québec\, Québec\, G1S 1G5\, Canada
CATEGORIES:Offices religieux
END:VEVENT
BEGIN:VEVENT
DTSTART;TZID=America/Montreal:20251205T173000
DTEND;TZID=America/Montreal:20251205T175000
DTSTAMP:20260423T160529
CREATED:20250918T031829Z
LAST-MODIFIED:20250918T031829Z
UID:10009909-1764955800-1764957000@www.lemontmartre.ca
SUMMARY:Vêpres
DESCRIPTION:
URL:https://www.lemontmartre.ca/event/vepres/2025-12-05/
LOCATION:Sanctuaire Montmartre\, 1679\, chemin Saint-Louis\, Québec\, Québec\, G1S 1G5\, Canada
CATEGORIES:Offices religieux
END:VEVENT
BEGIN:VEVENT
DTSTART;TZID=America/Montreal:20251205T111500
DTEND;TZID=America/Montreal:20251205T115500
DTSTAMP:20260423T160529
CREATED:20250918T022646Z
LAST-MODIFIED:20250918T022647Z
UID:10009778-1764933300-1764935700@www.lemontmartre.ca
SUMMARY:Messe de 11h15
DESCRIPTION:
URL:https://www.lemontmartre.ca/event/messe-de-11h15/2025-12-05/
LOCATION:Sanctuaire Montmartre\, 1679\, chemin Saint-Louis\, Québec\, Québec\, G1S 1G5\, Canada
CATEGORIES:Offices religieux
END:VEVENT
END:VCALENDAR