BEGIN:VCALENDAR
VERSION:2.0
PRODID:-//Le Montmartre - ECPv6.15.13//NONSGML v1.0//EN
CALSCALE:GREGORIAN
METHOD:PUBLISH
X-ORIGINAL-URL:https://www.lemontmartre.ca
X-WR-CALDESC:Évènements pour Le Montmartre
REFRESH-INTERVAL;VALUE=DURATION:PT1H
X-Robots-Tag:noindex
X-PUBLISHED-TTL:PT1H
BEGIN:VTIMEZONE
TZID:America/Montreal
BEGIN:DAYLIGHT
TZOFFSETFROM:-0500
TZOFFSETTO:-0400
TZNAME:EDT
DTSTART:20250309T070000
END:DAYLIGHT
BEGIN:STANDARD
TZOFFSETFROM:-0400
TZOFFSETTO:-0500
TZNAME:EST
DTSTART:20251102T060000
END:STANDARD
BEGIN:DAYLIGHT
TZOFFSETFROM:-0500
TZOFFSETTO:-0400
TZNAME:EDT
DTSTART:20260308T070000
END:DAYLIGHT
BEGIN:STANDARD
TZOFFSETFROM:-0400
TZOFFSETTO:-0500
TZNAME:EST
DTSTART:20261101T060000
END:STANDARD
BEGIN:DAYLIGHT
TZOFFSETFROM:-0500
TZOFFSETTO:-0400
TZNAME:EDT
DTSTART:20270314T070000
END:DAYLIGHT
BEGIN:STANDARD
TZOFFSETFROM:-0400
TZOFFSETTO:-0500
TZNAME:EST
DTSTART:20271107T060000
END:STANDARD
END:VTIMEZONE
BEGIN:VEVENT
DTSTART;TZID=America/Montreal:20260121T173000
DTEND;TZID=America/Montreal:20260121T175000
DTSTAMP:20260422T184635
CREATED:20260105T001422Z
LAST-MODIFIED:20260105T001422Z
UID:10012070-1769016600-1769017800@www.lemontmartre.ca
SUMMARY:Vêpres
DESCRIPTION:Les vêpres sont précédées de méditation dite oraison pendant 30 minutes.
URL:https://www.lemontmartre.ca/event/vepres-2/2026-01-21/
LOCATION:Sanctuaire Montmartre\, 1679\, chemin Saint-Louis\, Québec\, Québec\, G1S 1G5\, Canada
CATEGORIES:Offices religieux
END:VEVENT
BEGIN:VEVENT
DTSTART;TZID=America/Montreal:20260121T150000
DTEND;TZID=America/Montreal:20260121T163000
DTSTAMP:20260422T184635
CREATED:20260117T045810Z
LAST-MODIFIED:20260124T004824Z
UID:10012248-1769007600-1769013000@www.lemontmartre.ca
SUMMARY:«DIEU EST À L'OEUVRE EN CET ÂGE».  "Les Actes des Apôtres" comme compagnon de route pour la vie heureuse et unifiée au quotidien
DESCRIPTION:Formation en PRÉSENTIEL et en ZOOM* \n*ZOOM sera accessible seulement aux personnes qui habitent à l’extérieur de la ville de Québec et pour qui il est impossible de se rendre à la rencontre en présentiel.
URL:https://www.lemontmartre.ca/event/dieu-est-a-loeuvre-en-cet-age-les-actes-des-apotres-comme-compagnon-de-route-pour-la-vie-heureuse-et-unifiee-au-quotidien-2/2026-01-21/
LOCATION:Sanctuaire Montmartre\, 1679\, chemin Saint-Louis\, Québec\, Québec\, G1S 1G5\, Canada
CATEGORIES:Formations
ATTACH;FMTTYPE=image/jpeg:https://www.lemontmartre.ca/wp-content/uploads/2025/09/Formation-Actes-des-Apotres-Edouard-Shatov-Automne-2025-Facebook-Cover-scaled.jpg
END:VEVENT
BEGIN:VEVENT
DTSTART;TZID=America/Montreal:20260121T111500
DTEND;TZID=America/Montreal:20260121T115000
DTSTAMP:20260422T184635
CREATED:20260105T000306Z
LAST-MODIFIED:20260105T000306Z
UID:10011770-1768994100-1768996200@www.lemontmartre.ca
SUMMARY:Messe à 11h15
DESCRIPTION:
URL:https://www.lemontmartre.ca/event/messe-a-11h15/2026-01-21/
LOCATION:Sanctuaire Montmartre\, 1679\, chemin Saint-Louis\, Québec\, Québec\, G1S 1G5\, Canada
CATEGORIES:Offices religieux
END:VEVENT
BEGIN:VEVENT
DTSTART;TZID=America/Montreal:20260121T072500
DTEND;TZID=America/Montreal:20260121T075500
DTSTAMP:20260422T184635
CREATED:20260214T021845Z
LAST-MODIFIED:20260214T021845Z
UID:10012396-1768980300-1768982100@www.lemontmartre.ca
SUMMARY:Messe à 7h25
DESCRIPTION:
URL:https://www.lemontmartre.ca/event/messe-a-7h25-2/2026-01-21/
LOCATION:Sanctuaire Montmartre\, 1679\, chemin Saint-Louis\, Québec\, Québec\, G1S 1G5\, Canada
CATEGORIES:Offices religieux
END:VEVENT
BEGIN:VEVENT
DTSTART;TZID=America/Montreal:20260121T070000
DTEND;TZID=America/Montreal:20260121T072000
DTSTAMP:20260422T184635
CREATED:20260104T234059Z
LAST-MODIFIED:20260104T234059Z
UID:10011575-1768978800-1768980000@www.lemontmartre.ca
SUMMARY:Laudes
DESCRIPTION:
URL:https://www.lemontmartre.ca/event/laudes-2/2026-01-21/
LOCATION:Sanctuaire Montmartre\, 1679\, chemin Saint-Louis\, Québec\, Québec\, G1S 1G5\, Canada
CATEGORIES:Offices religieux
END:VEVENT
BEGIN:VEVENT
DTSTART;TZID=America/Montreal:20260120T173000
DTEND;TZID=America/Montreal:20260120T175000
DTSTAMP:20260422T184635
CREATED:20260105T001422Z
LAST-MODIFIED:20260105T001422Z
UID:10012069-1768930200-1768931400@www.lemontmartre.ca
SUMMARY:Vêpres
DESCRIPTION:Les vêpres sont précédées de méditation dite oraison pendant 30 minutes.
URL:https://www.lemontmartre.ca/event/vepres-2/2026-01-20/
LOCATION:Sanctuaire Montmartre\, 1679\, chemin Saint-Louis\, Québec\, Québec\, G1S 1G5\, Canada
CATEGORIES:Offices religieux
END:VEVENT
BEGIN:VEVENT
DTSTART;TZID=America/Montreal:20260120T111500
DTEND;TZID=America/Montreal:20260120T115000
DTSTAMP:20260422T184635
CREATED:20260105T000306Z
LAST-MODIFIED:20260105T000306Z
UID:10011769-1768907700-1768909800@www.lemontmartre.ca
SUMMARY:Messe à 11h15
DESCRIPTION:
URL:https://www.lemontmartre.ca/event/messe-a-11h15/2026-01-20/
LOCATION:Sanctuaire Montmartre\, 1679\, chemin Saint-Louis\, Québec\, Québec\, G1S 1G5\, Canada
CATEGORIES:Offices religieux
END:VEVENT
BEGIN:VEVENT
DTSTART;TZID=America/Montreal:20260120T072500
DTEND;TZID=America/Montreal:20260120T075500
DTSTAMP:20260422T184635
CREATED:20260214T021845Z
LAST-MODIFIED:20260214T021845Z
UID:10012395-1768893900-1768895700@www.lemontmartre.ca
SUMMARY:Messe à 7h25
DESCRIPTION:
URL:https://www.lemontmartre.ca/event/messe-a-7h25-2/2026-01-20/
LOCATION:Sanctuaire Montmartre\, 1679\, chemin Saint-Louis\, Québec\, Québec\, G1S 1G5\, Canada
CATEGORIES:Offices religieux
END:VEVENT
BEGIN:VEVENT
DTSTART;TZID=America/Montreal:20260120T070000
DTEND;TZID=America/Montreal:20260120T072000
DTSTAMP:20260422T184635
CREATED:20260104T234059Z
LAST-MODIFIED:20260104T234059Z
UID:10011574-1768892400-1768893600@www.lemontmartre.ca
SUMMARY:Laudes
DESCRIPTION:
URL:https://www.lemontmartre.ca/event/laudes-2/2026-01-20/
LOCATION:Sanctuaire Montmartre\, 1679\, chemin Saint-Louis\, Québec\, Québec\, G1S 1G5\, Canada
CATEGORIES:Offices religieux
END:VEVENT
BEGIN:VEVENT
DTSTART;TZID=America/Montreal:20260119T193000
DTEND;TZID=America/Montreal:20260119T210000
DTSTAMP:20260422T184635
CREATED:20260117T050509Z
LAST-MODIFIED:20260124T005459Z
UID:10012249-1768851000-1768856400@www.lemontmartre.ca
SUMMARY:«PRENDRE SOIN DE NOTRE ÊTRE AU FIL DES SAISONS DE NOTRE VIE» En compagnie et à l’écoute des "Écrits Spirituels" de François de Laval
DESCRIPTION:Formation en PRÉSENTIEL et en ZOOM*. \n*ZOOM sera accessible seulement aux personnes qui habitent à l’extérieur de la ville de Québec et pour qui il est impossible de se rendre à la rencontre en présentiel.
URL:https://www.lemontmartre.ca/event/prendre-soin-de-notre-etre-au-fil-des-saisons-de-notre-vie-en-compagnie-et-a-lecoute-des-ecrits-spirituels-de-francois-de-laval/2026-01-19/
LOCATION:Sanctuaire Montmartre\, 1679\, chemin Saint-Louis\, Québec\, Québec\, G1S 1G5\, Canada
CATEGORIES:Formations
ATTACH;FMTTYPE=image/jpeg:https://www.lemontmartre.ca/wp-content/uploads/2026/01/Formation-Francois-de-Laval-Edouard-Shatov-Hiver-Ete-2026-Facebook-Cover.jpg
END:VEVENT
BEGIN:VEVENT
DTSTART;TZID=America/Montreal:20260119T173000
DTEND;TZID=America/Montreal:20260119T175000
DTSTAMP:20260422T184635
CREATED:20260105T001422Z
LAST-MODIFIED:20260105T001422Z
UID:10012068-1768843800-1768845000@www.lemontmartre.ca
SUMMARY:Vêpres
DESCRIPTION:Les vêpres sont précédées de méditation dite oraison pendant 30 minutes.
URL:https://www.lemontmartre.ca/event/vepres-2/2026-01-19/
LOCATION:Sanctuaire Montmartre\, 1679\, chemin Saint-Louis\, Québec\, Québec\, G1S 1G5\, Canada
CATEGORIES:Offices religieux
END:VEVENT
BEGIN:VEVENT
DTSTART;TZID=America/Montreal:20260119T111500
DTEND;TZID=America/Montreal:20260119T115000
DTSTAMP:20260422T184635
CREATED:20260105T000306Z
LAST-MODIFIED:20260105T000306Z
UID:10011768-1768821300-1768823400@www.lemontmartre.ca
SUMMARY:Messe à 11h15
DESCRIPTION:
URL:https://www.lemontmartre.ca/event/messe-a-11h15/2026-01-19/
LOCATION:Sanctuaire Montmartre\, 1679\, chemin Saint-Louis\, Québec\, Québec\, G1S 1G5\, Canada
CATEGORIES:Offices religieux
END:VEVENT
BEGIN:VEVENT
DTSTART;TZID=America/Montreal:20260119T072500
DTEND;TZID=America/Montreal:20260119T075500
DTSTAMP:20260422T184635
CREATED:20260214T021845Z
LAST-MODIFIED:20260214T021845Z
UID:10012394-1768807500-1768809300@www.lemontmartre.ca
SUMMARY:Messe à 7h25
DESCRIPTION:
URL:https://www.lemontmartre.ca/event/messe-a-7h25-2/2026-01-19/
LOCATION:Sanctuaire Montmartre\, 1679\, chemin Saint-Louis\, Québec\, Québec\, G1S 1G5\, Canada
CATEGORIES:Offices religieux
END:VEVENT
BEGIN:VEVENT
DTSTART;TZID=America/Montreal:20260119T070000
DTEND;TZID=America/Montreal:20260119T072000
DTSTAMP:20260422T184635
CREATED:20260104T234059Z
LAST-MODIFIED:20260104T234059Z
UID:10011573-1768806000-1768807200@www.lemontmartre.ca
SUMMARY:Laudes
DESCRIPTION:
URL:https://www.lemontmartre.ca/event/laudes-2/2026-01-19/
LOCATION:Sanctuaire Montmartre\, 1679\, chemin Saint-Louis\, Québec\, Québec\, G1S 1G5\, Canada
CATEGORIES:Offices religieux
END:VEVENT
BEGIN:VEVENT
DTSTART;TZID=America/Montreal:20260118T080000
DTEND;TZID=America/Montreal:20260118T082000
DTSTAMP:20260422T184635
CREATED:20260105T003233Z
LAST-MODIFIED:20260105T003233Z
UID:10012205-1768723200-1768724400@www.lemontmartre.ca
SUMMARY:Laudes
DESCRIPTION:
URL:https://www.lemontmartre.ca/event/laudes-3/2026-01-18/
LOCATION:Sanctuaire Montmartre\, 1679\, chemin Saint-Louis\, Québec\, Québec\, G1S 1G5\, Canada
CATEGORIES:Offices religieux
END:VEVENT
BEGIN:VEVENT
DTSTART;TZID=America/Montreal:20260117T173000
DTEND;TZID=America/Montreal:20260117T175000
DTSTAMP:20260422T184635
CREATED:20260105T001422Z
LAST-MODIFIED:20260105T001422Z
UID:10012067-1768671000-1768672200@www.lemontmartre.ca
SUMMARY:Vêpres
DESCRIPTION:Les vêpres sont précédées de méditation dite oraison pendant 30 minutes.
URL:https://www.lemontmartre.ca/event/vepres-2/2026-01-17/
LOCATION:Sanctuaire Montmartre\, 1679\, chemin Saint-Louis\, Québec\, Québec\, G1S 1G5\, Canada
CATEGORIES:Offices religieux
END:VEVENT
BEGIN:VEVENT
DTSTART;TZID=America/Montreal:20260117T111500
DTEND;TZID=America/Montreal:20260117T115000
DTSTAMP:20260422T184635
CREATED:20260105T000306Z
LAST-MODIFIED:20260105T000306Z
UID:10011767-1768648500-1768650600@www.lemontmartre.ca
SUMMARY:Messe à 11h15
DESCRIPTION:
URL:https://www.lemontmartre.ca/event/messe-a-11h15/2026-01-17/
LOCATION:Sanctuaire Montmartre\, 1679\, chemin Saint-Louis\, Québec\, Québec\, G1S 1G5\, Canada
CATEGORIES:Offices religieux
END:VEVENT
BEGIN:VEVENT
DTSTART;TZID=America/Montreal:20260116T173000
DTEND;TZID=America/Montreal:20260116T175000
DTSTAMP:20260422T184635
CREATED:20260105T001422Z
LAST-MODIFIED:20260105T001422Z
UID:10012066-1768584600-1768585800@www.lemontmartre.ca
SUMMARY:Vêpres
DESCRIPTION:Les vêpres sont précédées de méditation dite oraison pendant 30 minutes.
URL:https://www.lemontmartre.ca/event/vepres-2/2026-01-16/
LOCATION:Sanctuaire Montmartre\, 1679\, chemin Saint-Louis\, Québec\, Québec\, G1S 1G5\, Canada
CATEGORIES:Offices religieux
END:VEVENT
BEGIN:VEVENT
DTSTART;TZID=America/Montreal:20260116T170000
DTEND;TZID=America/Montreal:20260116T173000
DTSTAMP:20260422T184635
CREATED:20260105T002130Z
LAST-MODIFIED:20260105T004525Z
UID:10012182-1768582800-1768584600@www.lemontmartre.ca
SUMMARY:Adoration
DESCRIPTION:
URL:https://www.lemontmartre.ca/event/adoration-2/2026-01-16/
LOCATION:Sanctuaire Montmartre\, 1679\, chemin Saint-Louis\, Québec\, Québec\, G1S 1G5\, Canada
CATEGORIES:Offices religieux
END:VEVENT
BEGIN:VEVENT
DTSTART;TZID=America/Montreal:20260116T111500
DTEND;TZID=America/Montreal:20260116T115000
DTSTAMP:20260422T184635
CREATED:20260105T000306Z
LAST-MODIFIED:20260105T000306Z
UID:10011766-1768562100-1768564200@www.lemontmartre.ca
SUMMARY:Messe à 11h15
DESCRIPTION:
URL:https://www.lemontmartre.ca/event/messe-a-11h15/2026-01-16/
LOCATION:Sanctuaire Montmartre\, 1679\, chemin Saint-Louis\, Québec\, Québec\, G1S 1G5\, Canada
CATEGORIES:Offices religieux
END:VEVENT
BEGIN:VEVENT
DTSTART;TZID=America/Montreal:20260116T072500
DTEND;TZID=America/Montreal:20260116T075500
DTSTAMP:20260422T184635
CREATED:20260214T021845Z
LAST-MODIFIED:20260214T021845Z
UID:10012393-1768548300-1768550100@www.lemontmartre.ca
SUMMARY:Messe à 7h25
DESCRIPTION:
URL:https://www.lemontmartre.ca/event/messe-a-7h25-2/2026-01-16/
LOCATION:Sanctuaire Montmartre\, 1679\, chemin Saint-Louis\, Québec\, Québec\, G1S 1G5\, Canada
CATEGORIES:Offices religieux
END:VEVENT
BEGIN:VEVENT
DTSTART;TZID=America/Montreal:20260116T070000
DTEND;TZID=America/Montreal:20260116T072000
DTSTAMP:20260422T184635
CREATED:20260104T234059Z
LAST-MODIFIED:20260104T234059Z
UID:10011572-1768546800-1768548000@www.lemontmartre.ca
SUMMARY:Laudes
DESCRIPTION:
URL:https://www.lemontmartre.ca/event/laudes-2/2026-01-16/
LOCATION:Sanctuaire Montmartre\, 1679\, chemin Saint-Louis\, Québec\, Québec\, G1S 1G5\, Canada
CATEGORIES:Offices religieux
END:VEVENT
BEGIN:VEVENT
DTSTART;TZID=America/Montreal:20260115T173000
DTEND;TZID=America/Montreal:20260115T175000
DTSTAMP:20260422T184635
CREATED:20260105T001422Z
LAST-MODIFIED:20260105T001422Z
UID:10012065-1768498200-1768499400@www.lemontmartre.ca
SUMMARY:Vêpres
DESCRIPTION:Les vêpres sont précédées de méditation dite oraison pendant 30 minutes.
URL:https://www.lemontmartre.ca/event/vepres-2/2026-01-15/
LOCATION:Sanctuaire Montmartre\, 1679\, chemin Saint-Louis\, Québec\, Québec\, G1S 1G5\, Canada
CATEGORIES:Offices religieux
END:VEVENT
BEGIN:VEVENT
DTSTART;TZID=America/Montreal:20260115T111500
DTEND;TZID=America/Montreal:20260115T115000
DTSTAMP:20260422T184635
CREATED:20260105T000306Z
LAST-MODIFIED:20260105T000306Z
UID:10011765-1768475700-1768477800@www.lemontmartre.ca
SUMMARY:Messe à 11h15
DESCRIPTION:
URL:https://www.lemontmartre.ca/event/messe-a-11h15/2026-01-15/
LOCATION:Sanctuaire Montmartre\, 1679\, chemin Saint-Louis\, Québec\, Québec\, G1S 1G5\, Canada
CATEGORIES:Offices religieux
END:VEVENT
BEGIN:VEVENT
DTSTART;TZID=America/Montreal:20260115T072500
DTEND;TZID=America/Montreal:20260115T075500
DTSTAMP:20260422T184635
CREATED:20260214T021845Z
LAST-MODIFIED:20260214T021845Z
UID:10012392-1768461900-1768463700@www.lemontmartre.ca
SUMMARY:Messe à 7h25
DESCRIPTION:
URL:https://www.lemontmartre.ca/event/messe-a-7h25-2/2026-01-15/
LOCATION:Sanctuaire Montmartre\, 1679\, chemin Saint-Louis\, Québec\, Québec\, G1S 1G5\, Canada
CATEGORIES:Offices religieux
END:VEVENT
BEGIN:VEVENT
DTSTART;TZID=America/Montreal:20260115T070000
DTEND;TZID=America/Montreal:20260115T072000
DTSTAMP:20260422T184635
CREATED:20260104T234059Z
LAST-MODIFIED:20260104T234059Z
UID:10011571-1768460400-1768461600@www.lemontmartre.ca
SUMMARY:Laudes
DESCRIPTION:
URL:https://www.lemontmartre.ca/event/laudes-2/2026-01-15/
LOCATION:Sanctuaire Montmartre\, 1679\, chemin Saint-Louis\, Québec\, Québec\, G1S 1G5\, Canada
CATEGORIES:Offices religieux
END:VEVENT
BEGIN:VEVENT
DTSTART;TZID=America/Montreal:20260114T173000
DTEND;TZID=America/Montreal:20260114T175000
DTSTAMP:20260422T184635
CREATED:20260105T001422Z
LAST-MODIFIED:20260105T001422Z
UID:10012064-1768411800-1768413000@www.lemontmartre.ca
SUMMARY:Vêpres
DESCRIPTION:Les vêpres sont précédées de méditation dite oraison pendant 30 minutes.
URL:https://www.lemontmartre.ca/event/vepres-2/2026-01-14/
LOCATION:Sanctuaire Montmartre\, 1679\, chemin Saint-Louis\, Québec\, Québec\, G1S 1G5\, Canada
CATEGORIES:Offices religieux
END:VEVENT
BEGIN:VEVENT
DTSTART;TZID=America/Montreal:20260114T111500
DTEND;TZID=America/Montreal:20260114T115000
DTSTAMP:20260422T184635
CREATED:20260105T000306Z
LAST-MODIFIED:20260105T000306Z
UID:10011764-1768389300-1768391400@www.lemontmartre.ca
SUMMARY:Messe à 11h15
DESCRIPTION:
URL:https://www.lemontmartre.ca/event/messe-a-11h15/2026-01-14/
LOCATION:Sanctuaire Montmartre\, 1679\, chemin Saint-Louis\, Québec\, Québec\, G1S 1G5\, Canada
CATEGORIES:Offices religieux
END:VEVENT
BEGIN:VEVENT
DTSTART;TZID=America/Montreal:20260114T072500
DTEND;TZID=America/Montreal:20260114T075500
DTSTAMP:20260422T184635
CREATED:20260214T021845Z
LAST-MODIFIED:20260214T021845Z
UID:10012391-1768375500-1768377300@www.lemontmartre.ca
SUMMARY:Messe à 7h25
DESCRIPTION:
URL:https://www.lemontmartre.ca/event/messe-a-7h25-2/2026-01-14/
LOCATION:Sanctuaire Montmartre\, 1679\, chemin Saint-Louis\, Québec\, Québec\, G1S 1G5\, Canada
CATEGORIES:Offices religieux
END:VEVENT
BEGIN:VEVENT
DTSTART;TZID=America/Montreal:20260114T070000
DTEND;TZID=America/Montreal:20260114T072000
DTSTAMP:20260422T184635
CREATED:20260104T234059Z
LAST-MODIFIED:20260104T234059Z
UID:10011570-1768374000-1768375200@www.lemontmartre.ca
SUMMARY:Laudes
DESCRIPTION:
URL:https://www.lemontmartre.ca/event/laudes-2/2026-01-14/
LOCATION:Sanctuaire Montmartre\, 1679\, chemin Saint-Louis\, Québec\, Québec\, G1S 1G5\, Canada
CATEGORIES:Offices religieux
END:VEVENT
END:VCALENDAR