BEGIN:VCALENDAR
VERSION:2.0
PRODID:-//Le Montmartre - ECPv6.15.13//NONSGML v1.0//EN
CALSCALE:GREGORIAN
METHOD:PUBLISH
X-WR-CALNAME:Le Montmartre
X-ORIGINAL-URL:https://www.lemontmartre.ca
X-WR-CALDESC:Évènements pour Le Montmartre
REFRESH-INTERVAL;VALUE=DURATION:PT1H
X-Robots-Tag:noindex
X-PUBLISHED-TTL:PT1H
BEGIN:VTIMEZONE
TZID:America/Montreal
BEGIN:DAYLIGHT
TZOFFSETFROM:-0500
TZOFFSETTO:-0400
TZNAME:EDT
DTSTART:20250309T070000
END:DAYLIGHT
BEGIN:STANDARD
TZOFFSETFROM:-0400
TZOFFSETTO:-0500
TZNAME:EST
DTSTART:20251102T060000
END:STANDARD
BEGIN:DAYLIGHT
TZOFFSETFROM:-0500
TZOFFSETTO:-0400
TZNAME:EDT
DTSTART:20260308T070000
END:DAYLIGHT
BEGIN:STANDARD
TZOFFSETFROM:-0400
TZOFFSETTO:-0500
TZNAME:EST
DTSTART:20261101T060000
END:STANDARD
BEGIN:DAYLIGHT
TZOFFSETFROM:-0500
TZOFFSETTO:-0400
TZNAME:EDT
DTSTART:20270314T070000
END:DAYLIGHT
BEGIN:STANDARD
TZOFFSETFROM:-0400
TZOFFSETTO:-0500
TZNAME:EST
DTSTART:20271107T060000
END:STANDARD
END:VTIMEZONE
BEGIN:VEVENT
DTSTART;TZID=America/Montreal:20261110T111500
DTEND;TZID=America/Montreal:20261110T115000
DTSTAMP:20260423T035951
CREATED:20260105T000306Z
LAST-MODIFIED:20260105T000306Z
UID:10012012-1794309300-1794311400@www.lemontmartre.ca
SUMMARY:Messe à 11h15
DESCRIPTION:
URL:https://www.lemontmartre.ca/event/messe-a-11h15/2026-11-10/
LOCATION:Sanctuaire Montmartre\, 1679\, chemin Saint-Louis\, Québec\, Québec\, G1S 1G5\, Canada
CATEGORIES:Offices religieux
END:VEVENT
BEGIN:VEVENT
DTSTART;TZID=America/Montreal:20261111T111500
DTEND;TZID=America/Montreal:20261111T115000
DTSTAMP:20260423T035952
CREATED:20260105T000306Z
LAST-MODIFIED:20260105T000306Z
UID:10012013-1794395700-1794397800@www.lemontmartre.ca
SUMMARY:Messe à 11h15
DESCRIPTION:
URL:https://www.lemontmartre.ca/event/messe-a-11h15/2026-11-11/
LOCATION:Sanctuaire Montmartre\, 1679\, chemin Saint-Louis\, Québec\, Québec\, G1S 1G5\, Canada
CATEGORIES:Offices religieux
END:VEVENT
BEGIN:VEVENT
DTSTART;TZID=America/Montreal:20261112T111500
DTEND;TZID=America/Montreal:20261112T115000
DTSTAMP:20260423T035952
CREATED:20260105T000306Z
LAST-MODIFIED:20260105T000306Z
UID:10012014-1794482100-1794484200@www.lemontmartre.ca
SUMMARY:Messe à 11h15
DESCRIPTION:
URL:https://www.lemontmartre.ca/event/messe-a-11h15/2026-11-12/
LOCATION:Sanctuaire Montmartre\, 1679\, chemin Saint-Louis\, Québec\, Québec\, G1S 1G5\, Canada
CATEGORIES:Offices religieux
END:VEVENT
BEGIN:VEVENT
DTSTART;TZID=America/Montreal:20261113T111500
DTEND;TZID=America/Montreal:20261113T115000
DTSTAMP:20260423T035952
CREATED:20260105T000306Z
LAST-MODIFIED:20260105T000306Z
UID:10012015-1794568500-1794570600@www.lemontmartre.ca
SUMMARY:Messe à 11h15
DESCRIPTION:
URL:https://www.lemontmartre.ca/event/messe-a-11h15/2026-11-13/
LOCATION:Sanctuaire Montmartre\, 1679\, chemin Saint-Louis\, Québec\, Québec\, G1S 1G5\, Canada
CATEGORIES:Offices religieux
END:VEVENT
BEGIN:VEVENT
DTSTART;TZID=America/Montreal:20261114T111500
DTEND;TZID=America/Montreal:20261114T115000
DTSTAMP:20260423T035952
CREATED:20260105T000306Z
LAST-MODIFIED:20260105T000306Z
UID:10012016-1794654900-1794657000@www.lemontmartre.ca
SUMMARY:Messe à 11h15
DESCRIPTION:
URL:https://www.lemontmartre.ca/event/messe-a-11h15/2026-11-14/
LOCATION:Sanctuaire Montmartre\, 1679\, chemin Saint-Louis\, Québec\, Québec\, G1S 1G5\, Canada
CATEGORIES:Offices religieux
END:VEVENT
BEGIN:VEVENT
DTSTART;TZID=America/Montreal:20261116T111500
DTEND;TZID=America/Montreal:20261116T115000
DTSTAMP:20260423T035952
CREATED:20260105T000306Z
LAST-MODIFIED:20260105T000306Z
UID:10012017-1794827700-1794829800@www.lemontmartre.ca
SUMMARY:Messe à 11h15
DESCRIPTION:
URL:https://www.lemontmartre.ca/event/messe-a-11h15/2026-11-16/
LOCATION:Sanctuaire Montmartre\, 1679\, chemin Saint-Louis\, Québec\, Québec\, G1S 1G5\, Canada
CATEGORIES:Offices religieux
END:VEVENT
BEGIN:VEVENT
DTSTART;TZID=America/Montreal:20261117T111500
DTEND;TZID=America/Montreal:20261117T115000
DTSTAMP:20260423T035952
CREATED:20260105T000306Z
LAST-MODIFIED:20260105T000306Z
UID:10012018-1794914100-1794916200@www.lemontmartre.ca
SUMMARY:Messe à 11h15
DESCRIPTION:
URL:https://www.lemontmartre.ca/event/messe-a-11h15/2026-11-17/
LOCATION:Sanctuaire Montmartre\, 1679\, chemin Saint-Louis\, Québec\, Québec\, G1S 1G5\, Canada
CATEGORIES:Offices religieux
END:VEVENT
BEGIN:VEVENT
DTSTART;TZID=America/Montreal:20261118T111500
DTEND;TZID=America/Montreal:20261118T115000
DTSTAMP:20260423T035952
CREATED:20260105T000306Z
LAST-MODIFIED:20260105T000306Z
UID:10012019-1795000500-1795002600@www.lemontmartre.ca
SUMMARY:Messe à 11h15
DESCRIPTION:
URL:https://www.lemontmartre.ca/event/messe-a-11h15/2026-11-18/
LOCATION:Sanctuaire Montmartre\, 1679\, chemin Saint-Louis\, Québec\, Québec\, G1S 1G5\, Canada
CATEGORIES:Offices religieux
END:VEVENT
BEGIN:VEVENT
DTSTART;TZID=America/Montreal:20261119T111500
DTEND;TZID=America/Montreal:20261119T115000
DTSTAMP:20260423T035952
CREATED:20260105T000306Z
LAST-MODIFIED:20260105T000306Z
UID:10012020-1795086900-1795089000@www.lemontmartre.ca
SUMMARY:Messe à 11h15
DESCRIPTION:
URL:https://www.lemontmartre.ca/event/messe-a-11h15/2026-11-19/
LOCATION:Sanctuaire Montmartre\, 1679\, chemin Saint-Louis\, Québec\, Québec\, G1S 1G5\, Canada
CATEGORIES:Offices religieux
END:VEVENT
BEGIN:VEVENT
DTSTART;TZID=America/Montreal:20261120T111500
DTEND;TZID=America/Montreal:20261120T115000
DTSTAMP:20260423T035952
CREATED:20260105T000306Z
LAST-MODIFIED:20260105T000306Z
UID:10012021-1795173300-1795175400@www.lemontmartre.ca
SUMMARY:Messe à 11h15
DESCRIPTION:
URL:https://www.lemontmartre.ca/event/messe-a-11h15/2026-11-20/
LOCATION:Sanctuaire Montmartre\, 1679\, chemin Saint-Louis\, Québec\, Québec\, G1S 1G5\, Canada
CATEGORIES:Offices religieux
END:VEVENT
BEGIN:VEVENT
DTSTART;TZID=America/Montreal:20261121T111500
DTEND;TZID=America/Montreal:20261121T115000
DTSTAMP:20260423T035952
CREATED:20260105T000306Z
LAST-MODIFIED:20260105T000306Z
UID:10012022-1795259700-1795261800@www.lemontmartre.ca
SUMMARY:Messe à 11h15
DESCRIPTION:
URL:https://www.lemontmartre.ca/event/messe-a-11h15/2026-11-21/
LOCATION:Sanctuaire Montmartre\, 1679\, chemin Saint-Louis\, Québec\, Québec\, G1S 1G5\, Canada
CATEGORIES:Offices religieux
END:VEVENT
BEGIN:VEVENT
DTSTART;TZID=America/Montreal:20261123T111500
DTEND;TZID=America/Montreal:20261123T115000
DTSTAMP:20260423T035952
CREATED:20260105T000306Z
LAST-MODIFIED:20260105T000306Z
UID:10012023-1795432500-1795434600@www.lemontmartre.ca
SUMMARY:Messe à 11h15
DESCRIPTION:
URL:https://www.lemontmartre.ca/event/messe-a-11h15/2026-11-23/
LOCATION:Sanctuaire Montmartre\, 1679\, chemin Saint-Louis\, Québec\, Québec\, G1S 1G5\, Canada
CATEGORIES:Offices religieux
END:VEVENT
BEGIN:VEVENT
DTSTART;TZID=America/Montreal:20261124T111500
DTEND;TZID=America/Montreal:20261124T115000
DTSTAMP:20260423T035952
CREATED:20260105T000306Z
LAST-MODIFIED:20260105T000306Z
UID:10012024-1795518900-1795521000@www.lemontmartre.ca
SUMMARY:Messe à 11h15
DESCRIPTION:
URL:https://www.lemontmartre.ca/event/messe-a-11h15/2026-11-24/
LOCATION:Sanctuaire Montmartre\, 1679\, chemin Saint-Louis\, Québec\, Québec\, G1S 1G5\, Canada
CATEGORIES:Offices religieux
END:VEVENT
BEGIN:VEVENT
DTSTART;TZID=America/Montreal:20261125T111500
DTEND;TZID=America/Montreal:20261125T115000
DTSTAMP:20260423T035952
CREATED:20260105T000306Z
LAST-MODIFIED:20260105T000306Z
UID:10012025-1795605300-1795607400@www.lemontmartre.ca
SUMMARY:Messe à 11h15
DESCRIPTION:
URL:https://www.lemontmartre.ca/event/messe-a-11h15/2026-11-25/
LOCATION:Sanctuaire Montmartre\, 1679\, chemin Saint-Louis\, Québec\, Québec\, G1S 1G5\, Canada
CATEGORIES:Offices religieux
END:VEVENT
BEGIN:VEVENT
DTSTART;TZID=America/Montreal:20261126T111500
DTEND;TZID=America/Montreal:20261126T115000
DTSTAMP:20260423T035952
CREATED:20260105T000306Z
LAST-MODIFIED:20260105T000306Z
UID:10012026-1795691700-1795693800@www.lemontmartre.ca
SUMMARY:Messe à 11h15
DESCRIPTION:
URL:https://www.lemontmartre.ca/event/messe-a-11h15/2026-11-26/
LOCATION:Sanctuaire Montmartre\, 1679\, chemin Saint-Louis\, Québec\, Québec\, G1S 1G5\, Canada
CATEGORIES:Offices religieux
END:VEVENT
BEGIN:VEVENT
DTSTART;TZID=America/Montreal:20261127T111500
DTEND;TZID=America/Montreal:20261127T115000
DTSTAMP:20260423T035952
CREATED:20260105T000306Z
LAST-MODIFIED:20260105T000306Z
UID:10012027-1795778100-1795780200@www.lemontmartre.ca
SUMMARY:Messe à 11h15
DESCRIPTION:
URL:https://www.lemontmartre.ca/event/messe-a-11h15/2026-11-27/
LOCATION:Sanctuaire Montmartre\, 1679\, chemin Saint-Louis\, Québec\, Québec\, G1S 1G5\, Canada
CATEGORIES:Offices religieux
END:VEVENT
BEGIN:VEVENT
DTSTART;TZID=America/Montreal:20261128T111500
DTEND;TZID=America/Montreal:20261128T115000
DTSTAMP:20260423T035952
CREATED:20260105T000306Z
LAST-MODIFIED:20260105T000306Z
UID:10012028-1795864500-1795866600@www.lemontmartre.ca
SUMMARY:Messe à 11h15
DESCRIPTION:
URL:https://www.lemontmartre.ca/event/messe-a-11h15/2026-11-28/
LOCATION:Sanctuaire Montmartre\, 1679\, chemin Saint-Louis\, Québec\, Québec\, G1S 1G5\, Canada
CATEGORIES:Offices religieux
END:VEVENT
BEGIN:VEVENT
DTSTART;TZID=America/Montreal:20261130T111500
DTEND;TZID=America/Montreal:20261130T115000
DTSTAMP:20260423T035952
CREATED:20260105T000306Z
LAST-MODIFIED:20260105T000306Z
UID:10012029-1796037300-1796039400@www.lemontmartre.ca
SUMMARY:Messe à 11h15
DESCRIPTION:
URL:https://www.lemontmartre.ca/event/messe-a-11h15/2026-11-30/
LOCATION:Sanctuaire Montmartre\, 1679\, chemin Saint-Louis\, Québec\, Québec\, G1S 1G5\, Canada
CATEGORIES:Offices religieux
END:VEVENT
BEGIN:VEVENT
DTSTART;TZID=America/Montreal:20261201T111500
DTEND;TZID=America/Montreal:20261201T115000
DTSTAMP:20260423T035952
CREATED:20260105T000306Z
LAST-MODIFIED:20260105T000306Z
UID:10012030-1796123700-1796125800@www.lemontmartre.ca
SUMMARY:Messe à 11h15
DESCRIPTION:
URL:https://www.lemontmartre.ca/event/messe-a-11h15/2026-12-01/
LOCATION:Sanctuaire Montmartre\, 1679\, chemin Saint-Louis\, Québec\, Québec\, G1S 1G5\, Canada
CATEGORIES:Offices religieux
END:VEVENT
BEGIN:VEVENT
DTSTART;TZID=America/Montreal:20261202T111500
DTEND;TZID=America/Montreal:20261202T115000
DTSTAMP:20260423T035952
CREATED:20260105T000306Z
LAST-MODIFIED:20260105T000306Z
UID:10012031-1796210100-1796212200@www.lemontmartre.ca
SUMMARY:Messe à 11h15
DESCRIPTION:
URL:https://www.lemontmartre.ca/event/messe-a-11h15/2026-12-02/
LOCATION:Sanctuaire Montmartre\, 1679\, chemin Saint-Louis\, Québec\, Québec\, G1S 1G5\, Canada
CATEGORIES:Offices religieux
END:VEVENT
BEGIN:VEVENT
DTSTART;TZID=America/Montreal:20261203T111500
DTEND;TZID=America/Montreal:20261203T115000
DTSTAMP:20260423T035952
CREATED:20260105T000306Z
LAST-MODIFIED:20260105T000306Z
UID:10012032-1796296500-1796298600@www.lemontmartre.ca
SUMMARY:Messe à 11h15
DESCRIPTION:
URL:https://www.lemontmartre.ca/event/messe-a-11h15/2026-12-03/
LOCATION:Sanctuaire Montmartre\, 1679\, chemin Saint-Louis\, Québec\, Québec\, G1S 1G5\, Canada
CATEGORIES:Offices religieux
END:VEVENT
BEGIN:VEVENT
DTSTART;TZID=America/Montreal:20261204T111500
DTEND;TZID=America/Montreal:20261204T115000
DTSTAMP:20260423T035952
CREATED:20260105T000306Z
LAST-MODIFIED:20260105T000306Z
UID:10012033-1796382900-1796385000@www.lemontmartre.ca
SUMMARY:Messe à 11h15
DESCRIPTION:
URL:https://www.lemontmartre.ca/event/messe-a-11h15/2026-12-04/
LOCATION:Sanctuaire Montmartre\, 1679\, chemin Saint-Louis\, Québec\, Québec\, G1S 1G5\, Canada
CATEGORIES:Offices religieux
END:VEVENT
BEGIN:VEVENT
DTSTART;TZID=America/Montreal:20261205T111500
DTEND;TZID=America/Montreal:20261205T115000
DTSTAMP:20260423T035952
CREATED:20260105T000306Z
LAST-MODIFIED:20260105T000306Z
UID:10012034-1796469300-1796471400@www.lemontmartre.ca
SUMMARY:Messe à 11h15
DESCRIPTION:
URL:https://www.lemontmartre.ca/event/messe-a-11h15/2026-12-05/
LOCATION:Sanctuaire Montmartre\, 1679\, chemin Saint-Louis\, Québec\, Québec\, G1S 1G5\, Canada
CATEGORIES:Offices religieux
END:VEVENT
BEGIN:VEVENT
DTSTART;TZID=America/Montreal:20261207T111500
DTEND;TZID=America/Montreal:20261207T115000
DTSTAMP:20260423T035952
CREATED:20260105T000306Z
LAST-MODIFIED:20260105T000306Z
UID:10012035-1796642100-1796644200@www.lemontmartre.ca
SUMMARY:Messe à 11h15
DESCRIPTION:
URL:https://www.lemontmartre.ca/event/messe-a-11h15/2026-12-07/
LOCATION:Sanctuaire Montmartre\, 1679\, chemin Saint-Louis\, Québec\, Québec\, G1S 1G5\, Canada
CATEGORIES:Offices religieux
END:VEVENT
BEGIN:VEVENT
DTSTART;TZID=America/Montreal:20261208T111500
DTEND;TZID=America/Montreal:20261208T115000
DTSTAMP:20260423T035952
CREATED:20260105T000306Z
LAST-MODIFIED:20260105T000306Z
UID:10012036-1796728500-1796730600@www.lemontmartre.ca
SUMMARY:Messe à 11h15
DESCRIPTION:
URL:https://www.lemontmartre.ca/event/messe-a-11h15/2026-12-08/
LOCATION:Sanctuaire Montmartre\, 1679\, chemin Saint-Louis\, Québec\, Québec\, G1S 1G5\, Canada
CATEGORIES:Offices religieux
END:VEVENT
BEGIN:VEVENT
DTSTART;TZID=America/Montreal:20261209T111500
DTEND;TZID=America/Montreal:20261209T115000
DTSTAMP:20260423T035952
CREATED:20260105T000306Z
LAST-MODIFIED:20260105T000306Z
UID:10012037-1796814900-1796817000@www.lemontmartre.ca
SUMMARY:Messe à 11h15
DESCRIPTION:
URL:https://www.lemontmartre.ca/event/messe-a-11h15/2026-12-09/
LOCATION:Sanctuaire Montmartre\, 1679\, chemin Saint-Louis\, Québec\, Québec\, G1S 1G5\, Canada
CATEGORIES:Offices religieux
END:VEVENT
BEGIN:VEVENT
DTSTART;TZID=America/Montreal:20261210T111500
DTEND;TZID=America/Montreal:20261210T115000
DTSTAMP:20260423T035952
CREATED:20260105T000306Z
LAST-MODIFIED:20260105T000306Z
UID:10012038-1796901300-1796903400@www.lemontmartre.ca
SUMMARY:Messe à 11h15
DESCRIPTION:
URL:https://www.lemontmartre.ca/event/messe-a-11h15/2026-12-10/
LOCATION:Sanctuaire Montmartre\, 1679\, chemin Saint-Louis\, Québec\, Québec\, G1S 1G5\, Canada
CATEGORIES:Offices religieux
END:VEVENT
BEGIN:VEVENT
DTSTART;TZID=America/Montreal:20261211T111500
DTEND;TZID=America/Montreal:20261211T115000
DTSTAMP:20260423T035952
CREATED:20260105T000306Z
LAST-MODIFIED:20260105T000306Z
UID:10012039-1796987700-1796989800@www.lemontmartre.ca
SUMMARY:Messe à 11h15
DESCRIPTION:
URL:https://www.lemontmartre.ca/event/messe-a-11h15/2026-12-11/
LOCATION:Sanctuaire Montmartre\, 1679\, chemin Saint-Louis\, Québec\, Québec\, G1S 1G5\, Canada
CATEGORIES:Offices religieux
END:VEVENT
BEGIN:VEVENT
DTSTART;TZID=America/Montreal:20261212T111500
DTEND;TZID=America/Montreal:20261212T115000
DTSTAMP:20260423T035952
CREATED:20260105T000306Z
LAST-MODIFIED:20260105T000306Z
UID:10012040-1797074100-1797076200@www.lemontmartre.ca
SUMMARY:Messe à 11h15
DESCRIPTION:
URL:https://www.lemontmartre.ca/event/messe-a-11h15/2026-12-12/
LOCATION:Sanctuaire Montmartre\, 1679\, chemin Saint-Louis\, Québec\, Québec\, G1S 1G5\, Canada
CATEGORIES:Offices religieux
END:VEVENT
BEGIN:VEVENT
DTSTART;TZID=America/Montreal:20261214T111500
DTEND;TZID=America/Montreal:20261214T115000
DTSTAMP:20260423T035952
CREATED:20260105T000306Z
LAST-MODIFIED:20260105T000306Z
UID:10012041-1797246900-1797249000@www.lemontmartre.ca
SUMMARY:Messe à 11h15
DESCRIPTION:
URL:https://www.lemontmartre.ca/event/messe-a-11h15/2026-12-14/
LOCATION:Sanctuaire Montmartre\, 1679\, chemin Saint-Louis\, Québec\, Québec\, G1S 1G5\, Canada
CATEGORIES:Offices religieux
END:VEVENT
END:VCALENDAR