BEGIN:VCALENDAR
VERSION:2.0
PRODID:-//Le Montmartre - ECPv6.15.13//NONSGML v1.0//EN
CALSCALE:GREGORIAN
METHOD:PUBLISH
X-ORIGINAL-URL:https://www.lemontmartre.ca
X-WR-CALDESC:Évènements pour Le Montmartre
REFRESH-INTERVAL;VALUE=DURATION:PT1H
X-Robots-Tag:noindex
X-PUBLISHED-TTL:PT1H
BEGIN:VTIMEZONE
TZID:America/Montreal
BEGIN:DAYLIGHT
TZOFFSETFROM:-0500
TZOFFSETTO:-0400
TZNAME:EDT
DTSTART:20250309T070000
END:DAYLIGHT
BEGIN:STANDARD
TZOFFSETFROM:-0400
TZOFFSETTO:-0500
TZNAME:EST
DTSTART:20251102T060000
END:STANDARD
BEGIN:DAYLIGHT
TZOFFSETFROM:-0500
TZOFFSETTO:-0400
TZNAME:EDT
DTSTART:20260308T070000
END:DAYLIGHT
BEGIN:STANDARD
TZOFFSETFROM:-0400
TZOFFSETTO:-0500
TZNAME:EST
DTSTART:20261101T060000
END:STANDARD
BEGIN:DAYLIGHT
TZOFFSETFROM:-0500
TZOFFSETTO:-0400
TZNAME:EDT
DTSTART:20270314T070000
END:DAYLIGHT
BEGIN:STANDARD
TZOFFSETFROM:-0400
TZOFFSETTO:-0500
TZNAME:EST
DTSTART:20271107T060000
END:STANDARD
END:VTIMEZONE
BEGIN:VEVENT
DTSTART;TZID=America/Montreal:20260203T111500
DTEND;TZID=America/Montreal:20260203T115000
DTSTAMP:20260422T110437
CREATED:20260105T000306Z
LAST-MODIFIED:20260105T000306Z
UID:10011781-1770117300-1770119400@www.lemontmartre.ca
SUMMARY:Messe à 11h15
DESCRIPTION:
URL:https://www.lemontmartre.ca/event/messe-a-11h15/2026-02-03/
LOCATION:Sanctuaire Montmartre\, 1679\, chemin Saint-Louis\, Québec\, Québec\, G1S 1G5\, Canada
CATEGORIES:Offices religieux
END:VEVENT
BEGIN:VEVENT
DTSTART;TZID=America/Montreal:20260203T072500
DTEND;TZID=America/Montreal:20260203T075500
DTSTAMP:20260422T110437
CREATED:20260214T021845Z
LAST-MODIFIED:20260214T021845Z
UID:10012405-1770103500-1770105300@www.lemontmartre.ca
SUMMARY:Messe à 7h25
DESCRIPTION:
URL:https://www.lemontmartre.ca/event/messe-a-7h25-2/2026-02-03/
LOCATION:Sanctuaire Montmartre\, 1679\, chemin Saint-Louis\, Québec\, Québec\, G1S 1G5\, Canada
CATEGORIES:Offices religieux
END:VEVENT
BEGIN:VEVENT
DTSTART;TZID=America/Montreal:20260203T070000
DTEND;TZID=America/Montreal:20260203T072000
DTSTAMP:20260422T110437
CREATED:20260104T234059Z
LAST-MODIFIED:20260104T234059Z
UID:10011584-1770102000-1770103200@www.lemontmartre.ca
SUMMARY:Laudes
DESCRIPTION:
URL:https://www.lemontmartre.ca/event/laudes-2/2026-02-03/
LOCATION:Sanctuaire Montmartre\, 1679\, chemin Saint-Louis\, Québec\, Québec\, G1S 1G5\, Canada
CATEGORIES:Offices religieux
END:VEVENT
BEGIN:VEVENT
DTSTART;TZID=America/Montreal:20260202T193000
DTEND;TZID=America/Montreal:20260202T210000
DTSTAMP:20260422T110437
CREATED:20260117T050509Z
LAST-MODIFIED:20260124T005459Z
UID:10012260-1770060600-1770066000@www.lemontmartre.ca
SUMMARY:«PRENDRE SOIN DE NOTRE ÊTRE AU FIL DES SAISONS DE NOTRE VIE» En compagnie et à l’écoute des "Écrits Spirituels" de François de Laval
DESCRIPTION:Formation en PRÉSENTIEL et en ZOOM*. \n*ZOOM sera accessible seulement aux personnes qui habitent à l’extérieur de la ville de Québec et pour qui il est impossible de se rendre à la rencontre en présentiel.
URL:https://www.lemontmartre.ca/event/prendre-soin-de-notre-etre-au-fil-des-saisons-de-notre-vie-en-compagnie-et-a-lecoute-des-ecrits-spirituels-de-francois-de-laval/2026-02-02/
LOCATION:Sanctuaire Montmartre\, 1679\, chemin Saint-Louis\, Québec\, Québec\, G1S 1G5\, Canada
CATEGORIES:Formations
ATTACH;FMTTYPE=image/jpeg:https://www.lemontmartre.ca/wp-content/uploads/2026/01/Formation-Francois-de-Laval-Edouard-Shatov-Hiver-Ete-2026-Facebook-Cover.jpg
END:VEVENT
BEGIN:VEVENT
DTSTART;TZID=America/Montreal:20260202T173000
DTEND;TZID=America/Montreal:20260202T175000
DTSTAMP:20260422T110437
CREATED:20260105T001422Z
LAST-MODIFIED:20260105T001422Z
UID:10012080-1770053400-1770054600@www.lemontmartre.ca
SUMMARY:Vêpres
DESCRIPTION:Les vêpres sont précédées de méditation dite oraison pendant 30 minutes.
URL:https://www.lemontmartre.ca/event/vepres-2/2026-02-02/
LOCATION:Sanctuaire Montmartre\, 1679\, chemin Saint-Louis\, Québec\, Québec\, G1S 1G5\, Canada
CATEGORIES:Offices religieux
END:VEVENT
BEGIN:VEVENT
DTSTART;TZID=America/Montreal:20260202T111500
DTEND;TZID=America/Montreal:20260202T115000
DTSTAMP:20260422T110437
CREATED:20260105T000306Z
LAST-MODIFIED:20260105T000306Z
UID:10011780-1770030900-1770033000@www.lemontmartre.ca
SUMMARY:Messe à 11h15
DESCRIPTION:
URL:https://www.lemontmartre.ca/event/messe-a-11h15/2026-02-02/
LOCATION:Sanctuaire Montmartre\, 1679\, chemin Saint-Louis\, Québec\, Québec\, G1S 1G5\, Canada
CATEGORIES:Offices religieux
END:VEVENT
BEGIN:VEVENT
DTSTART;TZID=America/Montreal:20260202T072500
DTEND;TZID=America/Montreal:20260202T075500
DTSTAMP:20260422T110437
CREATED:20260214T021845Z
LAST-MODIFIED:20260214T021845Z
UID:10012404-1770017100-1770018900@www.lemontmartre.ca
SUMMARY:Messe à 7h25
DESCRIPTION:
URL:https://www.lemontmartre.ca/event/messe-a-7h25-2/2026-02-02/
LOCATION:Sanctuaire Montmartre\, 1679\, chemin Saint-Louis\, Québec\, Québec\, G1S 1G5\, Canada
CATEGORIES:Offices religieux
END:VEVENT
BEGIN:VEVENT
DTSTART;TZID=America/Montreal:20260202T070000
DTEND;TZID=America/Montreal:20260202T072000
DTSTAMP:20260422T110437
CREATED:20260104T234059Z
LAST-MODIFIED:20260104T234059Z
UID:10011583-1770015600-1770016800@www.lemontmartre.ca
SUMMARY:Laudes
DESCRIPTION:
URL:https://www.lemontmartre.ca/event/laudes-2/2026-02-02/
LOCATION:Sanctuaire Montmartre\, 1679\, chemin Saint-Louis\, Québec\, Québec\, G1S 1G5\, Canada
CATEGORIES:Offices religieux
END:VEVENT
BEGIN:VEVENT
DTSTART;TZID=America/Montreal:20260201T080000
DTEND;TZID=America/Montreal:20260201T082000
DTSTAMP:20260422T110437
CREATED:20260105T003233Z
LAST-MODIFIED:20260105T003233Z
UID:10012207-1769932800-1769934000@www.lemontmartre.ca
SUMMARY:Laudes
DESCRIPTION:
URL:https://www.lemontmartre.ca/event/laudes-3/2026-02-01/
LOCATION:Sanctuaire Montmartre\, 1679\, chemin Saint-Louis\, Québec\, Québec\, G1S 1G5\, Canada
CATEGORIES:Offices religieux
END:VEVENT
BEGIN:VEVENT
DTSTART;TZID=America/Montreal:20260131T173000
DTEND;TZID=America/Montreal:20260131T175000
DTSTAMP:20260422T110437
CREATED:20260105T001422Z
LAST-MODIFIED:20260105T001422Z
UID:10012079-1769880600-1769881800@www.lemontmartre.ca
SUMMARY:Vêpres
DESCRIPTION:Les vêpres sont précédées de méditation dite oraison pendant 30 minutes.
URL:https://www.lemontmartre.ca/event/vepres-2/2026-01-31/
LOCATION:Sanctuaire Montmartre\, 1679\, chemin Saint-Louis\, Québec\, Québec\, G1S 1G5\, Canada
CATEGORIES:Offices religieux
END:VEVENT
BEGIN:VEVENT
DTSTART;TZID=America/Montreal:20260131T111500
DTEND;TZID=America/Montreal:20260131T115000
DTSTAMP:20260422T110437
CREATED:20260105T000306Z
LAST-MODIFIED:20260105T000306Z
UID:10011779-1769858100-1769860200@www.lemontmartre.ca
SUMMARY:Messe à 11h15
DESCRIPTION:
URL:https://www.lemontmartre.ca/event/messe-a-11h15/2026-01-31/
LOCATION:Sanctuaire Montmartre\, 1679\, chemin Saint-Louis\, Québec\, Québec\, G1S 1G5\, Canada
CATEGORIES:Offices religieux
END:VEVENT
BEGIN:VEVENT
DTSTART;TZID=America/Montreal:20260130T173000
DTEND;TZID=America/Montreal:20260130T175000
DTSTAMP:20260422T110437
CREATED:20260105T001422Z
LAST-MODIFIED:20260105T001422Z
UID:10012078-1769794200-1769795400@www.lemontmartre.ca
SUMMARY:Vêpres
DESCRIPTION:Les vêpres sont précédées de méditation dite oraison pendant 30 minutes.
URL:https://www.lemontmartre.ca/event/vepres-2/2026-01-30/
LOCATION:Sanctuaire Montmartre\, 1679\, chemin Saint-Louis\, Québec\, Québec\, G1S 1G5\, Canada
CATEGORIES:Offices religieux
END:VEVENT
BEGIN:VEVENT
DTSTART;TZID=America/Montreal:20260130T170000
DTEND;TZID=America/Montreal:20260130T173000
DTSTAMP:20260422T110437
CREATED:20260105T002130Z
LAST-MODIFIED:20260105T004525Z
UID:10012184-1769792400-1769794200@www.lemontmartre.ca
SUMMARY:Adoration
DESCRIPTION:
URL:https://www.lemontmartre.ca/event/adoration-2/2026-01-30/
LOCATION:Sanctuaire Montmartre\, 1679\, chemin Saint-Louis\, Québec\, Québec\, G1S 1G5\, Canada
CATEGORIES:Offices religieux
END:VEVENT
BEGIN:VEVENT
DTSTART;TZID=America/Montreal:20260130T111500
DTEND;TZID=America/Montreal:20260130T115000
DTSTAMP:20260422T110437
CREATED:20260105T000306Z
LAST-MODIFIED:20260105T000306Z
UID:10011778-1769771700-1769773800@www.lemontmartre.ca
SUMMARY:Messe à 11h15
DESCRIPTION:
URL:https://www.lemontmartre.ca/event/messe-a-11h15/2026-01-30/
LOCATION:Sanctuaire Montmartre\, 1679\, chemin Saint-Louis\, Québec\, Québec\, G1S 1G5\, Canada
CATEGORIES:Offices religieux
END:VEVENT
BEGIN:VEVENT
DTSTART;TZID=America/Montreal:20260130T072500
DTEND;TZID=America/Montreal:20260130T075500
DTSTAMP:20260422T110437
CREATED:20260214T021845Z
LAST-MODIFIED:20260214T021845Z
UID:10012403-1769757900-1769759700@www.lemontmartre.ca
SUMMARY:Messe à 7h25
DESCRIPTION:
URL:https://www.lemontmartre.ca/event/messe-a-7h25-2/2026-01-30/
LOCATION:Sanctuaire Montmartre\, 1679\, chemin Saint-Louis\, Québec\, Québec\, G1S 1G5\, Canada
CATEGORIES:Offices religieux
END:VEVENT
BEGIN:VEVENT
DTSTART;TZID=America/Montreal:20260130T070000
DTEND;TZID=America/Montreal:20260130T072000
DTSTAMP:20260422T110437
CREATED:20260104T234059Z
LAST-MODIFIED:20260104T234059Z
UID:10011582-1769756400-1769757600@www.lemontmartre.ca
SUMMARY:Laudes
DESCRIPTION:
URL:https://www.lemontmartre.ca/event/laudes-2/2026-01-30/
LOCATION:Sanctuaire Montmartre\, 1679\, chemin Saint-Louis\, Québec\, Québec\, G1S 1G5\, Canada
CATEGORIES:Offices religieux
END:VEVENT
BEGIN:VEVENT
DTSTART;TZID=America/Montreal:20260129T173000
DTEND;TZID=America/Montreal:20260129T175000
DTSTAMP:20260422T110437
CREATED:20260105T001422Z
LAST-MODIFIED:20260105T001422Z
UID:10012077-1769707800-1769709000@www.lemontmartre.ca
SUMMARY:Vêpres
DESCRIPTION:Les vêpres sont précédées de méditation dite oraison pendant 30 minutes.
URL:https://www.lemontmartre.ca/event/vepres-2/2026-01-29/
LOCATION:Sanctuaire Montmartre\, 1679\, chemin Saint-Louis\, Québec\, Québec\, G1S 1G5\, Canada
CATEGORIES:Offices religieux
END:VEVENT
BEGIN:VEVENT
DTSTART;TZID=America/Montreal:20260129T111500
DTEND;TZID=America/Montreal:20260129T115000
DTSTAMP:20260422T110437
CREATED:20260105T000306Z
LAST-MODIFIED:20260105T000306Z
UID:10011777-1769685300-1769687400@www.lemontmartre.ca
SUMMARY:Messe à 11h15
DESCRIPTION:
URL:https://www.lemontmartre.ca/event/messe-a-11h15/2026-01-29/
LOCATION:Sanctuaire Montmartre\, 1679\, chemin Saint-Louis\, Québec\, Québec\, G1S 1G5\, Canada
CATEGORIES:Offices religieux
END:VEVENT
BEGIN:VEVENT
DTSTART;TZID=America/Montreal:20260129T072500
DTEND;TZID=America/Montreal:20260129T075500
DTSTAMP:20260422T110437
CREATED:20260214T021845Z
LAST-MODIFIED:20260214T021845Z
UID:10012402-1769671500-1769673300@www.lemontmartre.ca
SUMMARY:Messe à 7h25
DESCRIPTION:
URL:https://www.lemontmartre.ca/event/messe-a-7h25-2/2026-01-29/
LOCATION:Sanctuaire Montmartre\, 1679\, chemin Saint-Louis\, Québec\, Québec\, G1S 1G5\, Canada
CATEGORIES:Offices religieux
END:VEVENT
BEGIN:VEVENT
DTSTART;TZID=America/Montreal:20260129T070000
DTEND;TZID=America/Montreal:20260129T072000
DTSTAMP:20260422T110437
CREATED:20260104T234059Z
LAST-MODIFIED:20260104T234059Z
UID:10011581-1769670000-1769671200@www.lemontmartre.ca
SUMMARY:Laudes
DESCRIPTION:
URL:https://www.lemontmartre.ca/event/laudes-2/2026-01-29/
LOCATION:Sanctuaire Montmartre\, 1679\, chemin Saint-Louis\, Québec\, Québec\, G1S 1G5\, Canada
CATEGORIES:Offices religieux
END:VEVENT
BEGIN:VEVENT
DTSTART;TZID=America/Montreal:20260128T173000
DTEND;TZID=America/Montreal:20260128T175000
DTSTAMP:20260422T110437
CREATED:20260105T001422Z
LAST-MODIFIED:20260105T001422Z
UID:10012076-1769621400-1769622600@www.lemontmartre.ca
SUMMARY:Vêpres
DESCRIPTION:Les vêpres sont précédées de méditation dite oraison pendant 30 minutes.
URL:https://www.lemontmartre.ca/event/vepres-2/2026-01-28/
LOCATION:Sanctuaire Montmartre\, 1679\, chemin Saint-Louis\, Québec\, Québec\, G1S 1G5\, Canada
CATEGORIES:Offices religieux
END:VEVENT
BEGIN:VEVENT
DTSTART;TZID=America/Montreal:20260128T150000
DTEND;TZID=America/Montreal:20260128T163000
DTSTAMP:20260422T110437
CREATED:20260117T045810Z
LAST-MODIFIED:20260124T004824Z
UID:10012250-1769612400-1769617800@www.lemontmartre.ca
SUMMARY:«DIEU EST À L'OEUVRE EN CET ÂGE».  "Les Actes des Apôtres" comme compagnon de route pour la vie heureuse et unifiée au quotidien
DESCRIPTION:Formation en PRÉSENTIEL et en ZOOM* \n*ZOOM sera accessible seulement aux personnes qui habitent à l’extérieur de la ville de Québec et pour qui il est impossible de se rendre à la rencontre en présentiel.
URL:https://www.lemontmartre.ca/event/dieu-est-a-loeuvre-en-cet-age-les-actes-des-apotres-comme-compagnon-de-route-pour-la-vie-heureuse-et-unifiee-au-quotidien-2/2026-01-28/
LOCATION:Sanctuaire Montmartre\, 1679\, chemin Saint-Louis\, Québec\, Québec\, G1S 1G5\, Canada
CATEGORIES:Formations
ATTACH;FMTTYPE=image/jpeg:https://www.lemontmartre.ca/wp-content/uploads/2025/09/Formation-Actes-des-Apotres-Edouard-Shatov-Automne-2025-Facebook-Cover-scaled.jpg
END:VEVENT
BEGIN:VEVENT
DTSTART;TZID=America/Montreal:20260128T111500
DTEND;TZID=America/Montreal:20260128T115000
DTSTAMP:20260422T110437
CREATED:20260105T000306Z
LAST-MODIFIED:20260105T000306Z
UID:10011776-1769598900-1769601000@www.lemontmartre.ca
SUMMARY:Messe à 11h15
DESCRIPTION:
URL:https://www.lemontmartre.ca/event/messe-a-11h15/2026-01-28/
LOCATION:Sanctuaire Montmartre\, 1679\, chemin Saint-Louis\, Québec\, Québec\, G1S 1G5\, Canada
CATEGORIES:Offices religieux
END:VEVENT
BEGIN:VEVENT
DTSTART;TZID=America/Montreal:20260128T072500
DTEND;TZID=America/Montreal:20260128T075500
DTSTAMP:20260422T110437
CREATED:20260214T021845Z
LAST-MODIFIED:20260214T021845Z
UID:10012401-1769585100-1769586900@www.lemontmartre.ca
SUMMARY:Messe à 7h25
DESCRIPTION:
URL:https://www.lemontmartre.ca/event/messe-a-7h25-2/2026-01-28/
LOCATION:Sanctuaire Montmartre\, 1679\, chemin Saint-Louis\, Québec\, Québec\, G1S 1G5\, Canada
CATEGORIES:Offices religieux
END:VEVENT
BEGIN:VEVENT
DTSTART;TZID=America/Montreal:20260128T070000
DTEND;TZID=America/Montreal:20260128T072000
DTSTAMP:20260422T110437
CREATED:20260104T234059Z
LAST-MODIFIED:20260104T234059Z
UID:10011580-1769583600-1769584800@www.lemontmartre.ca
SUMMARY:Laudes
DESCRIPTION:
URL:https://www.lemontmartre.ca/event/laudes-2/2026-01-28/
LOCATION:Sanctuaire Montmartre\, 1679\, chemin Saint-Louis\, Québec\, Québec\, G1S 1G5\, Canada
CATEGORIES:Offices religieux
END:VEVENT
BEGIN:VEVENT
DTSTART;TZID=America/Montreal:20260127T173000
DTEND;TZID=America/Montreal:20260127T175000
DTSTAMP:20260422T110437
CREATED:20260105T001422Z
LAST-MODIFIED:20260105T001422Z
UID:10012075-1769535000-1769536200@www.lemontmartre.ca
SUMMARY:Vêpres
DESCRIPTION:Les vêpres sont précédées de méditation dite oraison pendant 30 minutes.
URL:https://www.lemontmartre.ca/event/vepres-2/2026-01-27/
LOCATION:Sanctuaire Montmartre\, 1679\, chemin Saint-Louis\, Québec\, Québec\, G1S 1G5\, Canada
CATEGORIES:Offices religieux
END:VEVENT
BEGIN:VEVENT
DTSTART;TZID=America/Montreal:20260127T111500
DTEND;TZID=America/Montreal:20260127T115000
DTSTAMP:20260422T110437
CREATED:20260105T000306Z
LAST-MODIFIED:20260105T000306Z
UID:10011775-1769512500-1769514600@www.lemontmartre.ca
SUMMARY:Messe à 11h15
DESCRIPTION:
URL:https://www.lemontmartre.ca/event/messe-a-11h15/2026-01-27/
LOCATION:Sanctuaire Montmartre\, 1679\, chemin Saint-Louis\, Québec\, Québec\, G1S 1G5\, Canada
CATEGORIES:Offices religieux
END:VEVENT
BEGIN:VEVENT
DTSTART;TZID=America/Montreal:20260127T072500
DTEND;TZID=America/Montreal:20260127T075500
DTSTAMP:20260422T110437
CREATED:20260214T021845Z
LAST-MODIFIED:20260214T021845Z
UID:10012400-1769498700-1769500500@www.lemontmartre.ca
SUMMARY:Messe à 7h25
DESCRIPTION:
URL:https://www.lemontmartre.ca/event/messe-a-7h25-2/2026-01-27/
LOCATION:Sanctuaire Montmartre\, 1679\, chemin Saint-Louis\, Québec\, Québec\, G1S 1G5\, Canada
CATEGORIES:Offices religieux
END:VEVENT
BEGIN:VEVENT
DTSTART;TZID=America/Montreal:20260127T070000
DTEND;TZID=America/Montreal:20260127T072000
DTSTAMP:20260422T110437
CREATED:20260104T234059Z
LAST-MODIFIED:20260104T234059Z
UID:10011579-1769497200-1769498400@www.lemontmartre.ca
SUMMARY:Laudes
DESCRIPTION:
URL:https://www.lemontmartre.ca/event/laudes-2/2026-01-27/
LOCATION:Sanctuaire Montmartre\, 1679\, chemin Saint-Louis\, Québec\, Québec\, G1S 1G5\, Canada
CATEGORIES:Offices religieux
END:VEVENT
BEGIN:VEVENT
DTSTART;TZID=America/Montreal:20260126T173000
DTEND;TZID=America/Montreal:20260126T175000
DTSTAMP:20260422T110437
CREATED:20260105T001422Z
LAST-MODIFIED:20260105T001422Z
UID:10012074-1769448600-1769449800@www.lemontmartre.ca
SUMMARY:Vêpres
DESCRIPTION:Les vêpres sont précédées de méditation dite oraison pendant 30 minutes.
URL:https://www.lemontmartre.ca/event/vepres-2/2026-01-26/
LOCATION:Sanctuaire Montmartre\, 1679\, chemin Saint-Louis\, Québec\, Québec\, G1S 1G5\, Canada
CATEGORIES:Offices religieux
END:VEVENT
END:VCALENDAR