BEGIN:VCALENDAR
VERSION:2.0
PRODID:-//Le Montmartre - ECPv6.15.13//NONSGML v1.0//EN
CALSCALE:GREGORIAN
METHOD:PUBLISH
X-WR-CALNAME:Le Montmartre
X-ORIGINAL-URL:https://www.lemontmartre.ca
X-WR-CALDESC:Évènements pour Le Montmartre
REFRESH-INTERVAL;VALUE=DURATION:PT1H
X-Robots-Tag:noindex
X-PUBLISHED-TTL:PT1H
BEGIN:VTIMEZONE
TZID:America/Montreal
BEGIN:DAYLIGHT
TZOFFSETFROM:-0500
TZOFFSETTO:-0400
TZNAME:EDT
DTSTART:20250309T070000
END:DAYLIGHT
BEGIN:STANDARD
TZOFFSETFROM:-0400
TZOFFSETTO:-0500
TZNAME:EST
DTSTART:20251102T060000
END:STANDARD
BEGIN:DAYLIGHT
TZOFFSETFROM:-0500
TZOFFSETTO:-0400
TZNAME:EDT
DTSTART:20260308T070000
END:DAYLIGHT
BEGIN:STANDARD
TZOFFSETFROM:-0400
TZOFFSETTO:-0500
TZNAME:EST
DTSTART:20261101T060000
END:STANDARD
BEGIN:DAYLIGHT
TZOFFSETFROM:-0500
TZOFFSETTO:-0400
TZNAME:EDT
DTSTART:20270314T070000
END:DAYLIGHT
BEGIN:STANDARD
TZOFFSETFROM:-0400
TZOFFSETTO:-0500
TZNAME:EST
DTSTART:20271107T060000
END:STANDARD
END:VTIMEZONE
BEGIN:VEVENT
DTSTART;TZID=America/Montreal:20261013T111500
DTEND;TZID=America/Montreal:20261013T115000
DTSTAMP:20260423T010923
CREATED:20260105T000306Z
LAST-MODIFIED:20260105T000306Z
UID:10011988-1791890100-1791892200@www.lemontmartre.ca
SUMMARY:Messe à 11h15
DESCRIPTION:
URL:https://www.lemontmartre.ca/event/messe-a-11h15/2026-10-13/
LOCATION:Sanctuaire Montmartre\, 1679\, chemin Saint-Louis\, Québec\, Québec\, G1S 1G5\, Canada
CATEGORIES:Offices religieux
END:VEVENT
BEGIN:VEVENT
DTSTART;TZID=America/Montreal:20261014T111500
DTEND;TZID=America/Montreal:20261014T115000
DTSTAMP:20260423T010923
CREATED:20260105T000306Z
LAST-MODIFIED:20260105T000306Z
UID:10011989-1791976500-1791978600@www.lemontmartre.ca
SUMMARY:Messe à 11h15
DESCRIPTION:
URL:https://www.lemontmartre.ca/event/messe-a-11h15/2026-10-14/
LOCATION:Sanctuaire Montmartre\, 1679\, chemin Saint-Louis\, Québec\, Québec\, G1S 1G5\, Canada
CATEGORIES:Offices religieux
END:VEVENT
BEGIN:VEVENT
DTSTART;TZID=America/Montreal:20261015T111500
DTEND;TZID=America/Montreal:20261015T115000
DTSTAMP:20260423T010923
CREATED:20260105T000306Z
LAST-MODIFIED:20260105T000306Z
UID:10011990-1792062900-1792065000@www.lemontmartre.ca
SUMMARY:Messe à 11h15
DESCRIPTION:
URL:https://www.lemontmartre.ca/event/messe-a-11h15/2026-10-15/
LOCATION:Sanctuaire Montmartre\, 1679\, chemin Saint-Louis\, Québec\, Québec\, G1S 1G5\, Canada
CATEGORIES:Offices religieux
END:VEVENT
BEGIN:VEVENT
DTSTART;TZID=America/Montreal:20261016T111500
DTEND;TZID=America/Montreal:20261016T115000
DTSTAMP:20260423T010923
CREATED:20260105T000306Z
LAST-MODIFIED:20260105T000306Z
UID:10011991-1792149300-1792151400@www.lemontmartre.ca
SUMMARY:Messe à 11h15
DESCRIPTION:
URL:https://www.lemontmartre.ca/event/messe-a-11h15/2026-10-16/
LOCATION:Sanctuaire Montmartre\, 1679\, chemin Saint-Louis\, Québec\, Québec\, G1S 1G5\, Canada
CATEGORIES:Offices religieux
END:VEVENT
BEGIN:VEVENT
DTSTART;TZID=America/Montreal:20261017T111500
DTEND;TZID=America/Montreal:20261017T115000
DTSTAMP:20260423T010923
CREATED:20260105T000306Z
LAST-MODIFIED:20260105T000306Z
UID:10011992-1792235700-1792237800@www.lemontmartre.ca
SUMMARY:Messe à 11h15
DESCRIPTION:
URL:https://www.lemontmartre.ca/event/messe-a-11h15/2026-10-17/
LOCATION:Sanctuaire Montmartre\, 1679\, chemin Saint-Louis\, Québec\, Québec\, G1S 1G5\, Canada
CATEGORIES:Offices religieux
END:VEVENT
BEGIN:VEVENT
DTSTART;TZID=America/Montreal:20261019T111500
DTEND;TZID=America/Montreal:20261019T115000
DTSTAMP:20260423T010923
CREATED:20260105T000306Z
LAST-MODIFIED:20260105T000306Z
UID:10011993-1792408500-1792410600@www.lemontmartre.ca
SUMMARY:Messe à 11h15
DESCRIPTION:
URL:https://www.lemontmartre.ca/event/messe-a-11h15/2026-10-19/
LOCATION:Sanctuaire Montmartre\, 1679\, chemin Saint-Louis\, Québec\, Québec\, G1S 1G5\, Canada
CATEGORIES:Offices religieux
END:VEVENT
BEGIN:VEVENT
DTSTART;TZID=America/Montreal:20261020T111500
DTEND;TZID=America/Montreal:20261020T115000
DTSTAMP:20260423T010923
CREATED:20260105T000306Z
LAST-MODIFIED:20260105T000306Z
UID:10011994-1792494900-1792497000@www.lemontmartre.ca
SUMMARY:Messe à 11h15
DESCRIPTION:
URL:https://www.lemontmartre.ca/event/messe-a-11h15/2026-10-20/
LOCATION:Sanctuaire Montmartre\, 1679\, chemin Saint-Louis\, Québec\, Québec\, G1S 1G5\, Canada
CATEGORIES:Offices religieux
END:VEVENT
BEGIN:VEVENT
DTSTART;TZID=America/Montreal:20261021T111500
DTEND;TZID=America/Montreal:20261021T115000
DTSTAMP:20260423T010923
CREATED:20260105T000306Z
LAST-MODIFIED:20260105T000306Z
UID:10011995-1792581300-1792583400@www.lemontmartre.ca
SUMMARY:Messe à 11h15
DESCRIPTION:
URL:https://www.lemontmartre.ca/event/messe-a-11h15/2026-10-21/
LOCATION:Sanctuaire Montmartre\, 1679\, chemin Saint-Louis\, Québec\, Québec\, G1S 1G5\, Canada
CATEGORIES:Offices religieux
END:VEVENT
BEGIN:VEVENT
DTSTART;TZID=America/Montreal:20261022T111500
DTEND;TZID=America/Montreal:20261022T115000
DTSTAMP:20260423T010923
CREATED:20260105T000306Z
LAST-MODIFIED:20260105T000306Z
UID:10011996-1792667700-1792669800@www.lemontmartre.ca
SUMMARY:Messe à 11h15
DESCRIPTION:
URL:https://www.lemontmartre.ca/event/messe-a-11h15/2026-10-22/
LOCATION:Sanctuaire Montmartre\, 1679\, chemin Saint-Louis\, Québec\, Québec\, G1S 1G5\, Canada
CATEGORIES:Offices religieux
END:VEVENT
BEGIN:VEVENT
DTSTART;TZID=America/Montreal:20261023T111500
DTEND;TZID=America/Montreal:20261023T115000
DTSTAMP:20260423T010923
CREATED:20260105T000306Z
LAST-MODIFIED:20260105T000306Z
UID:10011997-1792754100-1792756200@www.lemontmartre.ca
SUMMARY:Messe à 11h15
DESCRIPTION:
URL:https://www.lemontmartre.ca/event/messe-a-11h15/2026-10-23/
LOCATION:Sanctuaire Montmartre\, 1679\, chemin Saint-Louis\, Québec\, Québec\, G1S 1G5\, Canada
CATEGORIES:Offices religieux
END:VEVENT
BEGIN:VEVENT
DTSTART;TZID=America/Montreal:20261024T111500
DTEND;TZID=America/Montreal:20261024T115000
DTSTAMP:20260423T010923
CREATED:20260105T000306Z
LAST-MODIFIED:20260105T000306Z
UID:10011998-1792840500-1792842600@www.lemontmartre.ca
SUMMARY:Messe à 11h15
DESCRIPTION:
URL:https://www.lemontmartre.ca/event/messe-a-11h15/2026-10-24/
LOCATION:Sanctuaire Montmartre\, 1679\, chemin Saint-Louis\, Québec\, Québec\, G1S 1G5\, Canada
CATEGORIES:Offices religieux
END:VEVENT
BEGIN:VEVENT
DTSTART;TZID=America/Montreal:20261026T111500
DTEND;TZID=America/Montreal:20261026T115000
DTSTAMP:20260423T010923
CREATED:20260105T000306Z
LAST-MODIFIED:20260105T000306Z
UID:10011999-1793013300-1793015400@www.lemontmartre.ca
SUMMARY:Messe à 11h15
DESCRIPTION:
URL:https://www.lemontmartre.ca/event/messe-a-11h15/2026-10-26/
LOCATION:Sanctuaire Montmartre\, 1679\, chemin Saint-Louis\, Québec\, Québec\, G1S 1G5\, Canada
CATEGORIES:Offices religieux
END:VEVENT
BEGIN:VEVENT
DTSTART;TZID=America/Montreal:20261027T111500
DTEND;TZID=America/Montreal:20261027T115000
DTSTAMP:20260423T010923
CREATED:20260105T000306Z
LAST-MODIFIED:20260105T000306Z
UID:10012000-1793099700-1793101800@www.lemontmartre.ca
SUMMARY:Messe à 11h15
DESCRIPTION:
URL:https://www.lemontmartre.ca/event/messe-a-11h15/2026-10-27/
LOCATION:Sanctuaire Montmartre\, 1679\, chemin Saint-Louis\, Québec\, Québec\, G1S 1G5\, Canada
CATEGORIES:Offices religieux
END:VEVENT
BEGIN:VEVENT
DTSTART;TZID=America/Montreal:20261028T111500
DTEND;TZID=America/Montreal:20261028T115000
DTSTAMP:20260423T010923
CREATED:20260105T000306Z
LAST-MODIFIED:20260105T000306Z
UID:10012001-1793186100-1793188200@www.lemontmartre.ca
SUMMARY:Messe à 11h15
DESCRIPTION:
URL:https://www.lemontmartre.ca/event/messe-a-11h15/2026-10-28/
LOCATION:Sanctuaire Montmartre\, 1679\, chemin Saint-Louis\, Québec\, Québec\, G1S 1G5\, Canada
CATEGORIES:Offices religieux
END:VEVENT
BEGIN:VEVENT
DTSTART;TZID=America/Montreal:20261029T111500
DTEND;TZID=America/Montreal:20261029T115000
DTSTAMP:20260423T010923
CREATED:20260105T000306Z
LAST-MODIFIED:20260105T000306Z
UID:10012002-1793272500-1793274600@www.lemontmartre.ca
SUMMARY:Messe à 11h15
DESCRIPTION:
URL:https://www.lemontmartre.ca/event/messe-a-11h15/2026-10-29/
LOCATION:Sanctuaire Montmartre\, 1679\, chemin Saint-Louis\, Québec\, Québec\, G1S 1G5\, Canada
CATEGORIES:Offices religieux
END:VEVENT
BEGIN:VEVENT
DTSTART;TZID=America/Montreal:20261030T111500
DTEND;TZID=America/Montreal:20261030T115000
DTSTAMP:20260423T010923
CREATED:20260105T000306Z
LAST-MODIFIED:20260105T000306Z
UID:10012003-1793358900-1793361000@www.lemontmartre.ca
SUMMARY:Messe à 11h15
DESCRIPTION:
URL:https://www.lemontmartre.ca/event/messe-a-11h15/2026-10-30/
LOCATION:Sanctuaire Montmartre\, 1679\, chemin Saint-Louis\, Québec\, Québec\, G1S 1G5\, Canada
CATEGORIES:Offices religieux
END:VEVENT
BEGIN:VEVENT
DTSTART;TZID=America/Montreal:20261031T111500
DTEND;TZID=America/Montreal:20261031T115000
DTSTAMP:20260423T010923
CREATED:20260105T000306Z
LAST-MODIFIED:20260105T000306Z
UID:10012004-1793445300-1793447400@www.lemontmartre.ca
SUMMARY:Messe à 11h15
DESCRIPTION:
URL:https://www.lemontmartre.ca/event/messe-a-11h15/2026-10-31/
LOCATION:Sanctuaire Montmartre\, 1679\, chemin Saint-Louis\, Québec\, Québec\, G1S 1G5\, Canada
CATEGORIES:Offices religieux
END:VEVENT
BEGIN:VEVENT
DTSTART;TZID=America/Montreal:20261102T111500
DTEND;TZID=America/Montreal:20261102T115000
DTSTAMP:20260423T010923
CREATED:20260105T000306Z
LAST-MODIFIED:20260105T000306Z
UID:10012005-1793618100-1793620200@www.lemontmartre.ca
SUMMARY:Messe à 11h15
DESCRIPTION:
URL:https://www.lemontmartre.ca/event/messe-a-11h15/2026-11-02/
LOCATION:Sanctuaire Montmartre\, 1679\, chemin Saint-Louis\, Québec\, Québec\, G1S 1G5\, Canada
CATEGORIES:Offices religieux
END:VEVENT
BEGIN:VEVENT
DTSTART;TZID=America/Montreal:20261103T111500
DTEND;TZID=America/Montreal:20261103T115000
DTSTAMP:20260423T010923
CREATED:20260105T000306Z
LAST-MODIFIED:20260105T000306Z
UID:10012006-1793704500-1793706600@www.lemontmartre.ca
SUMMARY:Messe à 11h15
DESCRIPTION:
URL:https://www.lemontmartre.ca/event/messe-a-11h15/2026-11-03/
LOCATION:Sanctuaire Montmartre\, 1679\, chemin Saint-Louis\, Québec\, Québec\, G1S 1G5\, Canada
CATEGORIES:Offices religieux
END:VEVENT
BEGIN:VEVENT
DTSTART;TZID=America/Montreal:20261104T111500
DTEND;TZID=America/Montreal:20261104T115000
DTSTAMP:20260423T010923
CREATED:20260105T000306Z
LAST-MODIFIED:20260105T000306Z
UID:10012007-1793790900-1793793000@www.lemontmartre.ca
SUMMARY:Messe à 11h15
DESCRIPTION:
URL:https://www.lemontmartre.ca/event/messe-a-11h15/2026-11-04/
LOCATION:Sanctuaire Montmartre\, 1679\, chemin Saint-Louis\, Québec\, Québec\, G1S 1G5\, Canada
CATEGORIES:Offices religieux
END:VEVENT
BEGIN:VEVENT
DTSTART;TZID=America/Montreal:20261105T111500
DTEND;TZID=America/Montreal:20261105T115000
DTSTAMP:20260423T010923
CREATED:20260105T000306Z
LAST-MODIFIED:20260105T000306Z
UID:10012008-1793877300-1793879400@www.lemontmartre.ca
SUMMARY:Messe à 11h15
DESCRIPTION:
URL:https://www.lemontmartre.ca/event/messe-a-11h15/2026-11-05/
LOCATION:Sanctuaire Montmartre\, 1679\, chemin Saint-Louis\, Québec\, Québec\, G1S 1G5\, Canada
CATEGORIES:Offices religieux
END:VEVENT
BEGIN:VEVENT
DTSTART;TZID=America/Montreal:20261106T111500
DTEND;TZID=America/Montreal:20261106T115000
DTSTAMP:20260423T010923
CREATED:20260105T000306Z
LAST-MODIFIED:20260105T000306Z
UID:10012009-1793963700-1793965800@www.lemontmartre.ca
SUMMARY:Messe à 11h15
DESCRIPTION:
URL:https://www.lemontmartre.ca/event/messe-a-11h15/2026-11-06/
LOCATION:Sanctuaire Montmartre\, 1679\, chemin Saint-Louis\, Québec\, Québec\, G1S 1G5\, Canada
CATEGORIES:Offices religieux
END:VEVENT
BEGIN:VEVENT
DTSTART;TZID=America/Montreal:20261107T111500
DTEND;TZID=America/Montreal:20261107T115000
DTSTAMP:20260423T010923
CREATED:20260105T000306Z
LAST-MODIFIED:20260105T000306Z
UID:10012010-1794050100-1794052200@www.lemontmartre.ca
SUMMARY:Messe à 11h15
DESCRIPTION:
URL:https://www.lemontmartre.ca/event/messe-a-11h15/2026-11-07/
LOCATION:Sanctuaire Montmartre\, 1679\, chemin Saint-Louis\, Québec\, Québec\, G1S 1G5\, Canada
CATEGORIES:Offices religieux
END:VEVENT
BEGIN:VEVENT
DTSTART;TZID=America/Montreal:20261109T111500
DTEND;TZID=America/Montreal:20261109T115000
DTSTAMP:20260423T010923
CREATED:20260105T000306Z
LAST-MODIFIED:20260105T000306Z
UID:10012011-1794222900-1794225000@www.lemontmartre.ca
SUMMARY:Messe à 11h15
DESCRIPTION:
URL:https://www.lemontmartre.ca/event/messe-a-11h15/2026-11-09/
LOCATION:Sanctuaire Montmartre\, 1679\, chemin Saint-Louis\, Québec\, Québec\, G1S 1G5\, Canada
CATEGORIES:Offices religieux
END:VEVENT
BEGIN:VEVENT
DTSTART;TZID=America/Montreal:20261110T111500
DTEND;TZID=America/Montreal:20261110T115000
DTSTAMP:20260423T010923
CREATED:20260105T000306Z
LAST-MODIFIED:20260105T000306Z
UID:10012012-1794309300-1794311400@www.lemontmartre.ca
SUMMARY:Messe à 11h15
DESCRIPTION:
URL:https://www.lemontmartre.ca/event/messe-a-11h15/2026-11-10/
LOCATION:Sanctuaire Montmartre\, 1679\, chemin Saint-Louis\, Québec\, Québec\, G1S 1G5\, Canada
CATEGORIES:Offices religieux
END:VEVENT
BEGIN:VEVENT
DTSTART;TZID=America/Montreal:20261111T111500
DTEND;TZID=America/Montreal:20261111T115000
DTSTAMP:20260423T010923
CREATED:20260105T000306Z
LAST-MODIFIED:20260105T000306Z
UID:10012013-1794395700-1794397800@www.lemontmartre.ca
SUMMARY:Messe à 11h15
DESCRIPTION:
URL:https://www.lemontmartre.ca/event/messe-a-11h15/2026-11-11/
LOCATION:Sanctuaire Montmartre\, 1679\, chemin Saint-Louis\, Québec\, Québec\, G1S 1G5\, Canada
CATEGORIES:Offices religieux
END:VEVENT
BEGIN:VEVENT
DTSTART;TZID=America/Montreal:20261112T111500
DTEND;TZID=America/Montreal:20261112T115000
DTSTAMP:20260423T010923
CREATED:20260105T000306Z
LAST-MODIFIED:20260105T000306Z
UID:10012014-1794482100-1794484200@www.lemontmartre.ca
SUMMARY:Messe à 11h15
DESCRIPTION:
URL:https://www.lemontmartre.ca/event/messe-a-11h15/2026-11-12/
LOCATION:Sanctuaire Montmartre\, 1679\, chemin Saint-Louis\, Québec\, Québec\, G1S 1G5\, Canada
CATEGORIES:Offices religieux
END:VEVENT
BEGIN:VEVENT
DTSTART;TZID=America/Montreal:20261113T111500
DTEND;TZID=America/Montreal:20261113T115000
DTSTAMP:20260423T010923
CREATED:20260105T000306Z
LAST-MODIFIED:20260105T000306Z
UID:10012015-1794568500-1794570600@www.lemontmartre.ca
SUMMARY:Messe à 11h15
DESCRIPTION:
URL:https://www.lemontmartre.ca/event/messe-a-11h15/2026-11-13/
LOCATION:Sanctuaire Montmartre\, 1679\, chemin Saint-Louis\, Québec\, Québec\, G1S 1G5\, Canada
CATEGORIES:Offices religieux
END:VEVENT
BEGIN:VEVENT
DTSTART;TZID=America/Montreal:20261114T111500
DTEND;TZID=America/Montreal:20261114T115000
DTSTAMP:20260423T010923
CREATED:20260105T000306Z
LAST-MODIFIED:20260105T000306Z
UID:10012016-1794654900-1794657000@www.lemontmartre.ca
SUMMARY:Messe à 11h15
DESCRIPTION:
URL:https://www.lemontmartre.ca/event/messe-a-11h15/2026-11-14/
LOCATION:Sanctuaire Montmartre\, 1679\, chemin Saint-Louis\, Québec\, Québec\, G1S 1G5\, Canada
CATEGORIES:Offices religieux
END:VEVENT
BEGIN:VEVENT
DTSTART;TZID=America/Montreal:20261116T111500
DTEND;TZID=America/Montreal:20261116T115000
DTSTAMP:20260423T010923
CREATED:20260105T000306Z
LAST-MODIFIED:20260105T000306Z
UID:10012017-1794827700-1794829800@www.lemontmartre.ca
SUMMARY:Messe à 11h15
DESCRIPTION:
URL:https://www.lemontmartre.ca/event/messe-a-11h15/2026-11-16/
LOCATION:Sanctuaire Montmartre\, 1679\, chemin Saint-Louis\, Québec\, Québec\, G1S 1G5\, Canada
CATEGORIES:Offices religieux
END:VEVENT
END:VCALENDAR