BEGIN:VCALENDAR
VERSION:2.0
PRODID:-//Le Montmartre - ECPv6.15.13//NONSGML v1.0//EN
CALSCALE:GREGORIAN
METHOD:PUBLISH
X-ORIGINAL-URL:https://www.lemontmartre.ca
X-WR-CALDESC:Évènements pour Le Montmartre
REFRESH-INTERVAL;VALUE=DURATION:PT1H
X-Robots-Tag:noindex
X-PUBLISHED-TTL:PT1H
BEGIN:VTIMEZONE
TZID:America/Montreal
BEGIN:DAYLIGHT
TZOFFSETFROM:-0500
TZOFFSETTO:-0400
TZNAME:EDT
DTSTART:20250309T070000
END:DAYLIGHT
BEGIN:STANDARD
TZOFFSETFROM:-0400
TZOFFSETTO:-0500
TZNAME:EST
DTSTART:20251102T060000
END:STANDARD
BEGIN:DAYLIGHT
TZOFFSETFROM:-0500
TZOFFSETTO:-0400
TZNAME:EDT
DTSTART:20260308T070000
END:DAYLIGHT
BEGIN:STANDARD
TZOFFSETFROM:-0400
TZOFFSETTO:-0500
TZNAME:EST
DTSTART:20261101T060000
END:STANDARD
BEGIN:DAYLIGHT
TZOFFSETFROM:-0500
TZOFFSETTO:-0400
TZNAME:EDT
DTSTART:20270314T070000
END:DAYLIGHT
BEGIN:STANDARD
TZOFFSETFROM:-0400
TZOFFSETTO:-0500
TZNAME:EST
DTSTART:20271107T060000
END:STANDARD
END:VTIMEZONE
BEGIN:VEVENT
DTSTART;TZID=America/Montreal:20260208T080000
DTEND;TZID=America/Montreal:20260208T082000
DTSTAMP:20260420T141748
CREATED:20260105T003233Z
LAST-MODIFIED:20260105T003233Z
UID:10012208-1770537600-1770538800@www.lemontmartre.ca
SUMMARY:Laudes
DESCRIPTION:
URL:https://www.lemontmartre.ca/event/laudes-3/2026-02-08/
LOCATION:Sanctuaire Montmartre\, 1679\, chemin Saint-Louis\, Québec\, Québec\, G1S 1G5\, Canada
CATEGORIES:Offices religieux
END:VEVENT
BEGIN:VEVENT
DTSTART;TZID=America/Montreal:20260207T173000
DTEND;TZID=America/Montreal:20260207T175000
DTSTAMP:20260420T141748
CREATED:20260105T001422Z
LAST-MODIFIED:20260105T001422Z
UID:10012085-1770485400-1770486600@www.lemontmartre.ca
SUMMARY:Vêpres
DESCRIPTION:Les vêpres sont précédées de méditation dite oraison pendant 30 minutes.
URL:https://www.lemontmartre.ca/event/vepres-2/2026-02-07/
LOCATION:Sanctuaire Montmartre\, 1679\, chemin Saint-Louis\, Québec\, Québec\, G1S 1G5\, Canada
CATEGORIES:Offices religieux
END:VEVENT
BEGIN:VEVENT
DTSTART;TZID=America/Montreal:20260207T111500
DTEND;TZID=America/Montreal:20260207T115000
DTSTAMP:20260420T141748
CREATED:20260105T000306Z
LAST-MODIFIED:20260105T000306Z
UID:10011785-1770462900-1770465000@www.lemontmartre.ca
SUMMARY:Messe à 11h15
DESCRIPTION:
URL:https://www.lemontmartre.ca/event/messe-a-11h15/2026-02-07/
LOCATION:Sanctuaire Montmartre\, 1679\, chemin Saint-Louis\, Québec\, Québec\, G1S 1G5\, Canada
CATEGORIES:Offices religieux
END:VEVENT
BEGIN:VEVENT
DTSTART;TZID=America/Montreal:20260206T193000
DTEND;TZID=America/Montreal:20260206T210000
DTSTAMP:20260420T141748
CREATED:20260105T002759Z
LAST-MODIFIED:20260105T002759Z
UID:10012199-1770406200-1770411600@www.lemontmartre.ca
SUMMARY:Messe suivie de l'adoration avec chants de Taizé
DESCRIPTION:
URL:https://www.lemontmartre.ca/event/messe-suivie-de-ladoration-avec-chants-de-taize-2/2026-02-06/
LOCATION:Sanctuaire Montmartre\, 1679\, chemin Saint-Louis\, Québec\, Québec\, G1S 1G5\, Canada
CATEGORIES:Offices religieux
END:VEVENT
BEGIN:VEVENT
DTSTART;TZID=America/Montreal:20260206T173000
DTEND;TZID=America/Montreal:20260206T175000
DTSTAMP:20260420T141748
CREATED:20260105T001422Z
LAST-MODIFIED:20260105T001422Z
UID:10012084-1770399000-1770400200@www.lemontmartre.ca
SUMMARY:Vêpres
DESCRIPTION:Les vêpres sont précédées de méditation dite oraison pendant 30 minutes.
URL:https://www.lemontmartre.ca/event/vepres-2/2026-02-06/
LOCATION:Sanctuaire Montmartre\, 1679\, chemin Saint-Louis\, Québec\, Québec\, G1S 1G5\, Canada
CATEGORIES:Offices religieux
END:VEVENT
BEGIN:VEVENT
DTSTART;TZID=America/Montreal:20260206T111500
DTEND;TZID=America/Montreal:20260206T115000
DTSTAMP:20260420T141748
CREATED:20260105T000306Z
LAST-MODIFIED:20260105T000306Z
UID:10011784-1770376500-1770378600@www.lemontmartre.ca
SUMMARY:Messe à 11h15
DESCRIPTION:
URL:https://www.lemontmartre.ca/event/messe-a-11h15/2026-02-06/
LOCATION:Sanctuaire Montmartre\, 1679\, chemin Saint-Louis\, Québec\, Québec\, G1S 1G5\, Canada
CATEGORIES:Offices religieux
END:VEVENT
BEGIN:VEVENT
DTSTART;TZID=America/Montreal:20260206T070000
DTEND;TZID=America/Montreal:20260206T072000
DTSTAMP:20260420T141748
CREATED:20260104T234059Z
LAST-MODIFIED:20260104T234059Z
UID:10011587-1770361200-1770362400@www.lemontmartre.ca
SUMMARY:Laudes
DESCRIPTION:
URL:https://www.lemontmartre.ca/event/laudes-2/2026-02-06/
LOCATION:Sanctuaire Montmartre\, 1679\, chemin Saint-Louis\, Québec\, Québec\, G1S 1G5\, Canada
CATEGORIES:Offices religieux
END:VEVENT
BEGIN:VEVENT
DTSTART;TZID=America/Montreal:20260205T173000
DTEND;TZID=America/Montreal:20260205T175000
DTSTAMP:20260420T141748
CREATED:20260105T001422Z
LAST-MODIFIED:20260105T001422Z
UID:10012083-1770312600-1770313800@www.lemontmartre.ca
SUMMARY:Vêpres
DESCRIPTION:Les vêpres sont précédées de méditation dite oraison pendant 30 minutes.
URL:https://www.lemontmartre.ca/event/vepres-2/2026-02-05/
LOCATION:Sanctuaire Montmartre\, 1679\, chemin Saint-Louis\, Québec\, Québec\, G1S 1G5\, Canada
CATEGORIES:Offices religieux
END:VEVENT
BEGIN:VEVENT
DTSTART;TZID=America/Montreal:20260205T111500
DTEND;TZID=America/Montreal:20260205T115000
DTSTAMP:20260420T141748
CREATED:20260105T000306Z
LAST-MODIFIED:20260105T000306Z
UID:10011783-1770290100-1770292200@www.lemontmartre.ca
SUMMARY:Messe à 11h15
DESCRIPTION:
URL:https://www.lemontmartre.ca/event/messe-a-11h15/2026-02-05/
LOCATION:Sanctuaire Montmartre\, 1679\, chemin Saint-Louis\, Québec\, Québec\, G1S 1G5\, Canada
CATEGORIES:Offices religieux
END:VEVENT
BEGIN:VEVENT
DTSTART;TZID=America/Montreal:20260205T072500
DTEND;TZID=America/Montreal:20260205T075500
DTSTAMP:20260420T141748
CREATED:20260214T021845Z
LAST-MODIFIED:20260214T021845Z
UID:10012407-1770276300-1770278100@www.lemontmartre.ca
SUMMARY:Messe à 7h25
DESCRIPTION:
URL:https://www.lemontmartre.ca/event/messe-a-7h25-2/2026-02-05/
LOCATION:Sanctuaire Montmartre\, 1679\, chemin Saint-Louis\, Québec\, Québec\, G1S 1G5\, Canada
CATEGORIES:Offices religieux
END:VEVENT
BEGIN:VEVENT
DTSTART;TZID=America/Montreal:20260205T070000
DTEND;TZID=America/Montreal:20260205T072000
DTSTAMP:20260420T141748
CREATED:20260104T234059Z
LAST-MODIFIED:20260104T234059Z
UID:10011586-1770274800-1770276000@www.lemontmartre.ca
SUMMARY:Laudes
DESCRIPTION:
URL:https://www.lemontmartre.ca/event/laudes-2/2026-02-05/
LOCATION:Sanctuaire Montmartre\, 1679\, chemin Saint-Louis\, Québec\, Québec\, G1S 1G5\, Canada
CATEGORIES:Offices religieux
END:VEVENT
BEGIN:VEVENT
DTSTART;TZID=America/Montreal:20260204T173000
DTEND;TZID=America/Montreal:20260204T175000
DTSTAMP:20260420T141748
CREATED:20260105T001422Z
LAST-MODIFIED:20260105T001422Z
UID:10012082-1770226200-1770227400@www.lemontmartre.ca
SUMMARY:Vêpres
DESCRIPTION:Les vêpres sont précédées de méditation dite oraison pendant 30 minutes.
URL:https://www.lemontmartre.ca/event/vepres-2/2026-02-04/
LOCATION:Sanctuaire Montmartre\, 1679\, chemin Saint-Louis\, Québec\, Québec\, G1S 1G5\, Canada
CATEGORIES:Offices religieux
END:VEVENT
BEGIN:VEVENT
DTSTART;TZID=America/Montreal:20260204T111500
DTEND;TZID=America/Montreal:20260204T115000
DTSTAMP:20260420T141748
CREATED:20260105T000306Z
LAST-MODIFIED:20260105T000306Z
UID:10011782-1770203700-1770205800@www.lemontmartre.ca
SUMMARY:Messe à 11h15
DESCRIPTION:
URL:https://www.lemontmartre.ca/event/messe-a-11h15/2026-02-04/
LOCATION:Sanctuaire Montmartre\, 1679\, chemin Saint-Louis\, Québec\, Québec\, G1S 1G5\, Canada
CATEGORIES:Offices religieux
END:VEVENT
BEGIN:VEVENT
DTSTART;TZID=America/Montreal:20260204T072500
DTEND;TZID=America/Montreal:20260204T075500
DTSTAMP:20260420T141748
CREATED:20260214T021845Z
LAST-MODIFIED:20260214T021845Z
UID:10012406-1770189900-1770191700@www.lemontmartre.ca
SUMMARY:Messe à 7h25
DESCRIPTION:
URL:https://www.lemontmartre.ca/event/messe-a-7h25-2/2026-02-04/
LOCATION:Sanctuaire Montmartre\, 1679\, chemin Saint-Louis\, Québec\, Québec\, G1S 1G5\, Canada
CATEGORIES:Offices religieux
END:VEVENT
BEGIN:VEVENT
DTSTART;TZID=America/Montreal:20260204T070000
DTEND;TZID=America/Montreal:20260204T072000
DTSTAMP:20260420T141748
CREATED:20260104T234059Z
LAST-MODIFIED:20260104T234059Z
UID:10011585-1770188400-1770189600@www.lemontmartre.ca
SUMMARY:Laudes
DESCRIPTION:
URL:https://www.lemontmartre.ca/event/laudes-2/2026-02-04/
LOCATION:Sanctuaire Montmartre\, 1679\, chemin Saint-Louis\, Québec\, Québec\, G1S 1G5\, Canada
CATEGORIES:Offices religieux
END:VEVENT
BEGIN:VEVENT
DTSTART;TZID=America/Montreal:20260203T190000
DTEND;TZID=America/Montreal:20260203T210000
DTSTAMP:20260420T141748
CREATED:20260214T014718Z
LAST-MODIFIED:20260214T014718Z
UID:10012379-1770145200-1770152400@www.lemontmartre.ca
SUMMARY:St Augustin – et le Pape Léon
DESCRIPTION:Formation avec Marcel Poirier\, augustin de l’Assomption
URL:https://www.lemontmartre.ca/event/st-augustin-et-le-pape-leon/2026-02-03/
LOCATION:Sanctuaire Montmartre\, 1679\, chemin Saint-Louis\, Québec\, Québec\, G1S 1G5\, Canada
CATEGORIES:Formations
ATTACH;FMTTYPE=image/jpeg:https://www.lemontmartre.ca/wp-content/uploads/2026/02/Formation-Augustin-Pape-Leon-Marcel-Poirier-2026-Facebook-Cover-Facebook-Cover.jpg
END:VEVENT
BEGIN:VEVENT
DTSTART;TZID=America/Montreal:20260203T173000
DTEND;TZID=America/Montreal:20260203T175000
DTSTAMP:20260420T141748
CREATED:20260105T001422Z
LAST-MODIFIED:20260105T001422Z
UID:10012081-1770139800-1770141000@www.lemontmartre.ca
SUMMARY:Vêpres
DESCRIPTION:Les vêpres sont précédées de méditation dite oraison pendant 30 minutes.
URL:https://www.lemontmartre.ca/event/vepres-2/2026-02-03/
LOCATION:Sanctuaire Montmartre\, 1679\, chemin Saint-Louis\, Québec\, Québec\, G1S 1G5\, Canada
CATEGORIES:Offices religieux
END:VEVENT
BEGIN:VEVENT
DTSTART;TZID=America/Montreal:20260203T111500
DTEND;TZID=America/Montreal:20260203T115000
DTSTAMP:20260420T141748
CREATED:20260105T000306Z
LAST-MODIFIED:20260105T000306Z
UID:10011781-1770117300-1770119400@www.lemontmartre.ca
SUMMARY:Messe à 11h15
DESCRIPTION:
URL:https://www.lemontmartre.ca/event/messe-a-11h15/2026-02-03/
LOCATION:Sanctuaire Montmartre\, 1679\, chemin Saint-Louis\, Québec\, Québec\, G1S 1G5\, Canada
CATEGORIES:Offices religieux
END:VEVENT
BEGIN:VEVENT
DTSTART;TZID=America/Montreal:20260203T072500
DTEND;TZID=America/Montreal:20260203T075500
DTSTAMP:20260420T141748
CREATED:20260214T021845Z
LAST-MODIFIED:20260214T021845Z
UID:10012405-1770103500-1770105300@www.lemontmartre.ca
SUMMARY:Messe à 7h25
DESCRIPTION:
URL:https://www.lemontmartre.ca/event/messe-a-7h25-2/2026-02-03/
LOCATION:Sanctuaire Montmartre\, 1679\, chemin Saint-Louis\, Québec\, Québec\, G1S 1G5\, Canada
CATEGORIES:Offices religieux
END:VEVENT
BEGIN:VEVENT
DTSTART;TZID=America/Montreal:20260203T070000
DTEND;TZID=America/Montreal:20260203T072000
DTSTAMP:20260420T141748
CREATED:20260104T234059Z
LAST-MODIFIED:20260104T234059Z
UID:10011584-1770102000-1770103200@www.lemontmartre.ca
SUMMARY:Laudes
DESCRIPTION:
URL:https://www.lemontmartre.ca/event/laudes-2/2026-02-03/
LOCATION:Sanctuaire Montmartre\, 1679\, chemin Saint-Louis\, Québec\, Québec\, G1S 1G5\, Canada
CATEGORIES:Offices religieux
END:VEVENT
BEGIN:VEVENT
DTSTART;TZID=America/Montreal:20260202T193000
DTEND;TZID=America/Montreal:20260202T210000
DTSTAMP:20260420T141748
CREATED:20260117T050509Z
LAST-MODIFIED:20260124T005459Z
UID:10012260-1770060600-1770066000@www.lemontmartre.ca
SUMMARY:«PRENDRE SOIN DE NOTRE ÊTRE AU FIL DES SAISONS DE NOTRE VIE» En compagnie et à l’écoute des "Écrits Spirituels" de François de Laval
DESCRIPTION:Formation en PRÉSENTIEL et en ZOOM*. \n*ZOOM sera accessible seulement aux personnes qui habitent à l’extérieur de la ville de Québec et pour qui il est impossible de se rendre à la rencontre en présentiel.
URL:https://www.lemontmartre.ca/event/prendre-soin-de-notre-etre-au-fil-des-saisons-de-notre-vie-en-compagnie-et-a-lecoute-des-ecrits-spirituels-de-francois-de-laval/2026-02-02/
LOCATION:Sanctuaire Montmartre\, 1679\, chemin Saint-Louis\, Québec\, Québec\, G1S 1G5\, Canada
CATEGORIES:Formations
ATTACH;FMTTYPE=image/jpeg:https://www.lemontmartre.ca/wp-content/uploads/2026/01/Formation-Francois-de-Laval-Edouard-Shatov-Hiver-Ete-2026-Facebook-Cover.jpg
END:VEVENT
BEGIN:VEVENT
DTSTART;TZID=America/Montreal:20260202T173000
DTEND;TZID=America/Montreal:20260202T175000
DTSTAMP:20260420T141748
CREATED:20260105T001422Z
LAST-MODIFIED:20260105T001422Z
UID:10012080-1770053400-1770054600@www.lemontmartre.ca
SUMMARY:Vêpres
DESCRIPTION:Les vêpres sont précédées de méditation dite oraison pendant 30 minutes.
URL:https://www.lemontmartre.ca/event/vepres-2/2026-02-02/
LOCATION:Sanctuaire Montmartre\, 1679\, chemin Saint-Louis\, Québec\, Québec\, G1S 1G5\, Canada
CATEGORIES:Offices religieux
END:VEVENT
BEGIN:VEVENT
DTSTART;TZID=America/Montreal:20260202T111500
DTEND;TZID=America/Montreal:20260202T115000
DTSTAMP:20260420T141748
CREATED:20260105T000306Z
LAST-MODIFIED:20260105T000306Z
UID:10011780-1770030900-1770033000@www.lemontmartre.ca
SUMMARY:Messe à 11h15
DESCRIPTION:
URL:https://www.lemontmartre.ca/event/messe-a-11h15/2026-02-02/
LOCATION:Sanctuaire Montmartre\, 1679\, chemin Saint-Louis\, Québec\, Québec\, G1S 1G5\, Canada
CATEGORIES:Offices religieux
END:VEVENT
BEGIN:VEVENT
DTSTART;TZID=America/Montreal:20260202T072500
DTEND;TZID=America/Montreal:20260202T075500
DTSTAMP:20260420T141748
CREATED:20260214T021845Z
LAST-MODIFIED:20260214T021845Z
UID:10012404-1770017100-1770018900@www.lemontmartre.ca
SUMMARY:Messe à 7h25
DESCRIPTION:
URL:https://www.lemontmartre.ca/event/messe-a-7h25-2/2026-02-02/
LOCATION:Sanctuaire Montmartre\, 1679\, chemin Saint-Louis\, Québec\, Québec\, G1S 1G5\, Canada
CATEGORIES:Offices religieux
END:VEVENT
BEGIN:VEVENT
DTSTART;TZID=America/Montreal:20260202T070000
DTEND;TZID=America/Montreal:20260202T072000
DTSTAMP:20260420T141748
CREATED:20260104T234059Z
LAST-MODIFIED:20260104T234059Z
UID:10011583-1770015600-1770016800@www.lemontmartre.ca
SUMMARY:Laudes
DESCRIPTION:
URL:https://www.lemontmartre.ca/event/laudes-2/2026-02-02/
LOCATION:Sanctuaire Montmartre\, 1679\, chemin Saint-Louis\, Québec\, Québec\, G1S 1G5\, Canada
CATEGORIES:Offices religieux
END:VEVENT
BEGIN:VEVENT
DTSTART;TZID=America/Montreal:20260201T080000
DTEND;TZID=America/Montreal:20260201T082000
DTSTAMP:20260420T141748
CREATED:20260105T003233Z
LAST-MODIFIED:20260105T003233Z
UID:10012207-1769932800-1769934000@www.lemontmartre.ca
SUMMARY:Laudes
DESCRIPTION:
URL:https://www.lemontmartre.ca/event/laudes-3/2026-02-01/
LOCATION:Sanctuaire Montmartre\, 1679\, chemin Saint-Louis\, Québec\, Québec\, G1S 1G5\, Canada
CATEGORIES:Offices religieux
END:VEVENT
BEGIN:VEVENT
DTSTART;TZID=America/Montreal:20260131T173000
DTEND;TZID=America/Montreal:20260131T175000
DTSTAMP:20260420T141748
CREATED:20260105T001422Z
LAST-MODIFIED:20260105T001422Z
UID:10012079-1769880600-1769881800@www.lemontmartre.ca
SUMMARY:Vêpres
DESCRIPTION:Les vêpres sont précédées de méditation dite oraison pendant 30 minutes.
URL:https://www.lemontmartre.ca/event/vepres-2/2026-01-31/
LOCATION:Sanctuaire Montmartre\, 1679\, chemin Saint-Louis\, Québec\, Québec\, G1S 1G5\, Canada
CATEGORIES:Offices religieux
END:VEVENT
BEGIN:VEVENT
DTSTART;TZID=America/Montreal:20260131T111500
DTEND;TZID=America/Montreal:20260131T115000
DTSTAMP:20260420T141748
CREATED:20260105T000306Z
LAST-MODIFIED:20260105T000306Z
UID:10011779-1769858100-1769860200@www.lemontmartre.ca
SUMMARY:Messe à 11h15
DESCRIPTION:
URL:https://www.lemontmartre.ca/event/messe-a-11h15/2026-01-31/
LOCATION:Sanctuaire Montmartre\, 1679\, chemin Saint-Louis\, Québec\, Québec\, G1S 1G5\, Canada
CATEGORIES:Offices religieux
END:VEVENT
BEGIN:VEVENT
DTSTART;TZID=America/Montreal:20260130T173000
DTEND;TZID=America/Montreal:20260130T175000
DTSTAMP:20260420T141748
CREATED:20260105T001422Z
LAST-MODIFIED:20260105T001422Z
UID:10012078-1769794200-1769795400@www.lemontmartre.ca
SUMMARY:Vêpres
DESCRIPTION:Les vêpres sont précédées de méditation dite oraison pendant 30 minutes.
URL:https://www.lemontmartre.ca/event/vepres-2/2026-01-30/
LOCATION:Sanctuaire Montmartre\, 1679\, chemin Saint-Louis\, Québec\, Québec\, G1S 1G5\, Canada
CATEGORIES:Offices religieux
END:VEVENT
BEGIN:VEVENT
DTSTART;TZID=America/Montreal:20260130T170000
DTEND;TZID=America/Montreal:20260130T173000
DTSTAMP:20260420T141748
CREATED:20260105T002130Z
LAST-MODIFIED:20260105T004525Z
UID:10012184-1769792400-1769794200@www.lemontmartre.ca
SUMMARY:Adoration
DESCRIPTION:
URL:https://www.lemontmartre.ca/event/adoration-2/2026-01-30/
LOCATION:Sanctuaire Montmartre\, 1679\, chemin Saint-Louis\, Québec\, Québec\, G1S 1G5\, Canada
CATEGORIES:Offices religieux
END:VEVENT
END:VCALENDAR