BEGIN:VCALENDAR
VERSION:2.0
PRODID:-//Le Montmartre - ECPv6.15.13//NONSGML v1.0//EN
CALSCALE:GREGORIAN
METHOD:PUBLISH
X-ORIGINAL-URL:https://www.lemontmartre.ca
X-WR-CALDESC:Évènements pour Le Montmartre
REFRESH-INTERVAL;VALUE=DURATION:PT1H
X-Robots-Tag:noindex
X-PUBLISHED-TTL:PT1H
BEGIN:VTIMEZONE
TZID:America/Montreal
BEGIN:DAYLIGHT
TZOFFSETFROM:-0500
TZOFFSETTO:-0400
TZNAME:EDT
DTSTART:20250309T070000
END:DAYLIGHT
BEGIN:STANDARD
TZOFFSETFROM:-0400
TZOFFSETTO:-0500
TZNAME:EST
DTSTART:20251102T060000
END:STANDARD
BEGIN:DAYLIGHT
TZOFFSETFROM:-0500
TZOFFSETTO:-0400
TZNAME:EDT
DTSTART:20260308T070000
END:DAYLIGHT
BEGIN:STANDARD
TZOFFSETFROM:-0400
TZOFFSETTO:-0500
TZNAME:EST
DTSTART:20261101T060000
END:STANDARD
BEGIN:DAYLIGHT
TZOFFSETFROM:-0500
TZOFFSETTO:-0400
TZNAME:EDT
DTSTART:20270314T070000
END:DAYLIGHT
BEGIN:STANDARD
TZOFFSETFROM:-0400
TZOFFSETTO:-0500
TZNAME:EST
DTSTART:20271107T060000
END:STANDARD
END:VTIMEZONE
BEGIN:VEVENT
DTSTART;TZID=America/Montreal:20260915T111500
DTEND;TZID=America/Montreal:20260915T115000
DTSTAMP:20260422T215256
CREATED:20260105T000306Z
LAST-MODIFIED:20260105T000306Z
UID:10011964-1789470900-1789473000@www.lemontmartre.ca
SUMMARY:Messe à 11h15
DESCRIPTION:
URL:https://www.lemontmartre.ca/event/messe-a-11h15/2026-09-15/
LOCATION:Sanctuaire Montmartre\, 1679\, chemin Saint-Louis\, Québec\, Québec\, G1S 1G5\, Canada
CATEGORIES:Offices religieux
END:VEVENT
BEGIN:VEVENT
DTSTART;TZID=America/Montreal:20260916T111500
DTEND;TZID=America/Montreal:20260916T115000
DTSTAMP:20260422T215256
CREATED:20260105T000306Z
LAST-MODIFIED:20260105T000306Z
UID:10011965-1789557300-1789559400@www.lemontmartre.ca
SUMMARY:Messe à 11h15
DESCRIPTION:
URL:https://www.lemontmartre.ca/event/messe-a-11h15/2026-09-16/
LOCATION:Sanctuaire Montmartre\, 1679\, chemin Saint-Louis\, Québec\, Québec\, G1S 1G5\, Canada
CATEGORIES:Offices religieux
END:VEVENT
BEGIN:VEVENT
DTSTART;TZID=America/Montreal:20260917T111500
DTEND;TZID=America/Montreal:20260917T115000
DTSTAMP:20260422T215256
CREATED:20260105T000306Z
LAST-MODIFIED:20260105T000306Z
UID:10011966-1789643700-1789645800@www.lemontmartre.ca
SUMMARY:Messe à 11h15
DESCRIPTION:
URL:https://www.lemontmartre.ca/event/messe-a-11h15/2026-09-17/
LOCATION:Sanctuaire Montmartre\, 1679\, chemin Saint-Louis\, Québec\, Québec\, G1S 1G5\, Canada
CATEGORIES:Offices religieux
END:VEVENT
BEGIN:VEVENT
DTSTART;TZID=America/Montreal:20260918T111500
DTEND;TZID=America/Montreal:20260918T115000
DTSTAMP:20260422T215256
CREATED:20260105T000306Z
LAST-MODIFIED:20260105T000306Z
UID:10011967-1789730100-1789732200@www.lemontmartre.ca
SUMMARY:Messe à 11h15
DESCRIPTION:
URL:https://www.lemontmartre.ca/event/messe-a-11h15/2026-09-18/
LOCATION:Sanctuaire Montmartre\, 1679\, chemin Saint-Louis\, Québec\, Québec\, G1S 1G5\, Canada
CATEGORIES:Offices religieux
END:VEVENT
BEGIN:VEVENT
DTSTART;TZID=America/Montreal:20260919T111500
DTEND;TZID=America/Montreal:20260919T115000
DTSTAMP:20260422T215256
CREATED:20260105T000306Z
LAST-MODIFIED:20260105T000306Z
UID:10011968-1789816500-1789818600@www.lemontmartre.ca
SUMMARY:Messe à 11h15
DESCRIPTION:
URL:https://www.lemontmartre.ca/event/messe-a-11h15/2026-09-19/
LOCATION:Sanctuaire Montmartre\, 1679\, chemin Saint-Louis\, Québec\, Québec\, G1S 1G5\, Canada
CATEGORIES:Offices religieux
END:VEVENT
BEGIN:VEVENT
DTSTART;TZID=America/Montreal:20260921T111500
DTEND;TZID=America/Montreal:20260921T115000
DTSTAMP:20260422T215256
CREATED:20260105T000306Z
LAST-MODIFIED:20260105T000306Z
UID:10011969-1789989300-1789991400@www.lemontmartre.ca
SUMMARY:Messe à 11h15
DESCRIPTION:
URL:https://www.lemontmartre.ca/event/messe-a-11h15/2026-09-21/
LOCATION:Sanctuaire Montmartre\, 1679\, chemin Saint-Louis\, Québec\, Québec\, G1S 1G5\, Canada
CATEGORIES:Offices religieux
END:VEVENT
BEGIN:VEVENT
DTSTART;TZID=America/Montreal:20260922T111500
DTEND;TZID=America/Montreal:20260922T115000
DTSTAMP:20260422T215256
CREATED:20260105T000306Z
LAST-MODIFIED:20260105T000306Z
UID:10011970-1790075700-1790077800@www.lemontmartre.ca
SUMMARY:Messe à 11h15
DESCRIPTION:
URL:https://www.lemontmartre.ca/event/messe-a-11h15/2026-09-22/
LOCATION:Sanctuaire Montmartre\, 1679\, chemin Saint-Louis\, Québec\, Québec\, G1S 1G5\, Canada
CATEGORIES:Offices religieux
END:VEVENT
BEGIN:VEVENT
DTSTART;TZID=America/Montreal:20260923T111500
DTEND;TZID=America/Montreal:20260923T115000
DTSTAMP:20260422T215256
CREATED:20260105T000306Z
LAST-MODIFIED:20260105T000306Z
UID:10011971-1790162100-1790164200@www.lemontmartre.ca
SUMMARY:Messe à 11h15
DESCRIPTION:
URL:https://www.lemontmartre.ca/event/messe-a-11h15/2026-09-23/
LOCATION:Sanctuaire Montmartre\, 1679\, chemin Saint-Louis\, Québec\, Québec\, G1S 1G5\, Canada
CATEGORIES:Offices religieux
END:VEVENT
BEGIN:VEVENT
DTSTART;TZID=America/Montreal:20260924T111500
DTEND;TZID=America/Montreal:20260924T115000
DTSTAMP:20260422T215256
CREATED:20260105T000306Z
LAST-MODIFIED:20260105T000306Z
UID:10011972-1790248500-1790250600@www.lemontmartre.ca
SUMMARY:Messe à 11h15
DESCRIPTION:
URL:https://www.lemontmartre.ca/event/messe-a-11h15/2026-09-24/
LOCATION:Sanctuaire Montmartre\, 1679\, chemin Saint-Louis\, Québec\, Québec\, G1S 1G5\, Canada
CATEGORIES:Offices religieux
END:VEVENT
BEGIN:VEVENT
DTSTART;TZID=America/Montreal:20260925T111500
DTEND;TZID=America/Montreal:20260925T115000
DTSTAMP:20260422T215256
CREATED:20260105T000306Z
LAST-MODIFIED:20260105T000306Z
UID:10011973-1790334900-1790337000@www.lemontmartre.ca
SUMMARY:Messe à 11h15
DESCRIPTION:
URL:https://www.lemontmartre.ca/event/messe-a-11h15/2026-09-25/
LOCATION:Sanctuaire Montmartre\, 1679\, chemin Saint-Louis\, Québec\, Québec\, G1S 1G5\, Canada
CATEGORIES:Offices religieux
END:VEVENT
BEGIN:VEVENT
DTSTART;TZID=America/Montreal:20260926T111500
DTEND;TZID=America/Montreal:20260926T115000
DTSTAMP:20260422T215256
CREATED:20260105T000306Z
LAST-MODIFIED:20260105T000306Z
UID:10011974-1790421300-1790423400@www.lemontmartre.ca
SUMMARY:Messe à 11h15
DESCRIPTION:
URL:https://www.lemontmartre.ca/event/messe-a-11h15/2026-09-26/
LOCATION:Sanctuaire Montmartre\, 1679\, chemin Saint-Louis\, Québec\, Québec\, G1S 1G5\, Canada
CATEGORIES:Offices religieux
END:VEVENT
BEGIN:VEVENT
DTSTART;TZID=America/Montreal:20260928T111500
DTEND;TZID=America/Montreal:20260928T115000
DTSTAMP:20260422T215256
CREATED:20260105T000306Z
LAST-MODIFIED:20260105T000306Z
UID:10011975-1790594100-1790596200@www.lemontmartre.ca
SUMMARY:Messe à 11h15
DESCRIPTION:
URL:https://www.lemontmartre.ca/event/messe-a-11h15/2026-09-28/
LOCATION:Sanctuaire Montmartre\, 1679\, chemin Saint-Louis\, Québec\, Québec\, G1S 1G5\, Canada
CATEGORIES:Offices religieux
END:VEVENT
BEGIN:VEVENT
DTSTART;TZID=America/Montreal:20260929T111500
DTEND;TZID=America/Montreal:20260929T115000
DTSTAMP:20260422T215256
CREATED:20260105T000306Z
LAST-MODIFIED:20260105T000306Z
UID:10011976-1790680500-1790682600@www.lemontmartre.ca
SUMMARY:Messe à 11h15
DESCRIPTION:
URL:https://www.lemontmartre.ca/event/messe-a-11h15/2026-09-29/
LOCATION:Sanctuaire Montmartre\, 1679\, chemin Saint-Louis\, Québec\, Québec\, G1S 1G5\, Canada
CATEGORIES:Offices religieux
END:VEVENT
BEGIN:VEVENT
DTSTART;TZID=America/Montreal:20260930T111500
DTEND;TZID=America/Montreal:20260930T115000
DTSTAMP:20260422T215256
CREATED:20260105T000306Z
LAST-MODIFIED:20260105T000306Z
UID:10011977-1790766900-1790769000@www.lemontmartre.ca
SUMMARY:Messe à 11h15
DESCRIPTION:
URL:https://www.lemontmartre.ca/event/messe-a-11h15/2026-09-30/
LOCATION:Sanctuaire Montmartre\, 1679\, chemin Saint-Louis\, Québec\, Québec\, G1S 1G5\, Canada
CATEGORIES:Offices religieux
END:VEVENT
BEGIN:VEVENT
DTSTART;TZID=America/Montreal:20261001T111500
DTEND;TZID=America/Montreal:20261001T115000
DTSTAMP:20260422T215256
CREATED:20260105T000306Z
LAST-MODIFIED:20260105T000306Z
UID:10011978-1790853300-1790855400@www.lemontmartre.ca
SUMMARY:Messe à 11h15
DESCRIPTION:
URL:https://www.lemontmartre.ca/event/messe-a-11h15/2026-10-01/
LOCATION:Sanctuaire Montmartre\, 1679\, chemin Saint-Louis\, Québec\, Québec\, G1S 1G5\, Canada
CATEGORIES:Offices religieux
END:VEVENT
BEGIN:VEVENT
DTSTART;TZID=America/Montreal:20261002T111500
DTEND;TZID=America/Montreal:20261002T115000
DTSTAMP:20260422T215256
CREATED:20260105T000306Z
LAST-MODIFIED:20260105T000306Z
UID:10011979-1790939700-1790941800@www.lemontmartre.ca
SUMMARY:Messe à 11h15
DESCRIPTION:
URL:https://www.lemontmartre.ca/event/messe-a-11h15/2026-10-02/
LOCATION:Sanctuaire Montmartre\, 1679\, chemin Saint-Louis\, Québec\, Québec\, G1S 1G5\, Canada
CATEGORIES:Offices religieux
END:VEVENT
BEGIN:VEVENT
DTSTART;TZID=America/Montreal:20261003T111500
DTEND;TZID=America/Montreal:20261003T115000
DTSTAMP:20260422T215256
CREATED:20260105T000306Z
LAST-MODIFIED:20260105T000306Z
UID:10011980-1791026100-1791028200@www.lemontmartre.ca
SUMMARY:Messe à 11h15
DESCRIPTION:
URL:https://www.lemontmartre.ca/event/messe-a-11h15/2026-10-03/
LOCATION:Sanctuaire Montmartre\, 1679\, chemin Saint-Louis\, Québec\, Québec\, G1S 1G5\, Canada
CATEGORIES:Offices religieux
END:VEVENT
BEGIN:VEVENT
DTSTART;TZID=America/Montreal:20261005T111500
DTEND;TZID=America/Montreal:20261005T115000
DTSTAMP:20260422T215256
CREATED:20260105T000306Z
LAST-MODIFIED:20260105T000306Z
UID:10011981-1791198900-1791201000@www.lemontmartre.ca
SUMMARY:Messe à 11h15
DESCRIPTION:
URL:https://www.lemontmartre.ca/event/messe-a-11h15/2026-10-05/
LOCATION:Sanctuaire Montmartre\, 1679\, chemin Saint-Louis\, Québec\, Québec\, G1S 1G5\, Canada
CATEGORIES:Offices religieux
END:VEVENT
BEGIN:VEVENT
DTSTART;TZID=America/Montreal:20261006T111500
DTEND;TZID=America/Montreal:20261006T115000
DTSTAMP:20260422T215256
CREATED:20260105T000306Z
LAST-MODIFIED:20260105T000306Z
UID:10011982-1791285300-1791287400@www.lemontmartre.ca
SUMMARY:Messe à 11h15
DESCRIPTION:
URL:https://www.lemontmartre.ca/event/messe-a-11h15/2026-10-06/
LOCATION:Sanctuaire Montmartre\, 1679\, chemin Saint-Louis\, Québec\, Québec\, G1S 1G5\, Canada
CATEGORIES:Offices religieux
END:VEVENT
BEGIN:VEVENT
DTSTART;TZID=America/Montreal:20261007T111500
DTEND;TZID=America/Montreal:20261007T115000
DTSTAMP:20260422T215256
CREATED:20260105T000306Z
LAST-MODIFIED:20260105T000306Z
UID:10011983-1791371700-1791373800@www.lemontmartre.ca
SUMMARY:Messe à 11h15
DESCRIPTION:
URL:https://www.lemontmartre.ca/event/messe-a-11h15/2026-10-07/
LOCATION:Sanctuaire Montmartre\, 1679\, chemin Saint-Louis\, Québec\, Québec\, G1S 1G5\, Canada
CATEGORIES:Offices religieux
END:VEVENT
BEGIN:VEVENT
DTSTART;TZID=America/Montreal:20261008T111500
DTEND;TZID=America/Montreal:20261008T115000
DTSTAMP:20260422T215256
CREATED:20260105T000306Z
LAST-MODIFIED:20260105T000306Z
UID:10011984-1791458100-1791460200@www.lemontmartre.ca
SUMMARY:Messe à 11h15
DESCRIPTION:
URL:https://www.lemontmartre.ca/event/messe-a-11h15/2026-10-08/
LOCATION:Sanctuaire Montmartre\, 1679\, chemin Saint-Louis\, Québec\, Québec\, G1S 1G5\, Canada
CATEGORIES:Offices religieux
END:VEVENT
BEGIN:VEVENT
DTSTART;TZID=America/Montreal:20261009T111500
DTEND;TZID=America/Montreal:20261009T115000
DTSTAMP:20260422T215256
CREATED:20260105T000306Z
LAST-MODIFIED:20260105T000306Z
UID:10011985-1791544500-1791546600@www.lemontmartre.ca
SUMMARY:Messe à 11h15
DESCRIPTION:
URL:https://www.lemontmartre.ca/event/messe-a-11h15/2026-10-09/
LOCATION:Sanctuaire Montmartre\, 1679\, chemin Saint-Louis\, Québec\, Québec\, G1S 1G5\, Canada
CATEGORIES:Offices religieux
END:VEVENT
BEGIN:VEVENT
DTSTART;TZID=America/Montreal:20261010T111500
DTEND;TZID=America/Montreal:20261010T115000
DTSTAMP:20260422T215256
CREATED:20260105T000306Z
LAST-MODIFIED:20260105T000306Z
UID:10011986-1791630900-1791633000@www.lemontmartre.ca
SUMMARY:Messe à 11h15
DESCRIPTION:
URL:https://www.lemontmartre.ca/event/messe-a-11h15/2026-10-10/
LOCATION:Sanctuaire Montmartre\, 1679\, chemin Saint-Louis\, Québec\, Québec\, G1S 1G5\, Canada
CATEGORIES:Offices religieux
END:VEVENT
BEGIN:VEVENT
DTSTART;TZID=America/Montreal:20261012T111500
DTEND;TZID=America/Montreal:20261012T115000
DTSTAMP:20260422T215256
CREATED:20260105T000306Z
LAST-MODIFIED:20260105T000306Z
UID:10011987-1791803700-1791805800@www.lemontmartre.ca
SUMMARY:Messe à 11h15
DESCRIPTION:
URL:https://www.lemontmartre.ca/event/messe-a-11h15/2026-10-12/
LOCATION:Sanctuaire Montmartre\, 1679\, chemin Saint-Louis\, Québec\, Québec\, G1S 1G5\, Canada
CATEGORIES:Offices religieux
END:VEVENT
BEGIN:VEVENT
DTSTART;TZID=America/Montreal:20261013T111500
DTEND;TZID=America/Montreal:20261013T115000
DTSTAMP:20260422T215256
CREATED:20260105T000306Z
LAST-MODIFIED:20260105T000306Z
UID:10011988-1791890100-1791892200@www.lemontmartre.ca
SUMMARY:Messe à 11h15
DESCRIPTION:
URL:https://www.lemontmartre.ca/event/messe-a-11h15/2026-10-13/
LOCATION:Sanctuaire Montmartre\, 1679\, chemin Saint-Louis\, Québec\, Québec\, G1S 1G5\, Canada
CATEGORIES:Offices religieux
END:VEVENT
BEGIN:VEVENT
DTSTART;TZID=America/Montreal:20261014T111500
DTEND;TZID=America/Montreal:20261014T115000
DTSTAMP:20260422T215256
CREATED:20260105T000306Z
LAST-MODIFIED:20260105T000306Z
UID:10011989-1791976500-1791978600@www.lemontmartre.ca
SUMMARY:Messe à 11h15
DESCRIPTION:
URL:https://www.lemontmartre.ca/event/messe-a-11h15/2026-10-14/
LOCATION:Sanctuaire Montmartre\, 1679\, chemin Saint-Louis\, Québec\, Québec\, G1S 1G5\, Canada
CATEGORIES:Offices religieux
END:VEVENT
BEGIN:VEVENT
DTSTART;TZID=America/Montreal:20261015T111500
DTEND;TZID=America/Montreal:20261015T115000
DTSTAMP:20260422T215256
CREATED:20260105T000306Z
LAST-MODIFIED:20260105T000306Z
UID:10011990-1792062900-1792065000@www.lemontmartre.ca
SUMMARY:Messe à 11h15
DESCRIPTION:
URL:https://www.lemontmartre.ca/event/messe-a-11h15/2026-10-15/
LOCATION:Sanctuaire Montmartre\, 1679\, chemin Saint-Louis\, Québec\, Québec\, G1S 1G5\, Canada
CATEGORIES:Offices religieux
END:VEVENT
BEGIN:VEVENT
DTSTART;TZID=America/Montreal:20261016T111500
DTEND;TZID=America/Montreal:20261016T115000
DTSTAMP:20260422T215256
CREATED:20260105T000306Z
LAST-MODIFIED:20260105T000306Z
UID:10011991-1792149300-1792151400@www.lemontmartre.ca
SUMMARY:Messe à 11h15
DESCRIPTION:
URL:https://www.lemontmartre.ca/event/messe-a-11h15/2026-10-16/
LOCATION:Sanctuaire Montmartre\, 1679\, chemin Saint-Louis\, Québec\, Québec\, G1S 1G5\, Canada
CATEGORIES:Offices religieux
END:VEVENT
BEGIN:VEVENT
DTSTART;TZID=America/Montreal:20261017T111500
DTEND;TZID=America/Montreal:20261017T115000
DTSTAMP:20260422T215256
CREATED:20260105T000306Z
LAST-MODIFIED:20260105T000306Z
UID:10011992-1792235700-1792237800@www.lemontmartre.ca
SUMMARY:Messe à 11h15
DESCRIPTION:
URL:https://www.lemontmartre.ca/event/messe-a-11h15/2026-10-17/
LOCATION:Sanctuaire Montmartre\, 1679\, chemin Saint-Louis\, Québec\, Québec\, G1S 1G5\, Canada
CATEGORIES:Offices religieux
END:VEVENT
BEGIN:VEVENT
DTSTART;TZID=America/Montreal:20261019T111500
DTEND;TZID=America/Montreal:20261019T115000
DTSTAMP:20260422T215256
CREATED:20260105T000306Z
LAST-MODIFIED:20260105T000306Z
UID:10011993-1792408500-1792410600@www.lemontmartre.ca
SUMMARY:Messe à 11h15
DESCRIPTION:
URL:https://www.lemontmartre.ca/event/messe-a-11h15/2026-10-19/
LOCATION:Sanctuaire Montmartre\, 1679\, chemin Saint-Louis\, Québec\, Québec\, G1S 1G5\, Canada
CATEGORIES:Offices religieux
END:VEVENT
END:VCALENDAR