BEGIN:VCALENDAR
VERSION:2.0
PRODID:-//Le Montmartre - ECPv6.15.13//NONSGML v1.0//EN
CALSCALE:GREGORIAN
METHOD:PUBLISH
X-ORIGINAL-URL:https://www.lemontmartre.ca
X-WR-CALDESC:Évènements pour Le Montmartre
REFRESH-INTERVAL;VALUE=DURATION:PT1H
X-Robots-Tag:noindex
X-PUBLISHED-TTL:PT1H
BEGIN:VTIMEZONE
TZID:America/Montreal
BEGIN:DAYLIGHT
TZOFFSETFROM:-0500
TZOFFSETTO:-0400
TZNAME:EDT
DTSTART:20250309T070000
END:DAYLIGHT
BEGIN:STANDARD
TZOFFSETFROM:-0400
TZOFFSETTO:-0500
TZNAME:EST
DTSTART:20251102T060000
END:STANDARD
BEGIN:DAYLIGHT
TZOFFSETFROM:-0500
TZOFFSETTO:-0400
TZNAME:EDT
DTSTART:20260308T070000
END:DAYLIGHT
BEGIN:STANDARD
TZOFFSETFROM:-0400
TZOFFSETTO:-0500
TZNAME:EST
DTSTART:20261101T060000
END:STANDARD
BEGIN:DAYLIGHT
TZOFFSETFROM:-0500
TZOFFSETTO:-0400
TZNAME:EDT
DTSTART:20270314T070000
END:DAYLIGHT
BEGIN:STANDARD
TZOFFSETFROM:-0400
TZOFFSETTO:-0500
TZNAME:EST
DTSTART:20271107T060000
END:STANDARD
END:VTIMEZONE
BEGIN:VEVENT
DTSTART;TZID=America/Montreal:20260618T111500
DTEND;TZID=America/Montreal:20260618T115000
DTSTAMP:20260422T105245
CREATED:20260105T000306Z
LAST-MODIFIED:20260105T000306Z
UID:10011891-1781781300-1781783400@www.lemontmartre.ca
SUMMARY:Messe à 11h15
DESCRIPTION:
URL:https://www.lemontmartre.ca/event/messe-a-11h15/2026-06-18/
LOCATION:Sanctuaire Montmartre\, 1679\, chemin Saint-Louis\, Québec\, Québec\, G1S 1G5\, Canada
CATEGORIES:Offices religieux
END:VEVENT
BEGIN:VEVENT
DTSTART;TZID=America/Montreal:20260619T111500
DTEND;TZID=America/Montreal:20260619T115000
DTSTAMP:20260422T105245
CREATED:20260105T000306Z
LAST-MODIFIED:20260105T000306Z
UID:10011892-1781867700-1781869800@www.lemontmartre.ca
SUMMARY:Messe à 11h15
DESCRIPTION:
URL:https://www.lemontmartre.ca/event/messe-a-11h15/2026-06-19/
LOCATION:Sanctuaire Montmartre\, 1679\, chemin Saint-Louis\, Québec\, Québec\, G1S 1G5\, Canada
CATEGORIES:Offices religieux
END:VEVENT
BEGIN:VEVENT
DTSTART;TZID=America/Montreal:20260619T190000
DTEND;TZID=America/Montreal:20260619T200000
DTSTAMP:20260422T105245
CREATED:20260212T021239Z
LAST-MODIFIED:20260212T021818Z
UID:10012346-1781895600-1781899200@www.lemontmartre.ca
SUMMARY:Répétition de la chorale
DESCRIPTION:Pour préparer messe\, adoration avec des chants de Taizé et autres animations\n 
URL:https://www.lemontmartre.ca/event/repetition-de-la-chorale/2026-06-19/
LOCATION:Sanctuaire Montmartre\, 1679\, chemin Saint-Louis\, Québec\, Québec\, G1S 1G5\, Canada
CATEGORIES:Autres
END:VEVENT
BEGIN:VEVENT
DTSTART;TZID=America/Montreal:20260620T111500
DTEND;TZID=America/Montreal:20260620T115000
DTSTAMP:20260422T105245
CREATED:20260105T000306Z
LAST-MODIFIED:20260105T000306Z
UID:10011893-1781954100-1781956200@www.lemontmartre.ca
SUMMARY:Messe à 11h15
DESCRIPTION:
URL:https://www.lemontmartre.ca/event/messe-a-11h15/2026-06-20/
LOCATION:Sanctuaire Montmartre\, 1679\, chemin Saint-Louis\, Québec\, Québec\, G1S 1G5\, Canada
CATEGORIES:Offices religieux
END:VEVENT
BEGIN:VEVENT
DTSTART;TZID=America/Montreal:20260622T111500
DTEND;TZID=America/Montreal:20260622T115000
DTSTAMP:20260422T105245
CREATED:20260105T000306Z
LAST-MODIFIED:20260105T000306Z
UID:10011894-1782126900-1782129000@www.lemontmartre.ca
SUMMARY:Messe à 11h15
DESCRIPTION:
URL:https://www.lemontmartre.ca/event/messe-a-11h15/2026-06-22/
LOCATION:Sanctuaire Montmartre\, 1679\, chemin Saint-Louis\, Québec\, Québec\, G1S 1G5\, Canada
CATEGORIES:Offices religieux
END:VEVENT
BEGIN:VEVENT
DTSTART;TZID=America/Montreal:20260623T111500
DTEND;TZID=America/Montreal:20260623T115000
DTSTAMP:20260422T105245
CREATED:20260105T000306Z
LAST-MODIFIED:20260105T000306Z
UID:10011895-1782213300-1782215400@www.lemontmartre.ca
SUMMARY:Messe à 11h15
DESCRIPTION:
URL:https://www.lemontmartre.ca/event/messe-a-11h15/2026-06-23/
LOCATION:Sanctuaire Montmartre\, 1679\, chemin Saint-Louis\, Québec\, Québec\, G1S 1G5\, Canada
CATEGORIES:Offices religieux
END:VEVENT
BEGIN:VEVENT
DTSTART;TZID=America/Montreal:20260624T111500
DTEND;TZID=America/Montreal:20260624T115000
DTSTAMP:20260422T105245
CREATED:20260105T000306Z
LAST-MODIFIED:20260105T000306Z
UID:10011896-1782299700-1782301800@www.lemontmartre.ca
SUMMARY:Messe à 11h15
DESCRIPTION:
URL:https://www.lemontmartre.ca/event/messe-a-11h15/2026-06-24/
LOCATION:Sanctuaire Montmartre\, 1679\, chemin Saint-Louis\, Québec\, Québec\, G1S 1G5\, Canada
CATEGORIES:Offices religieux
END:VEVENT
BEGIN:VEVENT
DTSTART;TZID=America/Montreal:20260625T111500
DTEND;TZID=America/Montreal:20260625T115000
DTSTAMP:20260422T105245
CREATED:20260105T000306Z
LAST-MODIFIED:20260105T000306Z
UID:10011897-1782386100-1782388200@www.lemontmartre.ca
SUMMARY:Messe à 11h15
DESCRIPTION:
URL:https://www.lemontmartre.ca/event/messe-a-11h15/2026-06-25/
LOCATION:Sanctuaire Montmartre\, 1679\, chemin Saint-Louis\, Québec\, Québec\, G1S 1G5\, Canada
CATEGORIES:Offices religieux
END:VEVENT
BEGIN:VEVENT
DTSTART;TZID=America/Montreal:20260626T111500
DTEND;TZID=America/Montreal:20260626T115000
DTSTAMP:20260422T105245
CREATED:20260105T000306Z
LAST-MODIFIED:20260105T000306Z
UID:10011898-1782472500-1782474600@www.lemontmartre.ca
SUMMARY:Messe à 11h15
DESCRIPTION:
URL:https://www.lemontmartre.ca/event/messe-a-11h15/2026-06-26/
LOCATION:Sanctuaire Montmartre\, 1679\, chemin Saint-Louis\, Québec\, Québec\, G1S 1G5\, Canada
CATEGORIES:Offices religieux
END:VEVENT
BEGIN:VEVENT
DTSTART;TZID=America/Montreal:20260627T111500
DTEND;TZID=America/Montreal:20260627T115000
DTSTAMP:20260422T105245
CREATED:20260105T000306Z
LAST-MODIFIED:20260105T000306Z
UID:10011899-1782558900-1782561000@www.lemontmartre.ca
SUMMARY:Messe à 11h15
DESCRIPTION:
URL:https://www.lemontmartre.ca/event/messe-a-11h15/2026-06-27/
LOCATION:Sanctuaire Montmartre\, 1679\, chemin Saint-Louis\, Québec\, Québec\, G1S 1G5\, Canada
CATEGORIES:Offices religieux
END:VEVENT
BEGIN:VEVENT
DTSTART;TZID=America/Montreal:20260629T111500
DTEND;TZID=America/Montreal:20260629T115000
DTSTAMP:20260422T105245
CREATED:20260105T000306Z
LAST-MODIFIED:20260105T000306Z
UID:10011900-1782731700-1782733800@www.lemontmartre.ca
SUMMARY:Messe à 11h15
DESCRIPTION:
URL:https://www.lemontmartre.ca/event/messe-a-11h15/2026-06-29/
LOCATION:Sanctuaire Montmartre\, 1679\, chemin Saint-Louis\, Québec\, Québec\, G1S 1G5\, Canada
CATEGORIES:Offices religieux
END:VEVENT
BEGIN:VEVENT
DTSTART;TZID=America/Montreal:20260630T111500
DTEND;TZID=America/Montreal:20260630T115000
DTSTAMP:20260422T105245
CREATED:20260105T000306Z
LAST-MODIFIED:20260105T000306Z
UID:10011901-1782818100-1782820200@www.lemontmartre.ca
SUMMARY:Messe à 11h15
DESCRIPTION:
URL:https://www.lemontmartre.ca/event/messe-a-11h15/2026-06-30/
LOCATION:Sanctuaire Montmartre\, 1679\, chemin Saint-Louis\, Québec\, Québec\, G1S 1G5\, Canada
CATEGORIES:Offices religieux
END:VEVENT
BEGIN:VEVENT
DTSTART;TZID=America/Montreal:20260701T111500
DTEND;TZID=America/Montreal:20260701T115000
DTSTAMP:20260422T105245
CREATED:20260105T000306Z
LAST-MODIFIED:20260105T000306Z
UID:10011902-1782904500-1782906600@www.lemontmartre.ca
SUMMARY:Messe à 11h15
DESCRIPTION:
URL:https://www.lemontmartre.ca/event/messe-a-11h15/2026-07-01/
LOCATION:Sanctuaire Montmartre\, 1679\, chemin Saint-Louis\, Québec\, Québec\, G1S 1G5\, Canada
CATEGORIES:Offices religieux
END:VEVENT
BEGIN:VEVENT
DTSTART;TZID=America/Montreal:20260702T111500
DTEND;TZID=America/Montreal:20260702T115000
DTSTAMP:20260422T105245
CREATED:20260105T000306Z
LAST-MODIFIED:20260105T000306Z
UID:10011903-1782990900-1782993000@www.lemontmartre.ca
SUMMARY:Messe à 11h15
DESCRIPTION:
URL:https://www.lemontmartre.ca/event/messe-a-11h15/2026-07-02/
LOCATION:Sanctuaire Montmartre\, 1679\, chemin Saint-Louis\, Québec\, Québec\, G1S 1G5\, Canada
CATEGORIES:Offices religieux
END:VEVENT
BEGIN:VEVENT
DTSTART;TZID=America/Montreal:20260703T111500
DTEND;TZID=America/Montreal:20260703T115000
DTSTAMP:20260422T105245
CREATED:20260105T000306Z
LAST-MODIFIED:20260105T000306Z
UID:10011904-1783077300-1783079400@www.lemontmartre.ca
SUMMARY:Messe à 11h15
DESCRIPTION:
URL:https://www.lemontmartre.ca/event/messe-a-11h15/2026-07-03/
LOCATION:Sanctuaire Montmartre\, 1679\, chemin Saint-Louis\, Québec\, Québec\, G1S 1G5\, Canada
CATEGORIES:Offices religieux
END:VEVENT
BEGIN:VEVENT
DTSTART;TZID=America/Montreal:20260703T183000
DTEND;TZID=America/Montreal:20260703T193000
DTSTAMP:20260422T105245
CREATED:20260212T021239Z
LAST-MODIFIED:20260212T021818Z
UID:10012350-1783103400-1783107000@www.lemontmartre.ca
SUMMARY:Répétition de la chorale
DESCRIPTION:Pour préparer messe\, adoration avec des chants de Taizé et autres animations\n 
URL:https://www.lemontmartre.ca/event/repetition-de-la-chorale/2026-07-03/
LOCATION:Sanctuaire Montmartre\, 1679\, chemin Saint-Louis\, Québec\, Québec\, G1S 1G5\, Canada
CATEGORIES:Autres
END:VEVENT
BEGIN:VEVENT
DTSTART;TZID=America/Montreal:20260704T111500
DTEND;TZID=America/Montreal:20260704T115000
DTSTAMP:20260422T105245
CREATED:20260105T000306Z
LAST-MODIFIED:20260105T000306Z
UID:10011905-1783163700-1783165800@www.lemontmartre.ca
SUMMARY:Messe à 11h15
DESCRIPTION:
URL:https://www.lemontmartre.ca/event/messe-a-11h15/2026-07-04/
LOCATION:Sanctuaire Montmartre\, 1679\, chemin Saint-Louis\, Québec\, Québec\, G1S 1G5\, Canada
CATEGORIES:Offices religieux
END:VEVENT
BEGIN:VEVENT
DTSTART;TZID=America/Montreal:20260706T111500
DTEND;TZID=America/Montreal:20260706T115000
DTSTAMP:20260422T105245
CREATED:20260105T000306Z
LAST-MODIFIED:20260105T000306Z
UID:10011906-1783336500-1783338600@www.lemontmartre.ca
SUMMARY:Messe à 11h15
DESCRIPTION:
URL:https://www.lemontmartre.ca/event/messe-a-11h15/2026-07-06/
LOCATION:Sanctuaire Montmartre\, 1679\, chemin Saint-Louis\, Québec\, Québec\, G1S 1G5\, Canada
CATEGORIES:Offices religieux
END:VEVENT
BEGIN:VEVENT
DTSTART;TZID=America/Montreal:20260707T111500
DTEND;TZID=America/Montreal:20260707T115000
DTSTAMP:20260422T105245
CREATED:20260105T000306Z
LAST-MODIFIED:20260105T000306Z
UID:10011907-1783422900-1783425000@www.lemontmartre.ca
SUMMARY:Messe à 11h15
DESCRIPTION:
URL:https://www.lemontmartre.ca/event/messe-a-11h15/2026-07-07/
LOCATION:Sanctuaire Montmartre\, 1679\, chemin Saint-Louis\, Québec\, Québec\, G1S 1G5\, Canada
CATEGORIES:Offices religieux
END:VEVENT
BEGIN:VEVENT
DTSTART;TZID=America/Montreal:20260708T111500
DTEND;TZID=America/Montreal:20260708T115000
DTSTAMP:20260422T105245
CREATED:20260105T000306Z
LAST-MODIFIED:20260105T000306Z
UID:10011908-1783509300-1783511400@www.lemontmartre.ca
SUMMARY:Messe à 11h15
DESCRIPTION:
URL:https://www.lemontmartre.ca/event/messe-a-11h15/2026-07-08/
LOCATION:Sanctuaire Montmartre\, 1679\, chemin Saint-Louis\, Québec\, Québec\, G1S 1G5\, Canada
CATEGORIES:Offices religieux
END:VEVENT
BEGIN:VEVENT
DTSTART;TZID=America/Montreal:20260709T111500
DTEND;TZID=America/Montreal:20260709T115000
DTSTAMP:20260422T105245
CREATED:20260105T000306Z
LAST-MODIFIED:20260105T000306Z
UID:10011909-1783595700-1783597800@www.lemontmartre.ca
SUMMARY:Messe à 11h15
DESCRIPTION:
URL:https://www.lemontmartre.ca/event/messe-a-11h15/2026-07-09/
LOCATION:Sanctuaire Montmartre\, 1679\, chemin Saint-Louis\, Québec\, Québec\, G1S 1G5\, Canada
CATEGORIES:Offices religieux
END:VEVENT
BEGIN:VEVENT
DTSTART;TZID=America/Montreal:20260710T111500
DTEND;TZID=America/Montreal:20260710T115000
DTSTAMP:20260422T105245
CREATED:20260105T000306Z
LAST-MODIFIED:20260105T000306Z
UID:10011910-1783682100-1783684200@www.lemontmartre.ca
SUMMARY:Messe à 11h15
DESCRIPTION:
URL:https://www.lemontmartre.ca/event/messe-a-11h15/2026-07-10/
LOCATION:Sanctuaire Montmartre\, 1679\, chemin Saint-Louis\, Québec\, Québec\, G1S 1G5\, Canada
CATEGORIES:Offices religieux
END:VEVENT
BEGIN:VEVENT
DTSTART;TZID=America/Montreal:20260711T111500
DTEND;TZID=America/Montreal:20260711T115000
DTSTAMP:20260422T105245
CREATED:20260105T000306Z
LAST-MODIFIED:20260105T000306Z
UID:10011911-1783768500-1783770600@www.lemontmartre.ca
SUMMARY:Messe à 11h15
DESCRIPTION:
URL:https://www.lemontmartre.ca/event/messe-a-11h15/2026-07-11/
LOCATION:Sanctuaire Montmartre\, 1679\, chemin Saint-Louis\, Québec\, Québec\, G1S 1G5\, Canada
CATEGORIES:Offices religieux
END:VEVENT
BEGIN:VEVENT
DTSTART;TZID=America/Montreal:20260713T111500
DTEND;TZID=America/Montreal:20260713T115000
DTSTAMP:20260422T105245
CREATED:20260105T000306Z
LAST-MODIFIED:20260105T000306Z
UID:10011912-1783941300-1783943400@www.lemontmartre.ca
SUMMARY:Messe à 11h15
DESCRIPTION:
URL:https://www.lemontmartre.ca/event/messe-a-11h15/2026-07-13/
LOCATION:Sanctuaire Montmartre\, 1679\, chemin Saint-Louis\, Québec\, Québec\, G1S 1G5\, Canada
CATEGORIES:Offices religieux
END:VEVENT
BEGIN:VEVENT
DTSTART;TZID=America/Montreal:20260714T111500
DTEND;TZID=America/Montreal:20260714T115000
DTSTAMP:20260422T105245
CREATED:20260105T000306Z
LAST-MODIFIED:20260105T000306Z
UID:10011913-1784027700-1784029800@www.lemontmartre.ca
SUMMARY:Messe à 11h15
DESCRIPTION:
URL:https://www.lemontmartre.ca/event/messe-a-11h15/2026-07-14/
LOCATION:Sanctuaire Montmartre\, 1679\, chemin Saint-Louis\, Québec\, Québec\, G1S 1G5\, Canada
CATEGORIES:Offices religieux
END:VEVENT
BEGIN:VEVENT
DTSTART;TZID=America/Montreal:20260715T111500
DTEND;TZID=America/Montreal:20260715T115000
DTSTAMP:20260422T105245
CREATED:20260105T000306Z
LAST-MODIFIED:20260105T000306Z
UID:10011914-1784114100-1784116200@www.lemontmartre.ca
SUMMARY:Messe à 11h15
DESCRIPTION:
URL:https://www.lemontmartre.ca/event/messe-a-11h15/2026-07-15/
LOCATION:Sanctuaire Montmartre\, 1679\, chemin Saint-Louis\, Québec\, Québec\, G1S 1G5\, Canada
CATEGORIES:Offices religieux
END:VEVENT
BEGIN:VEVENT
DTSTART;TZID=America/Montreal:20260716T111500
DTEND;TZID=America/Montreal:20260716T115000
DTSTAMP:20260422T105245
CREATED:20260105T000306Z
LAST-MODIFIED:20260105T000306Z
UID:10011915-1784200500-1784202600@www.lemontmartre.ca
SUMMARY:Messe à 11h15
DESCRIPTION:
URL:https://www.lemontmartre.ca/event/messe-a-11h15/2026-07-16/
LOCATION:Sanctuaire Montmartre\, 1679\, chemin Saint-Louis\, Québec\, Québec\, G1S 1G5\, Canada
CATEGORIES:Offices religieux
END:VEVENT
BEGIN:VEVENT
DTSTART;TZID=America/Montreal:20260717T111500
DTEND;TZID=America/Montreal:20260717T115000
DTSTAMP:20260422T105245
CREATED:20260105T000306Z
LAST-MODIFIED:20260105T000306Z
UID:10011916-1784286900-1784289000@www.lemontmartre.ca
SUMMARY:Messe à 11h15
DESCRIPTION:
URL:https://www.lemontmartre.ca/event/messe-a-11h15/2026-07-17/
LOCATION:Sanctuaire Montmartre\, 1679\, chemin Saint-Louis\, Québec\, Québec\, G1S 1G5\, Canada
CATEGORIES:Offices religieux
END:VEVENT
BEGIN:VEVENT
DTSTART;TZID=America/Montreal:20260718T111500
DTEND;TZID=America/Montreal:20260718T115000
DTSTAMP:20260422T105245
CREATED:20260105T000306Z
LAST-MODIFIED:20260105T000306Z
UID:10011917-1784373300-1784375400@www.lemontmartre.ca
SUMMARY:Messe à 11h15
DESCRIPTION:
URL:https://www.lemontmartre.ca/event/messe-a-11h15/2026-07-18/
LOCATION:Sanctuaire Montmartre\, 1679\, chemin Saint-Louis\, Québec\, Québec\, G1S 1G5\, Canada
CATEGORIES:Offices religieux
END:VEVENT
BEGIN:VEVENT
DTSTART;TZID=America/Montreal:20260720T111500
DTEND;TZID=America/Montreal:20260720T115000
DTSTAMP:20260422T105245
CREATED:20260105T000306Z
LAST-MODIFIED:20260105T000306Z
UID:10011918-1784546100-1784548200@www.lemontmartre.ca
SUMMARY:Messe à 11h15
DESCRIPTION:
URL:https://www.lemontmartre.ca/event/messe-a-11h15/2026-07-20/
LOCATION:Sanctuaire Montmartre\, 1679\, chemin Saint-Louis\, Québec\, Québec\, G1S 1G5\, Canada
CATEGORIES:Offices religieux
END:VEVENT
END:VCALENDAR